BEGIN:VCALENDAR
VERSION:2.0
PRODID:-//Cornwall CT - ECPv6.15.20//NONSGML v1.0//EN
CALSCALE:GREGORIAN
METHOD:PUBLISH
X-WR-CALNAME:Cornwall CT
X-ORIGINAL-URL:https://cornwallct.org
X-WR-CALDESC:Events for Cornwall CT
REFRESH-INTERVAL;VALUE=DURATION:PT1H
X-Robots-Tag:noindex
X-PUBLISHED-TTL:PT1H
BEGIN:VTIMEZONE
TZID:America/New_York
BEGIN:DAYLIGHT
TZOFFSETFROM:-0500
TZOFFSETTO:-0400
TZNAME:EDT
DTSTART:20200308T070000
END:DAYLIGHT
BEGIN:STANDARD
TZOFFSETFROM:-0400
TZOFFSETTO:-0500
TZNAME:EST
DTSTART:20201101T060000
END:STANDARD
BEGIN:DAYLIGHT
TZOFFSETFROM:-0500
TZOFFSETTO:-0400
TZNAME:EDT
DTSTART:20210314T070000
END:DAYLIGHT
BEGIN:STANDARD
TZOFFSETFROM:-0400
TZOFFSETTO:-0500
TZNAME:EST
DTSTART:20211107T060000
END:STANDARD
BEGIN:DAYLIGHT
TZOFFSETFROM:-0500
TZOFFSETTO:-0400
TZNAME:EDT
DTSTART:20220313T070000
END:DAYLIGHT
BEGIN:STANDARD
TZOFFSETFROM:-0400
TZOFFSETTO:-0500
TZNAME:EST
DTSTART:20221106T060000
END:STANDARD
BEGIN:DAYLIGHT
TZOFFSETFROM:-0500
TZOFFSETTO:-0400
TZNAME:EDT
DTSTART:20230312T070000
END:DAYLIGHT
BEGIN:STANDARD
TZOFFSETFROM:-0400
TZOFFSETTO:-0500
TZNAME:EST
DTSTART:20231105T060000
END:STANDARD
BEGIN:DAYLIGHT
TZOFFSETFROM:-0500
TZOFFSETTO:-0400
TZNAME:EDT
DTSTART:20240310T070000
END:DAYLIGHT
BEGIN:STANDARD
TZOFFSETFROM:-0400
TZOFFSETTO:-0500
TZNAME:EST
DTSTART:20241103T060000
END:STANDARD
BEGIN:DAYLIGHT
TZOFFSETFROM:-0500
TZOFFSETTO:-0400
TZNAME:EDT
DTSTART:20250309T070000
END:DAYLIGHT
BEGIN:STANDARD
TZOFFSETFROM:-0400
TZOFFSETTO:-0500
TZNAME:EST
DTSTART:20251102T060000
END:STANDARD
BEGIN:DAYLIGHT
TZOFFSETFROM:-0500
TZOFFSETTO:-0400
TZNAME:EDT
DTSTART:20260308T070000
END:DAYLIGHT
BEGIN:STANDARD
TZOFFSETFROM:-0400
TZOFFSETTO:-0500
TZNAME:EST
DTSTART:20261101T060000
END:STANDARD
END:VTIMEZONE
BEGIN:VEVENT
DTSTART;TZID=America/New_York:20250527T193000
DTEND;TZID=America/New_York:20250527T193000
DTSTAMP:20260425T065845
CREATED:20241218T190550Z
LAST-MODIFIED:20241218T190550Z
UID:30057-1748374200-1748374200@cornwallct.org
SUMMARY:Economic Development Commission - Library
DESCRIPTION:4th Tuesday at 7:30pm (except as noted*)          \nOn Zoom and/or in person at Cornwall Library
URL:https://cornwallct.org/event/economic-development-commission-library/2025-05-27/
LOCATION:The Cornwall Library\, 30 Pine St\, Cornwall\, CT\, 06753\, United States
END:VEVENT
BEGIN:VEVENT
DTSTART;TZID=America/New_York:20250422T193000
DTEND;TZID=America/New_York:20250422T193000
DTSTAMP:20260425T065845
CREATED:20241218T190550Z
LAST-MODIFIED:20241218T190550Z
UID:30056-1745350200-1745350200@cornwallct.org
SUMMARY:Economic Development Commission - Library
DESCRIPTION:4th Tuesday at 7:30pm (except as noted*)          \nOn Zoom and/or in person at Cornwall Library
URL:https://cornwallct.org/event/economic-development-commission-library/2025-04-22/
LOCATION:The Cornwall Library\, 30 Pine St\, Cornwall\, CT\, 06753\, United States
END:VEVENT
BEGIN:VEVENT
DTSTART;TZID=America/New_York:20250325T193000
DTEND;TZID=America/New_York:20250325T193000
DTSTAMP:20260425T065845
CREATED:20241218T190550Z
LAST-MODIFIED:20241218T190550Z
UID:30055-1742931000-1742931000@cornwallct.org
SUMMARY:Economic Development Commission - Library
DESCRIPTION:4th Tuesday at 7:30pm (except as noted*)          \nOn Zoom and/or in person at Cornwall Library
URL:https://cornwallct.org/event/economic-development-commission-library/2025-03-25/
LOCATION:The Cornwall Library\, 30 Pine St\, Cornwall\, CT\, 06753\, United States
END:VEVENT
BEGIN:VEVENT
DTSTART;TZID=America/New_York:20250225T193000
DTEND;TZID=America/New_York:20250225T193000
DTSTAMP:20260425T065845
CREATED:20241218T190550Z
LAST-MODIFIED:20241218T190550Z
UID:30054-1740511800-1740511800@cornwallct.org
SUMMARY:Economic Development Commission - Library
DESCRIPTION:4th Tuesday at 7:30pm (except as noted*)          \nOn Zoom and/or in person at Cornwall Library
URL:https://cornwallct.org/event/economic-development-commission-library/2025-02-25/
LOCATION:The Cornwall Library\, 30 Pine St\, Cornwall\, CT\, 06753\, United States
END:VEVENT
BEGIN:VEVENT
DTSTART;TZID=America/New_York:20250128T193000
DTEND;TZID=America/New_York:20250128T193000
DTSTAMP:20260425T065845
CREATED:20241218T190550Z
LAST-MODIFIED:20241218T190550Z
UID:30053-1738092600-1738092600@cornwallct.org
SUMMARY:Economic Development Commission - Library
DESCRIPTION:4th Tuesday at 7:30pm (except as noted*)          \nOn Zoom and/or in person at Cornwall Library
URL:https://cornwallct.org/event/economic-development-commission-library/2025-01-28/
LOCATION:The Cornwall Library\, 30 Pine St\, Cornwall\, CT\, 06753\, United States
END:VEVENT
BEGIN:VEVENT
DTSTART;TZID=America/New_York:20241217T193000
DTEND;TZID=America/New_York:20241217T193000
DTSTAMP:20260425T065845
CREATED:20221216T151429Z
LAST-MODIFIED:20231218T200424Z
UID:25550-1734463800-1734463800@cornwallct.org
SUMMARY:Economic Development Commission Meeting
DESCRIPTION:On Zoom or at Library
URL:https://cornwallct.org/event/economic-development-commission-meeting-zoom-2024/2024-12-17/
LOCATION:Virtual
ATTACH;FMTTYPE=image/jpeg:https://cornwallct.org/wp-content/uploads/2021/12/EatShopHire-local-ad-1.jpg
END:VEVENT
BEGIN:VEVENT
DTSTART;TZID=America/New_York:20241119T193000
DTEND;TZID=America/New_York:20241119T193000
DTSTAMP:20260425T065845
CREATED:20221216T151429Z
LAST-MODIFIED:20221216T151429Z
UID:25551-1732044600-1732044600@cornwallct.org
SUMMARY:Economic Development Commission Meeting
DESCRIPTION:On Zoom or at Library
URL:https://cornwallct.org/event/economic-development-commission-meeting-zoom-2024/2024-11-19/
LOCATION:Virtual
ATTACH;FMTTYPE=image/jpeg:https://cornwallct.org/wp-content/uploads/2021/12/EatShopHire-local-ad-1.jpg
END:VEVENT
BEGIN:VEVENT
DTSTART;TZID=America/New_York:20241022T193000
DTEND;TZID=America/New_York:20241022T193000
DTSTAMP:20260425T065845
CREATED:20221216T151429Z
LAST-MODIFIED:20231218T200424Z
UID:25548-1729625400-1729625400@cornwallct.org
SUMMARY:Economic Development Commission Meeting
DESCRIPTION:On Zoom or at Library
URL:https://cornwallct.org/event/economic-development-commission-meeting-zoom-2024/2024-10-22/
LOCATION:Virtual
ATTACH;FMTTYPE=image/jpeg:https://cornwallct.org/wp-content/uploads/2021/12/EatShopHire-local-ad-1.jpg
END:VEVENT
BEGIN:VEVENT
DTSTART;TZID=America/New_York:20240924T193000
DTEND;TZID=America/New_York:20240924T193000
DTSTAMP:20260425T065845
CREATED:20221216T151429Z
LAST-MODIFIED:20231218T200417Z
UID:25547-1727206200-1727206200@cornwallct.org
SUMMARY:Economic Development Commission Meeting
DESCRIPTION:On Zoom or at Library
URL:https://cornwallct.org/event/economic-development-commission-meeting-zoom-2024/2024-09-24/
LOCATION:Virtual
ATTACH;FMTTYPE=image/jpeg:https://cornwallct.org/wp-content/uploads/2021/12/EatShopHire-local-ad-1.jpg
END:VEVENT
BEGIN:VEVENT
DTSTART;TZID=America/New_York:20240827T193000
DTEND;TZID=America/New_York:20240827T193000
DTSTAMP:20260425T065845
CREATED:20221216T151429Z
LAST-MODIFIED:20231218T200417Z
UID:25546-1724787000-1724787000@cornwallct.org
SUMMARY:Economic Development Commission Meeting
DESCRIPTION:On Zoom or at Library
URL:https://cornwallct.org/event/economic-development-commission-meeting-zoom-2024/2024-08-27/
LOCATION:Virtual
ATTACH;FMTTYPE=image/jpeg:https://cornwallct.org/wp-content/uploads/2021/12/EatShopHire-local-ad-1.jpg
END:VEVENT
BEGIN:VEVENT
DTSTART;TZID=America/New_York:20240723T193000
DTEND;TZID=America/New_York:20240723T193000
DTSTAMP:20260425T065845
CREATED:20221216T151429Z
LAST-MODIFIED:20231218T200416Z
UID:25545-1721763000-1721763000@cornwallct.org
SUMMARY:Economic Development Commission Meeting
DESCRIPTION:On Zoom or at Library
URL:https://cornwallct.org/event/economic-development-commission-meeting-zoom-2024/2024-07-23/
LOCATION:Virtual
ATTACH;FMTTYPE=image/jpeg:https://cornwallct.org/wp-content/uploads/2021/12/EatShopHire-local-ad-1.jpg
END:VEVENT
BEGIN:VEVENT
DTSTART;TZID=America/New_York:20240625T193000
DTEND;TZID=America/New_York:20240625T193000
DTSTAMP:20260425T065845
CREATED:20221216T151429Z
LAST-MODIFIED:20231218T200415Z
UID:25544-1719343800-1719343800@cornwallct.org
SUMMARY:Economic Development Commission Meeting
DESCRIPTION:On Zoom or at Library
URL:https://cornwallct.org/event/economic-development-commission-meeting-zoom-2024/2024-06-25/
LOCATION:Virtual
ATTACH;FMTTYPE=image/jpeg:https://cornwallct.org/wp-content/uploads/2021/12/EatShopHire-local-ad-1.jpg
END:VEVENT
BEGIN:VEVENT
DTSTART;TZID=America/New_York:20240528T193000
DTEND;TZID=America/New_York:20240528T193000
DTSTAMP:20260425T065845
CREATED:20221216T151429Z
LAST-MODIFIED:20231218T200415Z
UID:25543-1716924600-1716924600@cornwallct.org
SUMMARY:Economic Development Commission Meeting
DESCRIPTION:On Zoom or at Library
URL:https://cornwallct.org/event/economic-development-commission-meeting-zoom-2024/2024-05-28/
LOCATION:Virtual
ATTACH;FMTTYPE=image/jpeg:https://cornwallct.org/wp-content/uploads/2021/12/EatShopHire-local-ad-1.jpg
END:VEVENT
BEGIN:VEVENT
DTSTART;TZID=America/New_York:20240201T090000
DTEND;TZID=America/New_York:20240201T100000
DTSTAMP:20260425T065845
CREATED:20240123T172235Z
LAST-MODIFIED:20240123T172450Z
UID:26119-1706778000-1706781600@cornwallct.org
SUMMARY:Economic Development Commission Business Roundtable
DESCRIPTION:Business Roundtable Meeting Notice\nThursday\, February 1\, 2024\, 9:00 – 10:00 am\nOffice of Chimney Rock Construction/Chimney Rock Gardens \n366 Furnace Brook Road\, Cornwall Bridge CT \nEDC Mission Statement:\nTo create\, develop and maintain a healthy and viable business climate\, locale\, and heritage in Cornwall CT. To promote tolerance and acceptance of economic diversity and the right/need to work in Cornwall CT. \nGeneral Goal of the Roundtable Meetings:\nThe EDC introduced Roundtable meetings in 2023 to support continued conversations between business owners\, facilitate the development of new ideas and collaborations\, and discuss specific plans (events\, promotions\, initiatives\, etc.) for the business community to work together with the EDC to generate more attention to all that Cornwall offers. \nAgenda for February 1\, 2023 meeting:\n1. Introductions\n2. Background and overview of the Cornwall Bridge “placemaking” project – Duncan Webb\nand Katherine Freygang. \n3. Discussion \n 
URL:https://cornwallct.org/event/economic-development-commission-business-roundtable-union-or-zoom-copy/
END:VEVENT
BEGIN:VEVENT
DTSTART;TZID=America/New_York:20240123T193000
DTEND;TZID=America/New_York:20240123T193000
DTSTAMP:20260425T065845
CREATED:20221216T151429Z
LAST-MODIFIED:20231218T200411Z
UID:21032-1706038200-1706038200@cornwallct.org
SUMMARY:Economic Development Commission Meeting
DESCRIPTION:On Zoom or at Library
URL:https://cornwallct.org/event/economic-development-commission-meeting-zoom-2024/2024-01-23/
LOCATION:Virtual
ATTACH;FMTTYPE=image/jpeg:https://cornwallct.org/wp-content/uploads/2021/12/EatShopHire-local-ad-1.jpg
END:VEVENT
BEGIN:VEVENT
DTSTART;TZID=America/New_York:20231214T180000
DTEND;TZID=America/New_York:20231214T200000
DTSTAMP:20260425T065845
CREATED:20231114T125911Z
LAST-MODIFIED:20231114T125911Z
UID:24897-1702576800-1702584000@cornwallct.org
SUMMARY:Holiday Business Gathering - Trinity Retreat Center
DESCRIPTION:The EDC is grateful to Jason Coppola\, Carol Gould\, and the team at Trinity for volunteering to host this event and provide a lovely space\, food\, and refreshments so that we all have the opportunity to mingle and enjoy.  \nAn opportunity for business leaders and friends to gather\, share\, and exchange ideas with each other and members of the EDC.
URL:https://cornwallct.org/event/holiday-business-gathering-trinity-retreat-center/
LOCATION:Trinity Retreat Center\, 79 Lower River Rd\, West Cornwall\, CT\, 06796\, United States
END:VEVENT
BEGIN:VEVENT
DTSTART;TZID=America/New_York:20231214T180000
DTEND;TZID=America/New_York:20231214T200000
DTSTAMP:20260425T065845
CREATED:20231107T155553Z
LAST-MODIFIED:20231107T155553Z
UID:24842-1702576800-1702584000@cornwallct.org
SUMMARY:EDC Holiday Gathering - Trinity Retreat Center
DESCRIPTION:Trinity Retreat Center in collaboration with the Cornwall Economic Development Commission invites the Cornwall Business Community for a Holiday Gathering on Thursday\, December 14. 6-8 pm. For more info please call Bianka at 860-672-2969 or email cornwallctedc@gmail.com.
URL:https://cornwallct.org/event/edc-holiday-gathering-trinity-retreat-center/
LOCATION:Trinity Retreat Center\, 79 Lower River Rd\, West Cornwall\, CT\, 06796\, United States
END:VEVENT
BEGIN:VEVENT
DTSTART;TZID=America/New_York:20230628T160000
DTEND;TZID=America/New_York:20230628T160000
DTSTAMP:20260425T065845
CREATED:20230516T124900Z
LAST-MODIFIED:20230516T125125Z
UID:22485-1687968000-1687968000@cornwallct.org
SUMMARY:Economic Development Commission Business Roundtable - Union or Zoom
DESCRIPTION:The Cornwall Economic Development Commission is sponsoring another roundtable for Cornwall businesses to present and discuss the Sustainable CT Program and its application to Cornwall. The program captures best sustainable practices and resources in the state for towns and recognizes the natural environment as the foundation for the health and well-being of all people and the strength of the local economy. Come to the Cornwall Union (415 Sharon Goshen Turnpike\, West Cornwall) for an hour or Zoom in to the meeting on June 28 at 4pm. Speakers are Jessica LeClair of Sustainable CT with Katherine Freygang\, local representative as moderator. Zoom: https://us02web.zoom.us/j/84020552069
URL:https://cornwallct.org/event/economic-development-commission-business-roundtable-union-or-zoom/
LOCATION:The Union\, 415 Sharon-Goshen Turnpike\, West Cornwall\, CT\, 06796
END:VEVENT
BEGIN:VEVENT
DTSTART;TZID=America/New_York:20230126T180000
DTEND;TZID=America/New_York:20230126T180000
DTSTAMP:20260425T065845
CREATED:20221214T174120Z
LAST-MODIFIED:20221214T174558Z
UID:20908-1674756000-1674756000@cornwallct.org
SUMMARY:EDC Networking Event - Library
DESCRIPTION:Cornwall’s Economic Development Commission is sponsoring a networking event for local businesses January 26 at 6 P.M. at the library.
URL:https://cornwallct.org/event/edc-networking-event-library/
LOCATION:The Cornwall Library\, 30 Pine St\, Cornwall\, CT\, 06753\, United States
END:VEVENT
BEGIN:VEVENT
DTSTART;TZID=America/New_York:20230124T193000
DTEND;TZID=America/New_York:20230124T193000
DTSTAMP:20260425T065845
CREATED:20220131T230424Z
LAST-MODIFIED:20221216T151334Z
UID:17766-1674588600-1674588600@cornwallct.org
SUMMARY:Economic Development Commission Meeting - Zoom
DESCRIPTION:
URL:https://cornwallct.org/event/economic-development-commission-meeting-zoom-2023-01-24/
LOCATION:Virtual
ATTACH;FMTTYPE=image/jpeg:https://cornwallct.org/wp-content/uploads/2021/12/EatShopHire-local-ad-1.jpg
END:VEVENT
BEGIN:VEVENT
DTSTART;TZID=America/New_York:20220222T193000
DTEND;TZID=America/New_York:20220222T193000
DTSTAMP:20260425T065845
CREATED:20220131T230424Z
LAST-MODIFIED:20220131T230424Z
UID:17755-1645558200-1645558200@cornwallct.org
SUMMARY:Economic Development Commission Meeting - Zoom
DESCRIPTION:
URL:https://cornwallct.org/event/economic-development-commission-meeting-zoom/2022-02-22/
LOCATION:Virtual
ATTACH;FMTTYPE=image/jpeg:https://cornwallct.org/wp-content/uploads/2021/12/EatShopHire-local-ad-1.jpg
END:VEVENT
BEGIN:VEVENT
DTSTART;TZID=America/New_York:20220125T193000
DTEND;TZID=America/New_York:20220125T193000
DTSTAMP:20260425T065845
CREATED:20210101T205246Z
LAST-MODIFIED:20211229T201643Z
UID:11795-1643139000-1643139000@cornwallct.org
SUMMARY:Economic Development Commission - Zoom
DESCRIPTION:
URL:https://cornwallct.org/event/economic-development-commission-2022/2022-01-25/
LOCATION:Virtual
ATTACH;FMTTYPE=image/jpeg:https://cornwallct.org/wp-content/uploads/2021/12/EatShopHire-local-ad-1.jpg
END:VEVENT
BEGIN:VEVENT
DTSTART;TZID=America/New_York:20211222T193000
DTEND;TZID=America/New_York:20211222T193000
DTSTAMP:20260425T065845
CREATED:20210101T203936Z
LAST-MODIFIED:20211220T202010Z
UID:11785-1640201400-1640201400@cornwallct.org
SUMMARY:Economic Development Commission- Special Meeting
DESCRIPTION:
URL:https://cornwallct.org/event/economic-development-commission-2/
LOCATION:Virtual
END:VEVENT
END:VCALENDAR