BEGIN:VCALENDAR
VERSION:2.0
PRODID:-//Cornwall CT - ECPv6.15.20//NONSGML v1.0//EN
CALSCALE:GREGORIAN
METHOD:PUBLISH
X-ORIGINAL-URL:https://cornwallct.org
X-WR-CALDESC:Events for Cornwall CT
REFRESH-INTERVAL;VALUE=DURATION:PT1H
X-Robots-Tag:noindex
X-PUBLISHED-TTL:PT1H
BEGIN:VTIMEZONE
TZID:America/New_York
BEGIN:DAYLIGHT
TZOFFSETFROM:-0500
TZOFFSETTO:-0400
TZNAME:EDT
DTSTART:20250309T070000
END:DAYLIGHT
BEGIN:STANDARD
TZOFFSETFROM:-0400
TZOFFSETTO:-0500
TZNAME:EST
DTSTART:20251102T060000
END:STANDARD
BEGIN:DAYLIGHT
TZOFFSETFROM:-0500
TZOFFSETTO:-0400
TZNAME:EDT
DTSTART:20260308T070000
END:DAYLIGHT
BEGIN:STANDARD
TZOFFSETFROM:-0400
TZOFFSETTO:-0500
TZNAME:EST
DTSTART:20261101T060000
END:STANDARD
BEGIN:DAYLIGHT
TZOFFSETFROM:-0500
TZOFFSETTO:-0400
TZNAME:EDT
DTSTART:20270314T070000
END:DAYLIGHT
BEGIN:STANDARD
TZOFFSETFROM:-0400
TZOFFSETTO:-0500
TZNAME:EST
DTSTART:20271107T060000
END:STANDARD
END:VTIMEZONE
BEGIN:VEVENT
DTSTART;TZID=America/New_York:20261003T090000
DTEND;TZID=America/New_York:20261003T123000
DTSTAMP:20260419T202919
CREATED:20260418T143324Z
LAST-MODIFIED:20260418T143324Z
UID:34352-1791018000-1791030600@cornwallct.org
SUMMARY:Cornwall Co-Op Farm Market
DESCRIPTION:The Co‐Op Farm Market is up and running this year and our farmers are busy seeding\, growing produce\, and making products for the community. We appreciate our customers’ support for local foods and look forward to seeing you this Spring. We are looking for new vendors and nonprofits and welcome you with the offer of no fees for the first six weeks. Contact us at cornwallcoopfm@gmail.com. \n  \n 
URL:https://cornwallct.org/event/cornwall-co-op-farm-market-2026/2026-10-03/
LOCATION:Cornwall Village Green\, Pine Street\, Cornwall\, CT\, 06753\, United States
ATTACH;FMTTYPE=image/jpeg:https://cornwallct.org/wp-content/uploads/2021/04/cornwall-markets.jpg
ORGANIZER;CN="Cornwall Co-Op Farm Market":MAILTO:cornwallcoopfm@gmail.com
END:VEVENT
BEGIN:VEVENT
DTSTART;TZID=America/New_York:20261010T090000
DTEND;TZID=America/New_York:20261010T123000
DTSTAMP:20260419T202919
CREATED:20260418T143324Z
LAST-MODIFIED:20260418T143324Z
UID:34353-1791622800-1791635400@cornwallct.org
SUMMARY:Cornwall Co-Op Farm Market
DESCRIPTION:The Co‐Op Farm Market is up and running this year and our farmers are busy seeding\, growing produce\, and making products for the community. We appreciate our customers’ support for local foods and look forward to seeing you this Spring. We are looking for new vendors and nonprofits and welcome you with the offer of no fees for the first six weeks. Contact us at cornwallcoopfm@gmail.com. \n  \n 
URL:https://cornwallct.org/event/cornwall-co-op-farm-market-2026/2026-10-10/
LOCATION:Cornwall Village Green\, Pine Street\, Cornwall\, CT\, 06753\, United States
ATTACH;FMTTYPE=image/jpeg:https://cornwallct.org/wp-content/uploads/2021/04/cornwall-markets.jpg
ORGANIZER;CN="Cornwall Co-Op Farm Market":MAILTO:cornwallcoopfm@gmail.com
END:VEVENT
BEGIN:VEVENT
DTSTART;TZID=America/New_York:20261017T090000
DTEND;TZID=America/New_York:20261017T123000
DTSTAMP:20260419T202919
CREATED:20260418T143324Z
LAST-MODIFIED:20260418T143324Z
UID:34354-1792227600-1792240200@cornwallct.org
SUMMARY:Cornwall Co-Op Farm Market
DESCRIPTION:The Co‐Op Farm Market is up and running this year and our farmers are busy seeding\, growing produce\, and making products for the community. We appreciate our customers’ support for local foods and look forward to seeing you this Spring. We are looking for new vendors and nonprofits and welcome you with the offer of no fees for the first six weeks. Contact us at cornwallcoopfm@gmail.com. \n  \n 
URL:https://cornwallct.org/event/cornwall-co-op-farm-market-2026/2026-10-17/
LOCATION:Cornwall Village Green\, Pine Street\, Cornwall\, CT\, 06753\, United States
ATTACH;FMTTYPE=image/jpeg:https://cornwallct.org/wp-content/uploads/2021/04/cornwall-markets.jpg
ORGANIZER;CN="Cornwall Co-Op Farm Market":MAILTO:cornwallcoopfm@gmail.com
END:VEVENT
END:VCALENDAR