BEGIN:VCALENDAR
VERSION:2.0
PRODID:-//Cornwall CT - ECPv6.15.20//NONSGML v1.0//EN
CALSCALE:GREGORIAN
METHOD:PUBLISH
X-ORIGINAL-URL:https://cornwallct.org
X-WR-CALDESC:Events for Cornwall CT
REFRESH-INTERVAL;VALUE=DURATION:PT1H
X-Robots-Tag:noindex
X-PUBLISHED-TTL:PT1H
BEGIN:VTIMEZONE
TZID:America/New_York
BEGIN:DAYLIGHT
TZOFFSETFROM:-0500
TZOFFSETTO:-0400
TZNAME:EDT
DTSTART:20250309T070000
END:DAYLIGHT
BEGIN:STANDARD
TZOFFSETFROM:-0400
TZOFFSETTO:-0500
TZNAME:EST
DTSTART:20251102T060000
END:STANDARD
BEGIN:DAYLIGHT
TZOFFSETFROM:-0500
TZOFFSETTO:-0400
TZNAME:EDT
DTSTART:20260308T070000
END:DAYLIGHT
BEGIN:STANDARD
TZOFFSETFROM:-0400
TZOFFSETTO:-0500
TZNAME:EST
DTSTART:20261101T060000
END:STANDARD
BEGIN:DAYLIGHT
TZOFFSETFROM:-0500
TZOFFSETTO:-0400
TZNAME:EDT
DTSTART:20270314T070000
END:DAYLIGHT
BEGIN:STANDARD
TZOFFSETFROM:-0400
TZOFFSETTO:-0500
TZNAME:EST
DTSTART:20271107T060000
END:STANDARD
END:VTIMEZONE
BEGIN:VEVENT
DTSTART;TZID=America/New_York:20260525T090000
DTEND;TZID=America/New_York:20260525T140000
DTSTAMP:20260422T073345
CREATED:20260418T143517Z
LAST-MODIFIED:20260421T120111Z
UID:34355-1779699600-1779717600@cornwallct.org
SUMMARY:Memorial Day Events
DESCRIPTION:Memorial Day Festivities: Monday\, May 25\, a commemorative service at the North Cornwall Cemetery will be led by Virginia Gold at 9 a.m. Flowers are requested to decorate the graves. At 10 A.M. the Seaman’s Memorial will take place at the Covered Bridge. A parade followed by a ceremony will begin at 11 at the town green. The carnival will be held after the ceremony on the grounds of the UCC.
URL:https://cornwallct.org/event/memorial-day-events-2026/
ATTACH;FMTTYPE=image/jpeg:https://cornwallct.org/wp-content/uploads/2018/05/memorial-day.jpg
END:VEVENT
BEGIN:VEVENT
DTSTART;TZID=America/New_York:20260525T093000
DTEND;TZID=America/New_York:20260525T103000
DTSTAMP:20260422T073345
CREATED:20260415T192144Z
LAST-MODIFIED:20260415T192241Z
UID:34316-1779701400-1779705000@cornwallct.org
SUMMARY:Cornwall Garden Club Memorial Day Float Decoration
DESCRIPTION:Cornwall Garden Club Memorial Day Float Decoration\nRSVP by Sunday May 24th\, 5:00pm\, Cornwall Garden Club at cornwallgardenclub1@gmail.com.
URL:https://cornwallct.org/event/cornwall-garden-club-memorial-day-float-decoration/
ORGANIZER;CN="Cornwall Garden Club":MAILTO:cornwallgardenclub1@gmail.com
END:VEVENT
BEGIN:VEVENT
DTSTART;TZID=America/New_York:20260525T100000
DTEND;TZID=America/New_York:20260525T140000
DTSTAMP:20260422T073345
CREATED:20260415T185430Z
LAST-MODIFIED:20260415T185430Z
UID:34305-1779703200-1779717600@cornwallct.org
SUMMARY:Memorial Day Weekend Book Sale - Library
DESCRIPTION:Start the summer with lots of good reading! See your friends and neighbors after a long\, hard winter! The Cornwall Library Memorial Day Weekend book sale will be held at the Library from 10 – 2 on Saturday\, May 23\, 11 – 2 on Sunday\, May 24\, and 10 – 2 on Monday May 25. The last day is fill a bag for $5.
URL:https://cornwallct.org/event/memorial-day-weekend-book-sale-library-2026/2026-05-25/
LOCATION:The Cornwall Library\, 30 Pine St\, Cornwall\, CT\, 06753\, United States
ORGANIZER;CN="The Cornwall Library":MAILTO:director@cornwalllibrary.org
END:VEVENT
END:VCALENDAR