BEGIN:VCALENDAR
VERSION:2.0
PRODID:-//Cornwall CT - ECPv6.15.20//NONSGML v1.0//EN
CALSCALE:GREGORIAN
METHOD:PUBLISH
X-WR-CALNAME:Cornwall CT
X-ORIGINAL-URL:https://cornwallct.org
X-WR-CALDESC:Events for Cornwall CT
REFRESH-INTERVAL;VALUE=DURATION:PT1H
X-Robots-Tag:noindex
X-PUBLISHED-TTL:PT1H
BEGIN:VTIMEZONE
TZID:America/New_York
BEGIN:DAYLIGHT
TZOFFSETFROM:-0500
TZOFFSETTO:-0400
TZNAME:EDT
DTSTART:20250309T070000
END:DAYLIGHT
BEGIN:STANDARD
TZOFFSETFROM:-0400
TZOFFSETTO:-0500
TZNAME:EST
DTSTART:20251102T060000
END:STANDARD
BEGIN:DAYLIGHT
TZOFFSETFROM:-0500
TZOFFSETTO:-0400
TZNAME:EDT
DTSTART:20260308T070000
END:DAYLIGHT
BEGIN:STANDARD
TZOFFSETFROM:-0400
TZOFFSETTO:-0500
TZNAME:EST
DTSTART:20261101T060000
END:STANDARD
BEGIN:DAYLIGHT
TZOFFSETFROM:-0500
TZOFFSETTO:-0400
TZNAME:EDT
DTSTART:20270314T070000
END:DAYLIGHT
BEGIN:STANDARD
TZOFFSETFROM:-0400
TZOFFSETTO:-0500
TZNAME:EST
DTSTART:20271107T060000
END:STANDARD
END:VTIMEZONE
BEGIN:VEVENT
DTSTART;TZID=America/New_York:20260329T130000
DTEND;TZID=America/New_York:20260329T140000
DTSTAMP:20260421T070439
CREATED:20260211T204655Z
LAST-MODIFIED:20260211T204655Z
UID:33739-1774789200-1774792800@cornwallct.org
SUMMARY:Easter Egg Hunt - Foote Field
DESCRIPTION:Sunday\, March 29th Easter Egg Hunt at Foote Field 1-2pm. Hunt starts promptly at 1pm. Bring basket. Egg hunt for all ages 1-14. Meet the Bunny and do some crafts.
URL:https://cornwallct.org/event/easter-egg-hunt-foote-field/
LOCATION:Foote Fields\, Furnace Brook Road\, Cornwall Bridge\, CT\, 06754
ATTACH;FMTTYPE=image/jpeg:https://cornwallct.org/wp-content/uploads/2026/02/easter-egg-hunt.jpg
ORGANIZER;CN="Cornwall Park & Rec":MAILTO:prcornwall@gmail.com
END:VEVENT
BEGIN:VEVENT
DTSTART;TZID=America/New_York:20260329T160000
DTEND;TZID=America/New_York:20260329T160000
DTSTAMP:20260421T070439
CREATED:20260324T163440Z
LAST-MODIFIED:20260324T163440Z
UID:34132-1774800000-1774800000@cornwallct.org
SUMMARY:Democratic Caucus - Library
DESCRIPTION:Notice is hereby given that there will be a caucus of all enrolled Democratic electors of the Town of Cornwall\, on Sunday March 29 at 4:00pm at The Cornwall Library\, 30 Pine St\, Cornwall\, CT to select delegates for various Democratic conventions.
URL:https://cornwallct.org/event/democratic-caucus-library-2/
LOCATION:The Cornwall Library\, 30 Pine St\, Cornwall\, CT\, 06753\, United States
END:VEVENT
END:VCALENDAR