BEGIN:VCALENDAR
VERSION:2.0
PRODID:-//Cornwall CT - ECPv6.15.20//NONSGML v1.0//EN
CALSCALE:GREGORIAN
METHOD:PUBLISH
X-ORIGINAL-URL:https://cornwallct.org
X-WR-CALDESC:Events for Cornwall CT
REFRESH-INTERVAL;VALUE=DURATION:PT1H
X-Robots-Tag:noindex
X-PUBLISHED-TTL:PT1H
BEGIN:VTIMEZONE
TZID:America/New_York
BEGIN:DAYLIGHT
TZOFFSETFROM:-0500
TZOFFSETTO:-0400
TZNAME:EDT
DTSTART:20250309T070000
END:DAYLIGHT
BEGIN:STANDARD
TZOFFSETFROM:-0400
TZOFFSETTO:-0500
TZNAME:EST
DTSTART:20251102T060000
END:STANDARD
BEGIN:DAYLIGHT
TZOFFSETFROM:-0500
TZOFFSETTO:-0400
TZNAME:EDT
DTSTART:20260308T070000
END:DAYLIGHT
BEGIN:STANDARD
TZOFFSETFROM:-0400
TZOFFSETTO:-0500
TZNAME:EST
DTSTART:20261101T060000
END:STANDARD
BEGIN:DAYLIGHT
TZOFFSETFROM:-0500
TZOFFSETTO:-0400
TZNAME:EDT
DTSTART:20270314T070000
END:DAYLIGHT
BEGIN:STANDARD
TZOFFSETFROM:-0400
TZOFFSETTO:-0500
TZNAME:EST
DTSTART:20271107T060000
END:STANDARD
END:VTIMEZONE
BEGIN:VEVENT
DTSTART;TZID=America/New_York:20260322T150000
DTEND;TZID=America/New_York:20260322T163000
DTSTAMP:20260423T085151
CREATED:20260211T194105Z
LAST-MODIFIED:20260211T194105Z
UID:33715-1774191600-1774197000@cornwallct.org
SUMMARY:Cornwall Community Sing-A-Long  - UCC Parish House
DESCRIPTION:Musicians Ed Thorney and Greg Reiss (of the popular local folk band Northwest Passage) will get everyone singing favorite folk\, campfire and familiar American songs. How long since you’ve sung Puff the Magic Dragon\, America the Beautiful\, and other Sing-A-Long classics? This fun-for-all-ages event is sponsored by the Cornwall Association. Refreshments will be served. Come along. Bring your friends. Bring your family.  Bring your spirit to sing. No experience needed nor expected\, just a desire to have a grand time with friends and neighbors. 
URL:https://cornwallct.org/event/cornwall-community-sing-a-long-ucc-parish-house/
LOCATION:UCC Parish House\, 8 Bolton Hill Road\, Cornwall\, CT\, 06753
END:VEVENT
END:VCALENDAR