BEGIN:VCALENDAR
VERSION:2.0
PRODID:-//Cornwall CT - ECPv6.15.20//NONSGML v1.0//EN
CALSCALE:GREGORIAN
METHOD:PUBLISH
X-WR-CALNAME:Cornwall CT
X-ORIGINAL-URL:https://cornwallct.org
X-WR-CALDESC:Events for Cornwall CT
REFRESH-INTERVAL;VALUE=DURATION:PT1H
X-Robots-Tag:noindex
X-PUBLISHED-TTL:PT1H
BEGIN:VTIMEZONE
TZID:America/New_York
BEGIN:DAYLIGHT
TZOFFSETFROM:-0500
TZOFFSETTO:-0400
TZNAME:EDT
DTSTART:20250309T070000
END:DAYLIGHT
BEGIN:STANDARD
TZOFFSETFROM:-0400
TZOFFSETTO:-0500
TZNAME:EST
DTSTART:20251102T060000
END:STANDARD
BEGIN:DAYLIGHT
TZOFFSETFROM:-0500
TZOFFSETTO:-0400
TZNAME:EDT
DTSTART:20260308T070000
END:DAYLIGHT
BEGIN:STANDARD
TZOFFSETFROM:-0400
TZOFFSETTO:-0500
TZNAME:EST
DTSTART:20261101T060000
END:STANDARD
BEGIN:DAYLIGHT
TZOFFSETFROM:-0500
TZOFFSETTO:-0400
TZNAME:EDT
DTSTART:20270314T070000
END:DAYLIGHT
BEGIN:STANDARD
TZOFFSETFROM:-0400
TZOFFSETTO:-0500
TZNAME:EST
DTSTART:20271107T060000
END:STANDARD
END:VTIMEZONE
BEGIN:VEVENT
DTSTART;TZID=America/New_York:20260303T173000
DTEND;TZID=America/New_York:20260303T173000
DTSTAMP:20260422T182131
CREATED:20251217T190700Z
LAST-MODIFIED:20251217T190718Z
UID:33291-1772559000-1772559000@cornwallct.org
SUMMARY:Inlands Wetland Agency - Hybrid
DESCRIPTION:1st Tuesday – 5:30 or 7:00 p.m.\, as noted\nZoom/Hybrid/ or in person\nTown Hall or Cornwall Library \nJanuary 6th- 5:30 – Library\nFebruary 3rd -5:30-Library\nMarch 3rd -5:30-Library\nApril 7″‘- 5:30- Library\nMay 5th- 7pm- Town Hall\nJune 2nd- 7pm- Town Hall\nJuly 7th-7pm- Town Hall\nAugust 4h- 7pm- Town Hall\nSeptember 1st-7pm-Town Hall\nOctober 6th -7pm- Town Hall\nNovember 3rd- 5:30- Library\nDecember 1st- 5:30-Library
URL:https://cornwallct.org/event/inlands-wetland-agency-hybrid/2026-03-03/
END:VEVENT
BEGIN:VEVENT
DTSTART;TZID=America/New_York:20260303T180000
DTEND;TZID=America/New_York:20260303T180000
DTSTAMP:20260422T182131
CREATED:20260114T201048Z
LAST-MODIFIED:20260302T200756Z
UID:33509-1772560800-1772560800@cornwallct.org
SUMMARY:POSTPONED! Freedom of Information (FOI) Training Session - Library
DESCRIPTION:The training will be rescheduled for April; a new date and time will be shared soon.  \nThe Town of Cornwall will be hosting an in-person Freedom of Information (FOI) training session on Tuesday\, March 3rd 6:00 pm at the Cornwall Library. \nThis session will provide an overview of FOI requirements and best practices for public records\, open meetings\, and government transparency. Community members interested in learning more about FOI laws and how they apply to local government are welcome to attend. \nPlease register using the link below: \nRegistration for Freedom of Information Training – Tuesday\, March 3rd 6:00pm – Fill out form \nQuestions? Contact Jane Hall 860-672-4959 or assistant@cornwallct.gov.
URL:https://cornwallct.org/event/freedom-of-information-foi-training-session-library/
LOCATION:The Cornwall Library\, 30 Pine St\, Cornwall\, CT\, 06753\, United States
END:VEVENT
BEGIN:VEVENT
DTSTART;TZID=America/New_York:20260303T193000
DTEND;TZID=America/New_York:20260303T193000
DTSTAMP:20260422T182131
CREATED:20251216T222743Z
LAST-MODIFIED:20251216T222743Z
UID:33221-1772566200-1772566200@cornwallct.org
SUMMARY:Board of Selectmen Meeting - Hybrid/Library
DESCRIPTION:Clerk: Jane Hall – (860) 672-4959\n1st and 3rd Tuesday of the month\n7:30pm Hybrid/Zoom & In Person – Cornwall Library\nUnless otherwise changed by the Board of Selectmen
URL:https://cornwallct.org/event/board-of-selectmen-meeting-2026/2026-03-03/
LOCATION:The Cornwall Library\, 30 Pine St\, Cornwall\, CT\, 06753\, United States
ORGANIZER;CN="Board of Selectmen":MAILTO:cwlselectmen@optonline.net
END:VEVENT
END:VCALENDAR