BEGIN:VCALENDAR
VERSION:2.0
PRODID:-//Cornwall CT - ECPv6.15.20//NONSGML v1.0//EN
CALSCALE:GREGORIAN
METHOD:PUBLISH
X-ORIGINAL-URL:https://cornwallct.org
X-WR-CALDESC:Events for Cornwall CT
REFRESH-INTERVAL;VALUE=DURATION:PT1H
X-Robots-Tag:noindex
X-PUBLISHED-TTL:PT1H
BEGIN:VTIMEZONE
TZID:America/New_York
BEGIN:DAYLIGHT
TZOFFSETFROM:-0500
TZOFFSETTO:-0400
TZNAME:EDT
DTSTART:20240310T070000
END:DAYLIGHT
BEGIN:STANDARD
TZOFFSETFROM:-0400
TZOFFSETTO:-0500
TZNAME:EST
DTSTART:20241103T060000
END:STANDARD
BEGIN:DAYLIGHT
TZOFFSETFROM:-0500
TZOFFSETTO:-0400
TZNAME:EDT
DTSTART:20250309T070000
END:DAYLIGHT
BEGIN:STANDARD
TZOFFSETFROM:-0400
TZOFFSETTO:-0500
TZNAME:EST
DTSTART:20251102T060000
END:STANDARD
BEGIN:DAYLIGHT
TZOFFSETFROM:-0500
TZOFFSETTO:-0400
TZNAME:EDT
DTSTART:20260308T070000
END:DAYLIGHT
BEGIN:STANDARD
TZOFFSETFROM:-0400
TZOFFSETTO:-0500
TZNAME:EST
DTSTART:20261101T060000
END:STANDARD
END:VTIMEZONE
BEGIN:VEVENT
DTSTART;TZID=America/New_York:20250215T110000
DTEND;TZID=America/New_York:20250215T120000
DTSTAMP:20260421T070553
CREATED:20250110T133637Z
LAST-MODIFIED:20250110T133637Z
UID:30174-1739617200-1739620800@cornwallct.org
SUMMARY:Hospice Care—What is it\, how does it work & how can volunteers help? - Library
DESCRIPTION:On Saturday\, February 15th at 11am at Cornwall Library\, the Cornwall Association will host Visiting Nurse and Hospice of Litchfield County (VNHLC) director\, Jean Osuch\, and volunteer coordinator\, Pam Gordon. They will be joined by Cornwall’s director of social services\, Becky Hurlburt to explain what hospice care includes and how it is put into place\, including information on advanced directives. Pam Gordon will describe volunteer services for hospice care and how to qualify as a volunteer. Hurlburt will be on hand to provide information on what role the town might play. Seating is limited. Registration is required through cornwalllibrary.org under Upcoming Events.
URL:https://cornwallct.org/event/hospice-care-what-is-it-how-does-it-work-how-can-volunteers-help-library/
LOCATION:The Cornwall Library\, 30 Pine St\, Cornwall\, CT\, 06753\, United States
END:VEVENT
BEGIN:VEVENT
DTSTART;TZID=America/New_York:20250215T190000
DTEND;TZID=America/New_York:20250215T200000
DTSTAMP:20260421T070553
CREATED:20231212T182453Z
LAST-MODIFIED:20250116T190844Z
UID:30209-1739646000-1739649600@cornwallct.org
SUMMARY:Ice Skating at Hotchkiss School
DESCRIPTION:Ice Skating at Hotchkiss \nCornwall residents skate from 7-8pm. \nBring your own skates. \nA Hat or Helmet is REQUIRED. \nEvery Saturday in January & February. \n 
URL:https://cornwallct.org/event/ice-skating-at-hotchkiss-school/2025-02-15/
LOCATION:The Hotchkiss School\, 11 Interlaken Road\, Lakeville\, CT\, 06039\, United States
ATTACH;FMTTYPE=image/jpeg:https://cornwallct.org/wp-content/uploads/2023/12/LearnToSkate-9-1.jpg
ORGANIZER;CN="Cornwall Park & Rec":MAILTO:prcornwall@gmail.com
END:VEVENT
END:VCALENDAR