BEGIN:VCALENDAR
VERSION:2.0
PRODID:-//Cornwall CT - ECPv6.15.20//NONSGML v1.0//EN
CALSCALE:GREGORIAN
METHOD:PUBLISH
X-WR-CALNAME:Cornwall CT
X-ORIGINAL-URL:https://cornwallct.org
X-WR-CALDESC:Events for Cornwall CT
REFRESH-INTERVAL;VALUE=DURATION:PT1H
X-Robots-Tag:noindex
X-PUBLISHED-TTL:PT1H
BEGIN:VTIMEZONE
TZID:America/New_York
BEGIN:DAYLIGHT
TZOFFSETFROM:-0500
TZOFFSETTO:-0400
TZNAME:EDT
DTSTART:20240310T070000
END:DAYLIGHT
BEGIN:STANDARD
TZOFFSETFROM:-0400
TZOFFSETTO:-0500
TZNAME:EST
DTSTART:20241103T060000
END:STANDARD
BEGIN:DAYLIGHT
TZOFFSETFROM:-0500
TZOFFSETTO:-0400
TZNAME:EDT
DTSTART:20250309T070000
END:DAYLIGHT
BEGIN:STANDARD
TZOFFSETFROM:-0400
TZOFFSETTO:-0500
TZNAME:EST
DTSTART:20251102T060000
END:STANDARD
BEGIN:DAYLIGHT
TZOFFSETFROM:-0500
TZOFFSETTO:-0400
TZNAME:EDT
DTSTART:20260308T070000
END:DAYLIGHT
BEGIN:STANDARD
TZOFFSETFROM:-0400
TZOFFSETTO:-0500
TZNAME:EST
DTSTART:20261101T060000
END:STANDARD
END:VTIMEZONE
BEGIN:VEVENT
DTSTART;TZID=America/New_York:20250201T100000
DTEND;TZID=America/New_York:20250201T113000
DTSTAMP:20260424T090438
CREATED:20250114T204921Z
LAST-MODIFIED:20250114T205106Z
UID:30196-1738404000-1738409400@cornwallct.org
SUMMARY:Art Class with Collette Hurst: Watercolor Sketchbook Workshop - Library
DESCRIPTION:Feb. 1\, 8 and 22\, 10am – 11:30am. \nUse paints\, ink\, and colored pencils to fill a sketchbook with nature and scenery subjects. Registration is required. $75 fee for all three classes\, payable to the instructor at the first class.
URL:https://cornwallct.org/event/art-class-with-collette-hurst-watercolor-sketchbook-workshop/2025-02-01/
LOCATION:The Cornwall Library\, 30 Pine St\, Cornwall\, CT\, 06753\, United States
ORGANIZER;CN="The Cornwall Library":MAILTO:director@cornwalllibrary.org
END:VEVENT
BEGIN:VEVENT
DTSTART;TZID=America/New_York:20250201T110000
DTEND;TZID=America/New_York:20250201T120000
DTSTAMP:20260424T090438
CREATED:20250127T213142Z
LAST-MODIFIED:20250127T213142Z
UID:30269-1738407600-1738411200@cornwallct.org
SUMMARY:For the Animal Lover in You! - Little Guild Animal Shelter Fundraiser
DESCRIPTION:Click on “Fundraising Dow Integrative Animal Class: Donation”. Follow the directions to register by clicking on the “link”\, click on the blue-highlighted date (2/1/25)\, click on the “11:00”\, click on “next”\, fill out your contact information\, make your donation\, and you will receive the Google Meet link. See you ONLINE! Handouts will be sent to you before class. \n 
URL:https://cornwallct.org/event/for-the-animal-lover-in-you-little-guild-animal-shelter-fundraiser/
LOCATION:Virtual
END:VEVENT
BEGIN:VEVENT
DTSTART;TZID=America/New_York:20250201T190000
DTEND;TZID=America/New_York:20250201T200000
DTSTAMP:20260424T090438
CREATED:20231212T182453Z
LAST-MODIFIED:20250116T190842Z
UID:30207-1738436400-1738440000@cornwallct.org
SUMMARY:Ice Skating at Hotchkiss School
DESCRIPTION:Ice Skating at Hotchkiss \nCornwall residents skate from 7-8pm. \nBring your own skates. \nA Hat or Helmet is REQUIRED. \nEvery Saturday in January & February. \n 
URL:https://cornwallct.org/event/ice-skating-at-hotchkiss-school/2025-02-01/
LOCATION:The Hotchkiss School\, 11 Interlaken Road\, Lakeville\, CT\, 06039\, United States
ATTACH;FMTTYPE=image/jpeg:https://cornwallct.org/wp-content/uploads/2023/12/LearnToSkate-9-1.jpg
ORGANIZER;CN="Cornwall Park & Rec":MAILTO:prcornwall@gmail.com
END:VEVENT
END:VCALENDAR