BEGIN:VCALENDAR
VERSION:2.0
PRODID:-//Cornwall CT - ECPv6.15.20//NONSGML v1.0//EN
CALSCALE:GREGORIAN
METHOD:PUBLISH
X-ORIGINAL-URL:https://cornwallct.org
X-WR-CALDESC:Events for Cornwall CT
REFRESH-INTERVAL;VALUE=DURATION:PT1H
X-Robots-Tag:noindex
X-PUBLISHED-TTL:PT1H
BEGIN:VTIMEZONE
TZID:America/New_York
BEGIN:DAYLIGHT
TZOFFSETFROM:-0500
TZOFFSETTO:-0400
TZNAME:EDT
DTSTART:20240310T070000
END:DAYLIGHT
BEGIN:STANDARD
TZOFFSETFROM:-0400
TZOFFSETTO:-0500
TZNAME:EST
DTSTART:20241103T060000
END:STANDARD
BEGIN:DAYLIGHT
TZOFFSETFROM:-0500
TZOFFSETTO:-0400
TZNAME:EDT
DTSTART:20250309T070000
END:DAYLIGHT
BEGIN:STANDARD
TZOFFSETFROM:-0400
TZOFFSETTO:-0500
TZNAME:EST
DTSTART:20251102T060000
END:STANDARD
BEGIN:DAYLIGHT
TZOFFSETFROM:-0500
TZOFFSETTO:-0400
TZNAME:EDT
DTSTART:20260308T070000
END:DAYLIGHT
BEGIN:STANDARD
TZOFFSETFROM:-0400
TZOFFSETTO:-0500
TZNAME:EST
DTSTART:20261101T060000
END:STANDARD
END:VTIMEZONE
BEGIN:VEVENT
DTSTART;TZID=America/New_York:20250114T120000
DTEND;TZID=America/New_York:20250114T130000
DTSTAMP:20260421T193613
CREATED:20241216T164217Z
LAST-MODIFIED:20241216T164217Z
UID:29878-1736856000-1736859600@cornwallct.org
SUMMARY:Community/Senior Lunch UCC - Parish House
DESCRIPTION:Tuesday\, January 14th Community/Senior Lunch UCC Parish House @ 12:00p.m. MUST RSVP by Jan 9th to park.recreation@cornwallct.gov or call/text JEN at 860-480-0600. \nLunch will be catered by Warren General Store
URL:https://cornwallct.org/event/community-senior-lunch-ucc-parish-house-2/
LOCATION:UCC Parish House\, 8 Bolton Hill Road\, Cornwall\, CT\, 06753
ORGANIZER;CN="Cornwall Park & Rec":MAILTO:prcornwall@gmail.com
END:VEVENT
BEGIN:VEVENT
DTSTART;TZID=America/New_York:20250114T170000
DTEND;TZID=America/New_York:20250114T170000
DTSTAMP:20260421T193613
CREATED:20241218T191057Z
LAST-MODIFIED:20241218T191815Z
UID:30072-1736874000-1736874000@cornwallct.org
SUMMARY:Wastewater Management Project In West Cornwall Village Construction Committee Meeting - Hybrid/Library
DESCRIPTION:2nd Tuesday of month at 5:00pm \n(except as noted*) \nHybrid/Zoom/In Person – Cornwall Library
URL:https://cornwallct.org/event/wastewater-management-project-in-west-cornwall-village-construction-committee-hybrid-library/2025-01-14/
LOCATION:The Cornwall Library\, 30 Pine St\, Cornwall\, CT\, 06753\, United States
END:VEVENT
BEGIN:VEVENT
DTSTART;TZID=America/New_York:20250114T190000
DTEND;TZID=America/New_York:20250114T190000
DTSTAMP:20260421T193613
CREATED:20241218T184156Z
LAST-MODIFIED:20250716T171304Z
UID:30004-1736881200-1736881200@cornwallct.org
SUMMARY:Planning & Zoning Commission Meeting - Hybrid/Library
DESCRIPTION:Land Use Administrator – Spencer Musselman – (860) 672-4957 \nPlanning & Zoning Commission \n2nd Tuesday -7:00 p.m.  Except as noted*** \nZoom/Hybrid/or in person – Cornwall Library 
URL:https://cornwallct.org/event/land-use-meeting-hybrid-library/2025-01-14/
LOCATION:The Cornwall Library\, 30 Pine St\, Cornwall\, CT\, 06753\, United States
ATTACH;FMTTYPE=image/jpeg:https://cornwallct.org/wp-content/uploads/2018/10/Cornwall-Town-Hall-CT.jpg
END:VEVENT
END:VCALENDAR