BEGIN:VCALENDAR
VERSION:2.0
PRODID:-//Cornwall CT - ECPv6.15.20//NONSGML v1.0//EN
CALSCALE:GREGORIAN
METHOD:PUBLISH
X-WR-CALNAME:Cornwall CT
X-ORIGINAL-URL:https://cornwallct.org
X-WR-CALDESC:Events for Cornwall CT
REFRESH-INTERVAL;VALUE=DURATION:PT1H
X-Robots-Tag:noindex
X-PUBLISHED-TTL:PT1H
BEGIN:VTIMEZONE
TZID:America/New_York
BEGIN:DAYLIGHT
TZOFFSETFROM:-0500
TZOFFSETTO:-0400
TZNAME:EDT
DTSTART:20230312T070000
END:DAYLIGHT
BEGIN:STANDARD
TZOFFSETFROM:-0400
TZOFFSETTO:-0500
TZNAME:EST
DTSTART:20231105T060000
END:STANDARD
BEGIN:DAYLIGHT
TZOFFSETFROM:-0500
TZOFFSETTO:-0400
TZNAME:EDT
DTSTART:20240310T070000
END:DAYLIGHT
BEGIN:STANDARD
TZOFFSETFROM:-0400
TZOFFSETTO:-0500
TZNAME:EST
DTSTART:20241103T060000
END:STANDARD
BEGIN:DAYLIGHT
TZOFFSETFROM:-0500
TZOFFSETTO:-0400
TZNAME:EDT
DTSTART:20250309T070000
END:DAYLIGHT
BEGIN:STANDARD
TZOFFSETFROM:-0400
TZOFFSETTO:-0500
TZNAME:EST
DTSTART:20251102T060000
END:STANDARD
END:VTIMEZONE
BEGIN:VEVENT
DTSTART;TZID=America/New_York:20241031T120000
DTEND;TZID=America/New_York:20241031T190000
DTSTAMP:20260425T065343
CREATED:20240917T125131Z
LAST-MODIFIED:20240917T125131Z
UID:28923-1730376000-1730401200@cornwallct.org
SUMMARY:Fourth Annual Carved Pumpkin Contest - UCC Parish House
DESCRIPTION:Join the library for our Fourth Annual Carved Pumpkin Contest. Registration will be taken in advance through the library website or in person at the time of drop-off. Pumpkins may be set up on display outside the UCC parish hall starting at 12pm\, and voting will take place during the Cornwall Park & Recreation Trick or Treating event. Awards will be given for 1st and 2nd prizes at 7:00pm. Free to enter.
URL:https://cornwallct.org/event/fourth-annual-carved-pumpkin-contest-ucc-parish-house/
LOCATION:UCC Parish House\, 8 Bolton Hill Road\, Cornwall\, CT\, 06753
ORGANIZER;CN="The Cornwall Library":MAILTO:director@cornwalllibrary.org
END:VEVENT
BEGIN:VEVENT
DTSTART;TZID=America/New_York:20241031T150000
DTEND;TZID=America/New_York:20241031T170000
DTSTAMP:20260425T065343
CREATED:20240815T201010Z
LAST-MODIFIED:20240815T201010Z
UID:28516-1730386800-1730394000@cornwallct.org
SUMMARY:Ongoing Bridge Series with Gary Steinkohl - Library
DESCRIPTION:Bridge is back with Gary Steinkohl: An ongoing series every Thursday through December from 3pm until 5pm at the Cornwall Library. The first class is September 5. If you know basic bidding and play and want to improve your game these classes are for you. For questions and to register contact Gary at garysteinkohl@gmail.com.
URL:https://cornwallct.org/event/on-going-bridge-series-with-gary-steinkohl-library/2024-10-31/
LOCATION:The Cornwall Library\, 30 Pine St\, Cornwall\, CT\, 06753\, United States
ORGANIZER;CN="The Cornwall Library":MAILTO:director@cornwalllibrary.org
END:VEVENT
BEGIN:VEVENT
DTSTART;TZID=America/New_York:20241031T170000
DTEND;TZID=America/New_York:20241031T200000
DTSTAMP:20260425T065343
CREATED:20240917T123429Z
LAST-MODIFIED:20240917T123429Z
UID:28914-1730394000-1730404800@cornwallct.org
SUMMARY:Halloween Trunk or Treat - UCC Parish House
DESCRIPTION:Thursday\, October 31st Halloween & Trunk or Treat from 5:00-8:00 p.m. at THE UCC PARISH HOUSE. NEW VENUE THIS YEAR due to early voting. \nFamilies come to Cornwall Village on Halloween Night for Trick or Treating at houses & trunks throughout the village. \nIf you don’t live in the village and want to hand out candy\, trunk or treaters are welcome. Email park.recreation@cornwallct.gov or call/text 860-480-0600 to sign up \nDinner at the UCC Parish House with homemade soups/chili\, salad\, veggie and fruit platters\, mac and cheese and corn dogs. \nCandy donations to help support the houses in the Village can be brought to CSS or Town Hall \nWe have moved our Chili Cook-off to the winter for a chance to gather with friends and warm up. Stay tuned for details.
URL:https://cornwallct.org/event/halloween-trunk-or-treat-ucc-parish-house/
LOCATION:UCC Parish House\, 8 Bolton Hill Road\, Cornwall\, CT\, 06753
ORGANIZER;CN="Cornwall Park & Rec":MAILTO:prcornwall@gmail.com
END:VEVENT
END:VCALENDAR