BEGIN:VCALENDAR
VERSION:2.0
PRODID:-//Cornwall CT - ECPv6.15.20//NONSGML v1.0//EN
CALSCALE:GREGORIAN
METHOD:PUBLISH
X-WR-CALNAME:Cornwall CT
X-ORIGINAL-URL:https://cornwallct.org
X-WR-CALDESC:Events for Cornwall CT
REFRESH-INTERVAL;VALUE=DURATION:PT1H
X-Robots-Tag:noindex
X-PUBLISHED-TTL:PT1H
BEGIN:VTIMEZONE
TZID:America/New_York
BEGIN:DAYLIGHT
TZOFFSETFROM:-0500
TZOFFSETTO:-0400
TZNAME:EDT
DTSTART:20230312T070000
END:DAYLIGHT
BEGIN:STANDARD
TZOFFSETFROM:-0400
TZOFFSETTO:-0500
TZNAME:EST
DTSTART:20231105T060000
END:STANDARD
BEGIN:DAYLIGHT
TZOFFSETFROM:-0500
TZOFFSETTO:-0400
TZNAME:EDT
DTSTART:20240310T070000
END:DAYLIGHT
BEGIN:STANDARD
TZOFFSETFROM:-0400
TZOFFSETTO:-0500
TZNAME:EST
DTSTART:20241103T060000
END:STANDARD
BEGIN:DAYLIGHT
TZOFFSETFROM:-0500
TZOFFSETTO:-0400
TZNAME:EDT
DTSTART:20250309T070000
END:DAYLIGHT
BEGIN:STANDARD
TZOFFSETFROM:-0400
TZOFFSETTO:-0500
TZNAME:EST
DTSTART:20251102T060000
END:STANDARD
END:VTIMEZONE
BEGIN:VEVENT
DTSTART;TZID=America/New_York:20240803T090000
DTEND;TZID=America/New_York:20240803T100500
DTSTAMP:20260422T105119
CREATED:20240522T163923Z
LAST-MODIFIED:20240819T153250Z
UID:28186-1722675600-1722679500@cornwallct.org
SUMMARY:All Levels Vinyasa Yoga with Mare Rubin
DESCRIPTION:All Levels Vinyasa with Mare Rubin\nThursdays 5:30 – 6:45 pm\nSaturdays 9:00-10:05am.\n \nEmail marerubin2@gmail.com. $12.
URL:https://cornwallct.org/event/all-levels-vinyasa-yoga-with-mare-rubin-2/2024-08-03/
LOCATION:The Wellness Collective at the Union\, 415 Sharon Goshen Turnpike\, West Cornwall\, Connecticut\, 06796
END:VEVENT
BEGIN:VEVENT
DTSTART;TZID=America/New_York:20240803T093000
DTEND;TZID=America/New_York:20240803T143000
DTSTAMP:20260422T105119
CREATED:20240619T192216Z
LAST-MODIFIED:20240716T171318Z
UID:27911-1722677400-1722695400@cornwallct.org
SUMMARY:Grumbling Gryphons Annual Theatre Arts Camp
DESCRIPTION:Grumbling Gryphons Annual Theatre Arts Camp\, July 29 to August 3\, 9:30 A.M. to 2:30 P.M. For more info and to register\, contact Leslie Elias at grumblinggryphons@gmail.com or 860-672-0286. \n\n\n\n\n\n\n\n\n\n\n\n\n\n\n\nCampers will perform a dramatic adaptation of  Hans Christian Anderson’s- The Snow Queen at Scoville Memorial Library on August 3rd at 1:00 in Salisbury.  Cornwall campers and children from the region will be performing\, free to the public! 
URL:https://cornwallct.org/event/grumbling-gryphons-annual-theatre-arts-camp-2/2024-08-03/
END:VEVENT
BEGIN:VEVENT
DTSTART;TZID=America/New_York:20240803T100000
DTEND;TZID=America/New_York:20240803T100000
DTSTAMP:20260422T105119
CREATED:20240716T164834Z
LAST-MODIFIED:20240716T164834Z
UID:28164-1722679200-1722679200@cornwallct.org
SUMMARY:Hike Day Preserve with Fiona Ocain
DESCRIPTION:On Saturday\, August 3 at 10 am Fiona Ocain will lead a hike up the new trail on the Day Preserve that starts on Rt 128 near Dibble Hill Rd. This trail climbs to a meadow to get a beautiful view of Mohawk Mountain. \nDouble-check CornwallConservationTrust.org for updates. No dogs until after the programs please.
URL:https://cornwallct.org/event/hike-day-preserve-with-fiona-ocain/
END:VEVENT
BEGIN:VEVENT
DTSTART;TZID=America/New_York:20240803T100000
DTEND;TZID=America/New_York:20240803T120000
DTSTAMP:20260422T105119
CREATED:20240716T175423Z
LAST-MODIFIED:20240716T182224Z
UID:28197-1722679200-1722686400@cornwallct.org
SUMMARY:Natural Flower Arranging with Deborah Munson - UCC Parish House
DESCRIPTION:A hands-on workshop on how to arrange beautiful branches and buds taught by expert horticulturist and gardener Deborah Munson. Limited to 15. $75 fee\, includes all plant materials. Please pay at the events with cash or check. The United Congregational Church Parish House\, Cornwall Village. \nRSVP here by July 27th \n 
URL:https://cornwallct.org/event/natural-flower-arranging-with-deborah-munson-ucc-parish-house/
LOCATION:UCC Parish House\, 8 Bolton Hill Road\, Cornwall\, CT\, 06753
ORGANIZER;CN="Cornwall Garden Club":MAILTO:cornwallgardenclub1@gmail.com
END:VEVENT
BEGIN:VEVENT
DTSTART;TZID=America/New_York:20240803T100000
DTEND;TZID=America/New_York:20240803T140000
DTSTAMP:20260422T105119
CREATED:20240619T192359Z
LAST-MODIFIED:20240619T192551Z
UID:27931-1722679200-1722693600@cornwallct.org
SUMMARY:Food4Friends Food Truck - West Cornwall
DESCRIPTION:Barbara Bishop’s Food4Friends food truck will be in West Cornwall\, Saturdays and Sundays\, 10 A.M. – 2 P.M. Sandwiches\, sweets\, snacks\, and drinks are available.
URL:https://cornwallct.org/event/food4friends-food-truck-west-cornwall/2024-08-03/
END:VEVENT
BEGIN:VEVENT
DTSTART;TZID=America/New_York:20240803T150000
DTEND;TZID=America/New_York:20240803T180000
DTSTAMP:20260422T105119
CREATED:20240716T164625Z
LAST-MODIFIED:20240716T164625Z
UID:28163-1722697200-1722708000@cornwallct.org
SUMMARY:Artist Reception: Suzan Scott - Souterrain Gallery
DESCRIPTION:The Souterrain Gallery will be hosting an Artist Reception for Suzan Scott –  Meditative Landscapes – Saturday August 3\, 3-6pm . The exhibit runs through September. \nsouterraingallery.net
URL:https://cornwallct.org/event/artist-reception-suzan-scott-souterrain-gallery/
LOCATION:The Souterrain Gallery\, 413 Sharon Goshen Turnpike\, West Cornwall\, CT\, 06796\, United States
END:VEVENT
END:VCALENDAR