BEGIN:VCALENDAR
VERSION:2.0
PRODID:-//Cornwall CT - ECPv6.15.20//NONSGML v1.0//EN
CALSCALE:GREGORIAN
METHOD:PUBLISH
X-WR-CALNAME:Cornwall CT
X-ORIGINAL-URL:https://cornwallct.org
X-WR-CALDESC:Events for Cornwall CT
REFRESH-INTERVAL;VALUE=DURATION:PT1H
X-Robots-Tag:noindex
X-PUBLISHED-TTL:PT1H
BEGIN:VTIMEZONE
TZID:America/New_York
BEGIN:DAYLIGHT
TZOFFSETFROM:-0500
TZOFFSETTO:-0400
TZNAME:EDT
DTSTART:20230312T070000
END:DAYLIGHT
BEGIN:STANDARD
TZOFFSETFROM:-0400
TZOFFSETTO:-0500
TZNAME:EST
DTSTART:20231105T060000
END:STANDARD
BEGIN:DAYLIGHT
TZOFFSETFROM:-0500
TZOFFSETTO:-0400
TZNAME:EDT
DTSTART:20240310T070000
END:DAYLIGHT
BEGIN:STANDARD
TZOFFSETFROM:-0400
TZOFFSETTO:-0500
TZNAME:EST
DTSTART:20241103T060000
END:STANDARD
BEGIN:DAYLIGHT
TZOFFSETFROM:-0500
TZOFFSETTO:-0400
TZNAME:EDT
DTSTART:20250309T070000
END:DAYLIGHT
BEGIN:STANDARD
TZOFFSETFROM:-0400
TZOFFSETTO:-0500
TZNAME:EST
DTSTART:20251102T060000
END:STANDARD
END:VTIMEZONE
BEGIN:VEVENT
DTSTART;TZID=America/New_York:20240801T093000
DTEND;TZID=America/New_York:20240801T143000
DTSTAMP:20260421T123030
CREATED:20240619T192216Z
LAST-MODIFIED:20240716T171317Z
UID:27909-1722504600-1722522600@cornwallct.org
SUMMARY:Grumbling Gryphons Annual Theatre Arts Camp
DESCRIPTION:Grumbling Gryphons Annual Theatre Arts Camp\, July 29 to August 3\, 9:30 A.M. to 2:30 P.M. For more info and to register\, contact Leslie Elias at grumblinggryphons@gmail.com or 860-672-0286. \n\n\n\n\n\n\n\n\n\n\n\n\n\n\n\nCampers will perform a dramatic adaptation of  Hans Christian Anderson’s- The Snow Queen at Scoville Memorial Library on August 3rd at 1:00 in Salisbury.  Cornwall campers and children from the region will be performing\, free to the public! 
URL:https://cornwallct.org/event/grumbling-gryphons-annual-theatre-arts-camp-2/2024-08-01/
END:VEVENT
BEGIN:VEVENT
DTSTART;TZID=America/New_York:20240801T173000
DTEND;TZID=America/New_York:20240801T184500
DTSTAMP:20260421T123030
CREATED:20240522T163923Z
LAST-MODIFIED:20240819T153249Z
UID:28185-1722533400-1722537900@cornwallct.org
SUMMARY:All Levels Vinyasa Yoga with Mare Rubin
DESCRIPTION:All Levels Vinyasa with Mare Rubin\nThursdays 5:30 – 6:45 pm\nSaturdays 9:00-10:05am.\n \nEmail marerubin2@gmail.com. $12.
URL:https://cornwallct.org/event/all-levels-vinyasa-yoga-with-mare-rubin-2/2024-08-01/
LOCATION:The Wellness Collective at the Union\, 415 Sharon Goshen Turnpike\, West Cornwall\, Connecticut\, 06796
END:VEVENT
END:VCALENDAR