BEGIN:VCALENDAR
VERSION:2.0
PRODID:-//Cornwall CT - ECPv6.15.20//NONSGML v1.0//EN
CALSCALE:GREGORIAN
METHOD:PUBLISH
X-ORIGINAL-URL:https://cornwallct.org
X-WR-CALDESC:Events for Cornwall CT
REFRESH-INTERVAL;VALUE=DURATION:PT1H
X-Robots-Tag:noindex
X-PUBLISHED-TTL:PT1H
BEGIN:VTIMEZONE
TZID:America/New_York
BEGIN:DAYLIGHT
TZOFFSETFROM:-0500
TZOFFSETTO:-0400
TZNAME:EDT
DTSTART:20230312T070000
END:DAYLIGHT
BEGIN:STANDARD
TZOFFSETFROM:-0400
TZOFFSETTO:-0500
TZNAME:EST
DTSTART:20231105T060000
END:STANDARD
BEGIN:DAYLIGHT
TZOFFSETFROM:-0500
TZOFFSETTO:-0400
TZNAME:EDT
DTSTART:20240310T070000
END:DAYLIGHT
BEGIN:STANDARD
TZOFFSETFROM:-0400
TZOFFSETTO:-0500
TZNAME:EST
DTSTART:20241103T060000
END:STANDARD
BEGIN:DAYLIGHT
TZOFFSETFROM:-0500
TZOFFSETTO:-0400
TZNAME:EDT
DTSTART:20250309T070000
END:DAYLIGHT
BEGIN:STANDARD
TZOFFSETFROM:-0400
TZOFFSETTO:-0500
TZNAME:EST
DTSTART:20251102T060000
END:STANDARD
END:VTIMEZONE
BEGIN:VEVENT
DTSTART;TZID=America/New_York:20240731T093000
DTEND;TZID=America/New_York:20240731T143000
DTSTAMP:20260422T021935
CREATED:20240619T192216Z
LAST-MODIFIED:20240716T171317Z
UID:27908-1722418200-1722436200@cornwallct.org
SUMMARY:Grumbling Gryphons Annual Theatre Arts Camp
DESCRIPTION:Grumbling Gryphons Annual Theatre Arts Camp\, July 29 to August 3\, 9:30 A.M. to 2:30 P.M. For more info and to register\, contact Leslie Elias at grumblinggryphons@gmail.com or 860-672-0286. \n\n\n\n\n\n\n\n\n\n\n\n\n\n\n\nCampers will perform a dramatic adaptation of  Hans Christian Anderson’s- The Snow Queen at Scoville Memorial Library on August 3rd at 1:00 in Salisbury.  Cornwall campers and children from the region will be performing\, free to the public! 
URL:https://cornwallct.org/event/grumbling-gryphons-annual-theatre-arts-camp-2/2024-07-31/
END:VEVENT
BEGIN:VEVENT
DTSTART;TZID=America/New_York:20240731T170000
DTEND;TZID=America/New_York:20240731T180000
DTSTAMP:20260422T021935
CREATED:20231214T124349Z
LAST-MODIFIED:20231214T124349Z
UID:25353-1722445200-1722448800@cornwallct.org
SUMMARY:Beginner's Tai Chi
DESCRIPTION:Beginner’s Tai Chi: Wednesdays\, 5-6 PM\, Cornwall Town Hall. First class: January 3. Cost: $50/month (first class is free). For more information: Dave at 672-6726 or davidcolbert7@gmail.com.
URL:https://cornwallct.org/event/beginners-tai-chi/2024-07-31/
LOCATION:Cornwall Town Hall\, 24-26 Pine Street\, Cornwall\, CT\, 06753\, United States
END:VEVENT
END:VCALENDAR