BEGIN:VCALENDAR
VERSION:2.0
PRODID:-//Cornwall CT - ECPv6.15.20//NONSGML v1.0//EN
CALSCALE:GREGORIAN
METHOD:PUBLISH
X-ORIGINAL-URL:https://cornwallct.org
X-WR-CALDESC:Events for Cornwall CT
REFRESH-INTERVAL;VALUE=DURATION:PT1H
X-Robots-Tag:noindex
X-PUBLISHED-TTL:PT1H
BEGIN:VTIMEZONE
TZID:America/New_York
BEGIN:DAYLIGHT
TZOFFSETFROM:-0500
TZOFFSETTO:-0400
TZNAME:EDT
DTSTART:20230312T070000
END:DAYLIGHT
BEGIN:STANDARD
TZOFFSETFROM:-0400
TZOFFSETTO:-0500
TZNAME:EST
DTSTART:20231105T060000
END:STANDARD
BEGIN:DAYLIGHT
TZOFFSETFROM:-0500
TZOFFSETTO:-0400
TZNAME:EDT
DTSTART:20240310T070000
END:DAYLIGHT
BEGIN:STANDARD
TZOFFSETFROM:-0400
TZOFFSETTO:-0500
TZNAME:EST
DTSTART:20241103T060000
END:STANDARD
BEGIN:DAYLIGHT
TZOFFSETFROM:-0500
TZOFFSETTO:-0400
TZNAME:EDT
DTSTART:20250309T070000
END:DAYLIGHT
BEGIN:STANDARD
TZOFFSETFROM:-0400
TZOFFSETTO:-0500
TZNAME:EST
DTSTART:20251102T060000
END:STANDARD
END:VTIMEZONE
BEGIN:VEVENT
DTSTART;TZID=America/New_York:20240727T090000
DTEND;TZID=America/New_York:20240727T100500
DTSTAMP:20260422T034833
CREATED:20240522T163923Z
LAST-MODIFIED:20240819T153248Z
UID:27903-1722070800-1722074700@cornwallct.org
SUMMARY:All Levels Vinyasa Yoga with Mare Rubin
DESCRIPTION:All Levels Vinyasa with Mare Rubin\nThursdays 5:30 – 6:45 pm\nSaturdays 9:00-10:05am.\n \nEmail marerubin2@gmail.com. $12.
URL:https://cornwallct.org/event/all-levels-vinyasa-yoga-with-mare-rubin-2/2024-07-27/
LOCATION:The Wellness Collective at the Union\, 415 Sharon Goshen Turnpike\, West Cornwall\, Connecticut\, 06796
END:VEVENT
BEGIN:VEVENT
DTSTART;TZID=America/New_York:20240727T100000
DTEND;TZID=America/New_York:20240727T113000
DTSTAMP:20260422T034833
CREATED:20240618T182555Z
LAST-MODIFIED:20240618T182555Z
UID:27867-1722074400-1722079800@cornwallct.org
SUMMARY:Watercolor Sketchbook Workshop with Collette Hurst - Library
DESCRIPTION:Saturday mornings\, July 13\, 20\, and 27\, from 10am until 11:30am. \n$75 includes 3 weekly Saturday sessions – payable to the instructor at class To Register:  Call the Library 860-672-6874. \nWatercolors and ink drawing to create an art journal of scenes\, nature\, and objects that capture your attention.   The class will include techniques using graphite pencil\, pen and ink\, and watercolor pencils.  Students of all levels welcome. 
URL:https://cornwallct.org/event/watercolor-sketchbook-workshop-with-collette-hurst-library/2024-07-27/
LOCATION:The Cornwall Library\, 30 Pine St\, Cornwall\, CT\, 06753\, United States
ORGANIZER;CN="The Cornwall Library":MAILTO:director@cornwalllibrary.org
END:VEVENT
BEGIN:VEVENT
DTSTART;TZID=America/New_York:20240727T100000
DTEND;TZID=America/New_York:20240727T120000
DTSTAMP:20260422T034833
CREATED:20240713T113142Z
LAST-MODIFIED:20240713T113348Z
UID:28065-1722074400-1722081600@cornwallct.org
SUMMARY:The Cornwall Village Vegetable Garden Tour
DESCRIPTION:Back by popular demand!\nThe Cornwall Village Vegetable Garden Tour\nSaturday\, July 27\, 2024\, 10:00 am-12:00 pm\nSelf-guided tour through six interconnected village gardens. Meet the gardener at each location and learn their gardening secrets. Registration table on Cornwall Village Green with illustrated map. No RSVP required.
URL:https://cornwallct.org/event/the-cornwall-village-vegetable-garden-tour/
ATTACH;FMTTYPE=image/jpeg:https://cornwallct.org/wp-content/uploads/2024/07/cornwall-garden-club-Logo.jpg
ORGANIZER;CN="Cornwall Garden Club":MAILTO:cornwallgardenclub1@gmail.com
END:VEVENT
BEGIN:VEVENT
DTSTART;TZID=America/New_York:20240727T100000
DTEND;TZID=America/New_York:20240727T140000
DTSTAMP:20260422T034833
CREATED:20240619T192359Z
LAST-MODIFIED:20240619T192551Z
UID:27928-1722074400-1722088800@cornwallct.org
SUMMARY:Food4Friends Food Truck - West Cornwall
DESCRIPTION:Barbara Bishop’s Food4Friends food truck will be in West Cornwall\, Saturdays and Sundays\, 10 A.M. – 2 P.M. Sandwiches\, sweets\, snacks\, and drinks are available.
URL:https://cornwallct.org/event/food4friends-food-truck-west-cornwall/2024-07-27/
END:VEVENT
END:VCALENDAR