BEGIN:VCALENDAR
VERSION:2.0
PRODID:-//Cornwall CT - ECPv6.15.20//NONSGML v1.0//EN
CALSCALE:GREGORIAN
METHOD:PUBLISH
X-ORIGINAL-URL:https://cornwallct.org
X-WR-CALDESC:Events for Cornwall CT
REFRESH-INTERVAL;VALUE=DURATION:PT1H
X-Robots-Tag:noindex
X-PUBLISHED-TTL:PT1H
BEGIN:VTIMEZONE
TZID:America/New_York
BEGIN:DAYLIGHT
TZOFFSETFROM:-0500
TZOFFSETTO:-0400
TZNAME:EDT
DTSTART:20230312T070000
END:DAYLIGHT
BEGIN:STANDARD
TZOFFSETFROM:-0400
TZOFFSETTO:-0500
TZNAME:EST
DTSTART:20231105T060000
END:STANDARD
BEGIN:DAYLIGHT
TZOFFSETFROM:-0500
TZOFFSETTO:-0400
TZNAME:EDT
DTSTART:20240310T070000
END:DAYLIGHT
BEGIN:STANDARD
TZOFFSETFROM:-0400
TZOFFSETTO:-0500
TZNAME:EST
DTSTART:20241103T060000
END:STANDARD
BEGIN:DAYLIGHT
TZOFFSETFROM:-0500
TZOFFSETTO:-0400
TZNAME:EDT
DTSTART:20250309T070000
END:DAYLIGHT
BEGIN:STANDARD
TZOFFSETFROM:-0400
TZOFFSETTO:-0500
TZNAME:EST
DTSTART:20251102T060000
END:STANDARD
END:VTIMEZONE
BEGIN:VEVENT
DTSTART;TZID=America/New_York:20240726T090000
DTEND;TZID=America/New_York:20240726T101500
DTSTAMP:20260421T182140
CREATED:20240318T191713Z
LAST-MODIFIED:20240618T184437Z
UID:27888-1721984400-1721988900@cornwallct.org
SUMMARY:Yoga for Good with Caroline Kinsolving
DESCRIPTION:Yoga for Good with Caroline Kinsolving: \nFridays 9:00 – 10:15am \nSundays 10:45am-12:00pm
URL:https://cornwallct.org/event/yoga-for-good-with-caroline-kinsolving/2024-07-26/
LOCATION:The Wellness Collective at the Union\, 415 Sharon Goshen Turnpike\, West Cornwall\, Connecticut\, 06796
END:VEVENT
BEGIN:VEVENT
DTSTART;TZID=America/New_York:20240726T110000
DTEND;TZID=America/New_York:20240726T110000
DTSTAMP:20260421T182140
CREATED:20240618T183420Z
LAST-MODIFIED:20240618T183420Z
UID:27871-1721991600-1721991600@cornwallct.org
SUMMARY:Skyhunters In Flight - Library
DESCRIPTION:Skyhunters In Flight is a dynamic educational program with live-performing birds of prey. Brian Bradley is a Master Falconer with over 30 years experience training and flying various raptors. Watch and learn as Brian gives an up-close experience with these fascinating hunters of the sky. Friday\, July 26th 11:00am\, $15 suggested donation.
URL:https://cornwallct.org/event/skyhunters-in-flight-library/
LOCATION:The Cornwall Library\, 30 Pine St\, Cornwall\, CT\, 06753\, United States
ORGANIZER;CN="The Cornwall Library":MAILTO:director@cornwalllibrary.org
END:VEVENT
BEGIN:VEVENT
DTSTART;TZID=America/New_York:20240726T140000
DTEND;TZID=America/New_York:20240726T160000
DTSTAMP:20260421T182140
CREATED:20240619T192106Z
LAST-MODIFIED:20240619T192106Z
UID:27905-1722002400-1722009600@cornwallct.org
SUMMARY:Republican Voter Registration Session - Town Hall
DESCRIPTION:Republican Voter Registration Session\, July 26\, 2-4 P.M.\, Town Hall. GOP voters can register and learn about party candidates ahead of statewide primaries on Tuesday\, August 13.
URL:https://cornwallct.org/event/republican-voter-registration-session-town-hall/
LOCATION:Cornwall Town Hall\, 24-26 Pine Street\, Cornwall\, CT\, 06753\, United States
END:VEVENT
END:VCALENDAR