BEGIN:VCALENDAR
VERSION:2.0
PRODID:-//Cornwall CT - ECPv6.15.20//NONSGML v1.0//EN
CALSCALE:GREGORIAN
METHOD:PUBLISH
X-ORIGINAL-URL:https://cornwallct.org
X-WR-CALDESC:Events for Cornwall CT
REFRESH-INTERVAL;VALUE=DURATION:PT1H
X-Robots-Tag:noindex
X-PUBLISHED-TTL:PT1H
BEGIN:VTIMEZONE
TZID:America/New_York
BEGIN:DAYLIGHT
TZOFFSETFROM:-0500
TZOFFSETTO:-0400
TZNAME:EDT
DTSTART:20230312T070000
END:DAYLIGHT
BEGIN:STANDARD
TZOFFSETFROM:-0400
TZOFFSETTO:-0500
TZNAME:EST
DTSTART:20231105T060000
END:STANDARD
BEGIN:DAYLIGHT
TZOFFSETFROM:-0500
TZOFFSETTO:-0400
TZNAME:EDT
DTSTART:20240310T070000
END:DAYLIGHT
BEGIN:STANDARD
TZOFFSETFROM:-0400
TZOFFSETTO:-0500
TZNAME:EST
DTSTART:20241103T060000
END:STANDARD
BEGIN:DAYLIGHT
TZOFFSETFROM:-0500
TZOFFSETTO:-0400
TZNAME:EDT
DTSTART:20250309T070000
END:DAYLIGHT
BEGIN:STANDARD
TZOFFSETFROM:-0400
TZOFFSETTO:-0500
TZNAME:EST
DTSTART:20251102T060000
END:STANDARD
END:VTIMEZONE
BEGIN:VEVENT
DTSTART;TZID=America/New_York:20240706T090000
DTEND;TZID=America/New_York:20240706T100500
DTSTAMP:20260422T051755
CREATED:20240522T163923Z
LAST-MODIFIED:20240819T153241Z
UID:27898-1720256400-1720260300@cornwallct.org
SUMMARY:All Levels Vinyasa Yoga with Mare Rubin
DESCRIPTION:All Levels Vinyasa with Mare Rubin\nThursdays 5:30 – 6:45 pm\nSaturdays 9:00-10:05am.\n \nEmail marerubin2@gmail.com. $12.
URL:https://cornwallct.org/event/all-levels-vinyasa-yoga-with-mare-rubin-2/2024-07-06/
LOCATION:The Wellness Collective at the Union\, 415 Sharon Goshen Turnpike\, West Cornwall\, Connecticut\, 06796
END:VEVENT
BEGIN:VEVENT
DTSTART;TZID=America/New_York:20240706T100000
DTEND;TZID=America/New_York:20240706T140000
DTSTAMP:20260422T051755
CREATED:20240619T192359Z
LAST-MODIFIED:20240619T192541Z
UID:27919-1720260000-1720274400@cornwallct.org
SUMMARY:Food4Friends Food Truck - West Cornwall
DESCRIPTION:Barbara Bishop’s Food4Friends food truck will be in West Cornwall\, Saturdays and Sundays\, 10 A.M. – 2 P.M. Sandwiches\, sweets\, snacks\, and drinks are available.
URL:https://cornwallct.org/event/food4friends-food-truck-west-cornwall/2024-07-06/
END:VEVENT
BEGIN:VEVENT
DTSTART;TZID=America/New_York:20240706T160000
DTEND;TZID=America/New_York:20240706T160000
DTSTAMP:20260422T051755
CREATED:20240619T191836Z
LAST-MODIFIED:20240619T191836Z
UID:27904-1720281600-1720281600@cornwallct.org
SUMMARY:Opening Reception: "Mohawk Mountain: The Snow Story” - Historical Society
DESCRIPTION:Cornwall Historical Society \nReception for “Mohawk Mountain: The Snow Story\,” Saturday\, July 6 at 4 P.M. Hear from special guests Carol Lugar and Steve Hedden of Mohawk Mountain Ski Area.
URL:https://cornwallct.org/event/opening-reception-mohawk-mountain-the-snow-story-historical-society/
LOCATION:Cornwall Historical Society\, 7 Pine Street\, Cornwall\, CT\, 06753
END:VEVENT
BEGIN:VEVENT
DTSTART;TZID=America/New_York:20240706T190000
DTEND;TZID=America/New_York:20240706T210000
DTSTAMP:20260422T051755
CREATED:20240612T161509Z
LAST-MODIFIED:20240612T161545Z
UID:27833-1720292400-1720299600@cornwallct.org
SUMMARY:Old Time Community Dance - Town Hall
DESCRIPTION:Kick up your heels in old time community fun 7-9 pm Saturday\, July 6 at the Town Hall.\n \nThe notorious Billy Fischer will call\, teach\, and lead us in square\, contra\, and circle dances to rollicking jigs and reels played by locals Jim and Jane Prentice and their band Relatively Sound. All are welcome\, no partners necessary. Suggested donation to help pay Mr. Fischer: $5/child\, $10/adult\, $20/family. For more info: contact Debra@Motherhouse.us or 860-671-7945. \n \n(Cornwall Community dances are organized by the non-profit\, Motherhouse: Nurturing Self\, Family Community\, and our Mother Earth)
URL:https://cornwallct.org/event/old-time-community-dance-town-hall-july-2024/
LOCATION:Cornwall Town Hall\, 24-26 Pine Street\, Cornwall\, CT\, 06753\, United States
END:VEVENT
END:VCALENDAR