BEGIN:VCALENDAR
VERSION:2.0
PRODID:-//Cornwall CT - ECPv6.15.20//NONSGML v1.0//EN
CALSCALE:GREGORIAN
METHOD:PUBLISH
X-ORIGINAL-URL:https://cornwallct.org
X-WR-CALDESC:Events for Cornwall CT
REFRESH-INTERVAL;VALUE=DURATION:PT1H
X-Robots-Tag:noindex
X-PUBLISHED-TTL:PT1H
BEGIN:VTIMEZONE
TZID:America/New_York
BEGIN:DAYLIGHT
TZOFFSETFROM:-0500
TZOFFSETTO:-0400
TZNAME:EDT
DTSTART:20230312T070000
END:DAYLIGHT
BEGIN:STANDARD
TZOFFSETFROM:-0400
TZOFFSETTO:-0500
TZNAME:EST
DTSTART:20231105T060000
END:STANDARD
BEGIN:DAYLIGHT
TZOFFSETFROM:-0500
TZOFFSETTO:-0400
TZNAME:EDT
DTSTART:20240310T070000
END:DAYLIGHT
BEGIN:STANDARD
TZOFFSETFROM:-0400
TZOFFSETTO:-0500
TZNAME:EST
DTSTART:20241103T060000
END:STANDARD
BEGIN:DAYLIGHT
TZOFFSETFROM:-0500
TZOFFSETTO:-0400
TZNAME:EDT
DTSTART:20250309T070000
END:DAYLIGHT
BEGIN:STANDARD
TZOFFSETFROM:-0400
TZOFFSETTO:-0500
TZNAME:EST
DTSTART:20251102T060000
END:STANDARD
END:VTIMEZONE
BEGIN:VEVENT
DTSTART;TZID=America/New_York:20240624T170000
DTEND;TZID=America/New_York:20240624T170000
DTSTAMP:20260422T235626
CREATED:20240207T182400Z
LAST-MODIFIED:20240207T182548Z
UID:26216-1719248400-1719248400@cornwallct.org
SUMMARY:Affordable Housing Commission Meeting - Zoom
DESCRIPTION:Via Zoom
URL:https://cornwallct.org/event/affordable-housing-commission-meeting-zoom/2024-06-24/
LOCATION:Virtual
END:VEVENT
BEGIN:VEVENT
DTSTART;TZID=America/New_York:20240624T173000
DTEND;TZID=America/New_York:20240624T184500
DTSTAMP:20260422T235626
CREATED:20230516T125952Z
LAST-MODIFIED:20241015T183249Z
UID:27509-1719250200-1719254700@cornwallct.org
SUMMARY:Hatha Yoga with Nancy Opgaard - Live & Zoom
DESCRIPTION:Hatha Yoga with Nancy Opgaard\, Mondays 5:30 P.M. Wednesdays\, at 8:30A.M.\, and Sundays 9AM to 10:30 A.M. – The Wellness Collective at The Union & Zoom\nThe fee is $15.00\, a portion of which goes to the Hughes Memorial Library\nPlease contact Nancy Opgaard at nannyopgaard@gmail.com or 203-520-1697
URL:https://cornwallct.org/event/hatha-yoga-with-nancy-upstairs-at-the-union-2024/2024-06-24/
LOCATION:The Wellness Collective at the Union\, 415 Sharon Goshen Turnpike\, West Cornwall\, Connecticut\, 06796
END:VEVENT
BEGIN:VEVENT
DTSTART;TZID=America/New_York:20240624T190000
DTEND;TZID=America/New_York:20240624T190000
DTSTAMP:20260422T235626
CREATED:20221216T150127Z
LAST-MODIFIED:20221216T150127Z
UID:25519-1719255600-1719255600@cornwallct.org
SUMMARY:Zoning Board of Appeals Meeting - Zoom
DESCRIPTION:Zoom or in person at Town Hall \nCheck with Zoning Office – 860-672-4957 \n 
URL:https://cornwallct.org/event/zoning-board-of-appeal-meeting-2024/2024-06-24/
LOCATION:Virtual
ATTACH;FMTTYPE=image/jpeg:https://cornwallct.org/wp-content/uploads/2018/10/Town-Hall_Cornwall-CT.jpg
END:VEVENT
END:VCALENDAR