BEGIN:VCALENDAR
VERSION:2.0
PRODID:-//Cornwall CT - ECPv6.15.20//NONSGML v1.0//EN
CALSCALE:GREGORIAN
METHOD:PUBLISH
X-ORIGINAL-URL:https://cornwallct.org
X-WR-CALDESC:Events for Cornwall CT
REFRESH-INTERVAL;VALUE=DURATION:PT1H
X-Robots-Tag:noindex
X-PUBLISHED-TTL:PT1H
BEGIN:VTIMEZONE
TZID:America/New_York
BEGIN:DAYLIGHT
TZOFFSETFROM:-0500
TZOFFSETTO:-0400
TZNAME:EDT
DTSTART:20230312T070000
END:DAYLIGHT
BEGIN:STANDARD
TZOFFSETFROM:-0400
TZOFFSETTO:-0500
TZNAME:EST
DTSTART:20231105T060000
END:STANDARD
BEGIN:DAYLIGHT
TZOFFSETFROM:-0500
TZOFFSETTO:-0400
TZNAME:EDT
DTSTART:20240310T070000
END:DAYLIGHT
BEGIN:STANDARD
TZOFFSETFROM:-0400
TZOFFSETTO:-0500
TZNAME:EST
DTSTART:20241103T060000
END:STANDARD
BEGIN:DAYLIGHT
TZOFFSETFROM:-0500
TZOFFSETTO:-0400
TZNAME:EDT
DTSTART:20250309T070000
END:DAYLIGHT
BEGIN:STANDARD
TZOFFSETFROM:-0400
TZOFFSETTO:-0500
TZNAME:EST
DTSTART:20251102T060000
END:STANDARD
END:VTIMEZONE
BEGIN:VEVENT
DTSTART;TZID=America/New_York:20240622T090000
DTEND;TZID=America/New_York:20240622T100500
DTSTAMP:20260424T074455
CREATED:20240522T163923Z
LAST-MODIFIED:20240819T153238Z
UID:27610-1719046800-1719050700@cornwallct.org
SUMMARY:All Levels Vinyasa Yoga with Mare Rubin
DESCRIPTION:All Levels Vinyasa with Mare Rubin\nThursdays 5:30 – 6:45 pm\nSaturdays 9:00-10:05am.\n \nEmail marerubin2@gmail.com. $12.
URL:https://cornwallct.org/event/all-levels-vinyasa-yoga-with-mare-rubin-2/2024-06-22/
LOCATION:The Wellness Collective at the Union\, 415 Sharon Goshen Turnpike\, West Cornwall\, Connecticut\, 06796
END:VEVENT
BEGIN:VEVENT
DTSTART;TZID=America/New_York:20240622T093000
DTEND;TZID=America/New_York:20240622T113000
DTSTAMP:20260424T074455
CREATED:20240516T183223Z
LAST-MODIFIED:20240516T183223Z
UID:27491-1719048600-1719055800@cornwallct.org
SUMMARY:4th Annual Cut Flower Sale - Cornwall Library
DESCRIPTION:Cornwall Garden Club: Books & Blooms 4th Annual Cut Flower Sale June 22\, from 9:30 to 11:30 A.M. Bring your own donations of fresh cut flower bouquets to benefit The Cornwall Library. Volunteer to help the sale! Front lawn of the Cornwall Library. No RSVP necessary.
URL:https://cornwallct.org/event/4th-annual-cut-flower-sale-cornwall-library/
LOCATION:The Cornwall Library\, 30 Pine St\, Cornwall\, CT\, 06753\, United States
ORGANIZER;CN="Cornwall Garden Club":MAILTO:cornwallgardenclub1@gmail.com
END:VEVENT
BEGIN:VEVENT
DTSTART;TZID=America/New_York:20240622T100000
DTEND;TZID=America/New_York:20240622T100000
DTSTAMP:20260424T074455
CREATED:20240516T182352Z
LAST-MODIFIED:20240516T182352Z
UID:27489-1719050400-1719050400@cornwallct.org
SUMMARY:Follow the Ballyhack Trail
DESCRIPTION:Follow the Ballyhack Trail with Jean Bouteiller. This Cornwall gem features a laurel-lined ravine in bloom and mature pines. It is a 45-minute loop with some minor scrambling. Rain date June 23. Check CornwallConservationTrust.org for updates. No dogs until after the programs please.
URL:https://cornwallct.org/event/follow-the-ballyhack-trail/
END:VEVENT
BEGIN:VEVENT
DTSTART;TZID=America/New_York:20240622T100000
DTEND;TZID=America/New_York:20240622T113000
DTSTAMP:20260424T074455
CREATED:20240514T124034Z
LAST-MODIFIED:20240514T124045Z
UID:27460-1719050400-1719055800@cornwallct.org
SUMMARY:Paint Landscapes In Pastels with Collette Hurst - Library
DESCRIPTION:Beginner techniques in creating pastel landscape paintings including presentation of materials and different types of pastels\, scene composition\, atmospheric perspective\, use of color\, shading\, and textures to achieve a variety of vibrant pastel effects. A supply list will be available at the first class after demonstration of recommended supplies.   Fee is $75 for all three classes\, payable to the instructor at the first class.
URL:https://cornwallct.org/event/paint-landscapes-in-pastels-with-collette-hurst-library/2024-06-22/
LOCATION:The Cornwall Library\, 30 Pine St\, Cornwall\, CT\, 06753\, United States
ORGANIZER;CN="The Cornwall Library":MAILTO:director@cornwalllibrary.org
END:VEVENT
BEGIN:VEVENT
DTSTART;TZID=America/New_York:20240622T100000
DTEND;TZID=America/New_York:20240622T140000
DTSTAMP:20260424T074455
CREATED:20240619T192359Z
LAST-MODIFIED:20240619T192537Z
UID:27912-1719050400-1719064800@cornwallct.org
SUMMARY:Food4Friends Food Truck - West Cornwall
DESCRIPTION:Barbara Bishop’s Food4Friends food truck will be in West Cornwall\, Saturdays and Sundays\, 10 A.M. – 2 P.M. Sandwiches\, sweets\, snacks\, and drinks are available.
URL:https://cornwallct.org/event/food4friends-food-truck-west-cornwall/2024-06-22/
END:VEVENT
BEGIN:VEVENT
DTSTART;TZID=America/New_York:20240622T100000
DTEND;TZID=America/New_York:20240622T160000
DTSTAMP:20260424T074455
CREATED:20240213T175839Z
LAST-MODIFIED:20240213T175958Z
UID:26260-1719050400-1719072000@cornwallct.org
SUMMARY:Books & Blooms Garden Tour
DESCRIPTION:Saturday\, June 22\, 10 am to 4 pm – Four delightful private Cornwall gardens.
URL:https://cornwallct.org/event/books-blooms-garden-tour-2024/
ORGANIZER;CN="The Cornwall Library":MAILTO:director@cornwalllibrary.org
END:VEVENT
BEGIN:VEVENT
DTSTART;TZID=America/New_York:20240622T170000
DTEND;TZID=America/New_York:20240622T200000
DTSTAMP:20260424T074455
CREATED:20240516T182640Z
LAST-MODIFIED:20240622T171040Z
UID:27490-1719075600-1719086400@cornwallct.org
SUMMARY:Annual Town Picnic - Hammond Beach
DESCRIPTION:Hammond Beach 5 to 8 P.M. Bring a side dish or dessert to share. Park & Rec will provide Hurlburt burgers & Maple Hill hot dogs.  The Ag Commission is providing ice cream sundaes.  Cart available to get up & down the hill.
URL:https://cornwallct.org/event/annual-town-picnic-hammond-beach-2/
LOCATION:Hammond Beach\, 37 Lake Road\, West Cornwall\, 06796\, United States
ATTACH;FMTTYPE=image/jpeg:https://cornwallct.org/wp-content/uploads/2019/04/BeachPartyDSCF1985.jpg
ORGANIZER;CN="Cornwall Park & Rec":MAILTO:prcornwall@gmail.com
END:VEVENT
END:VCALENDAR