BEGIN:VCALENDAR
VERSION:2.0
PRODID:-//Cornwall CT - ECPv6.15.20//NONSGML v1.0//EN
CALSCALE:GREGORIAN
METHOD:PUBLISH
X-WR-CALNAME:Cornwall CT
X-ORIGINAL-URL:https://cornwallct.org
X-WR-CALDESC:Events for Cornwall CT
REFRESH-INTERVAL;VALUE=DURATION:PT1H
X-Robots-Tag:noindex
X-PUBLISHED-TTL:PT1H
BEGIN:VTIMEZONE
TZID:America/New_York
BEGIN:DAYLIGHT
TZOFFSETFROM:-0500
TZOFFSETTO:-0400
TZNAME:EDT
DTSTART:20230312T070000
END:DAYLIGHT
BEGIN:STANDARD
TZOFFSETFROM:-0400
TZOFFSETTO:-0500
TZNAME:EST
DTSTART:20231105T060000
END:STANDARD
BEGIN:DAYLIGHT
TZOFFSETFROM:-0500
TZOFFSETTO:-0400
TZNAME:EDT
DTSTART:20240310T070000
END:DAYLIGHT
BEGIN:STANDARD
TZOFFSETFROM:-0400
TZOFFSETTO:-0500
TZNAME:EST
DTSTART:20241103T060000
END:STANDARD
BEGIN:DAYLIGHT
TZOFFSETFROM:-0500
TZOFFSETTO:-0400
TZNAME:EDT
DTSTART:20250309T070000
END:DAYLIGHT
BEGIN:STANDARD
TZOFFSETFROM:-0400
TZOFFSETTO:-0500
TZNAME:EST
DTSTART:20251102T060000
END:STANDARD
END:VTIMEZONE
BEGIN:VEVENT
DTSTART;TZID=America/New_York:20240610T173000
DTEND;TZID=America/New_York:20240610T184500
DTSTAMP:20260423T011056
CREATED:20230516T125952Z
LAST-MODIFIED:20241015T183242Z
UID:27504-1718040600-1718045100@cornwallct.org
SUMMARY:Hatha Yoga with Nancy Opgaard - Live & Zoom
DESCRIPTION:Hatha Yoga with Nancy Opgaard\, Mondays 5:30 P.M. Wednesdays\, at 8:30A.M.\, and Sundays 9AM to 10:30 A.M. – The Wellness Collective at The Union & Zoom\nThe fee is $15.00\, a portion of which goes to the Hughes Memorial Library\nPlease contact Nancy Opgaard at nannyopgaard@gmail.com or 203-520-1697
URL:https://cornwallct.org/event/hatha-yoga-with-nancy-upstairs-at-the-union-2024/2024-06-10/
LOCATION:The Wellness Collective at the Union\, 415 Sharon Goshen Turnpike\, West Cornwall\, Connecticut\, 06796
END:VEVENT
BEGIN:VEVENT
DTSTART;TZID=America/New_York:20240610T183000
DTEND;TZID=America/New_York:20240610T183000
DTSTAMP:20260423T011056
CREATED:20221216T144840Z
LAST-MODIFIED:20221216T144840Z
UID:25494-1718044200-1718044200@cornwallct.org
SUMMARY:Park & Recreation Meeting - Hybrid/Library
DESCRIPTION:6:30 p.m Cornwall Library\, Hybrid/Zoom/In Person
URL:https://cornwallct.org/event/park-recreation-meeting-2024/2024-06-10/
LOCATION:The Cornwall Library\, 30 Pine St\, Cornwall\, CT\, 06753\, United States
ATTACH;FMTTYPE=image/jpeg:https://cornwallct.org/wp-content/uploads/2020/12/logo-jpg.jpg
ORGANIZER;CN="Cornwall Park & Rec":MAILTO:prcornwall@gmail.com
END:VEVENT
END:VCALENDAR