BEGIN:VCALENDAR
VERSION:2.0
PRODID:-//Cornwall CT - ECPv6.15.20//NONSGML v1.0//EN
CALSCALE:GREGORIAN
METHOD:PUBLISH
X-ORIGINAL-URL:https://cornwallct.org
X-WR-CALDESC:Events for Cornwall CT
REFRESH-INTERVAL;VALUE=DURATION:PT1H
X-Robots-Tag:noindex
X-PUBLISHED-TTL:PT1H
BEGIN:VTIMEZONE
TZID:America/New_York
BEGIN:DAYLIGHT
TZOFFSETFROM:-0500
TZOFFSETTO:-0400
TZNAME:EDT
DTSTART:20230312T070000
END:DAYLIGHT
BEGIN:STANDARD
TZOFFSETFROM:-0400
TZOFFSETTO:-0500
TZNAME:EST
DTSTART:20231105T060000
END:STANDARD
BEGIN:DAYLIGHT
TZOFFSETFROM:-0500
TZOFFSETTO:-0400
TZNAME:EDT
DTSTART:20240310T070000
END:DAYLIGHT
BEGIN:STANDARD
TZOFFSETFROM:-0400
TZOFFSETTO:-0500
TZNAME:EST
DTSTART:20241103T060000
END:STANDARD
BEGIN:DAYLIGHT
TZOFFSETFROM:-0500
TZOFFSETTO:-0400
TZNAME:EDT
DTSTART:20250309T070000
END:DAYLIGHT
BEGIN:STANDARD
TZOFFSETFROM:-0400
TZOFFSETTO:-0500
TZNAME:EST
DTSTART:20251102T060000
END:STANDARD
END:VTIMEZONE
BEGIN:VEVENT
DTSTART;TZID=America/New_York:20240609T090000
DTEND;TZID=America/New_York:20240609T103000
DTSTAMP:20260422T111015
CREATED:20230516T125952Z
LAST-MODIFIED:20241015T183241Z
UID:27503-1717923600-1717929000@cornwallct.org
SUMMARY:Hatha Yoga with Nancy Opgaard - Live & Zoom
DESCRIPTION:Hatha Yoga with Nancy Opgaard\, Mondays 5:30 P.M. Wednesdays\, at 8:30A.M.\, and Sundays 9AM to 10:30 A.M. – The Wellness Collective at The Union & Zoom\nThe fee is $15.00\, a portion of which goes to the Hughes Memorial Library\nPlease contact Nancy Opgaard at nannyopgaard@gmail.com or 203-520-1697
URL:https://cornwallct.org/event/hatha-yoga-with-nancy-upstairs-at-the-union-2024/2024-06-09/
LOCATION:The Wellness Collective at the Union\, 415 Sharon Goshen Turnpike\, West Cornwall\, Connecticut\, 06796
END:VEVENT
BEGIN:VEVENT
DTSTART;TZID=America/New_York:20240609T104500
DTEND;TZID=America/New_York:20240609T120000
DTSTAMP:20260422T111015
CREATED:20240318T191713Z
LAST-MODIFIED:20240318T191713Z
UID:27889-1717929900-1717934400@cornwallct.org
SUMMARY:Yoga for Good with Caroline Kinsolving
DESCRIPTION:Yoga for Good with Caroline Kinsolving: \nFridays 9:00 – 10:15am \nSundays 10:45am-12:00pm
URL:https://cornwallct.org/event/yoga-for-good-with-caroline-kinsolving/2024-06-09/
LOCATION:The Wellness Collective at the Union\, 415 Sharon Goshen Turnpike\, West Cornwall\, Connecticut\, 06796
END:VEVENT
BEGIN:VEVENT
DTSTART;TZID=America/New_York:20240609T110000
DTEND;TZID=America/New_York:20240609T110000
DTSTAMP:20260422T111015
CREATED:20240516T182142Z
LAST-MODIFIED:20240516T182202Z
UID:27488-1717930800-1717930800@cornwallct.org
SUMMARY:Connect to Nature at Trinity Forest Preserve
DESCRIPTION:Mare Rubin will lead an introductory hike to the Trinity Forest Preserve. The hike will leave from the Dibble Hill Road trailhead. Mare\, a certified yoga and meditation teacher\, will lead a short meditation to connect to nature. \nCheck CornwallConservationTrust.org for updates. No dogs until after the programs please.
URL:https://cornwallct.org/event/connect-to-nature-at-trinity-forest-preserve/
END:VEVENT
BEGIN:VEVENT
DTSTART;TZID=America/New_York:20240609T110000
DTEND;TZID=America/New_York:20240609T110000
DTSTAMP:20260422T111015
CREATED:20240516T200824Z
LAST-MODIFIED:20240516T200824Z
UID:27582-1717930800-1717930800@cornwallct.org
SUMMARY:Little Guild’s Great Country Mutt Show - Lime Rock Park
DESCRIPTION:The Little Guild’s Great Country Mutt Show will be at Lime Rock Park on June 9 beginning at 11 a.m. Dogs of all types welcome\, their families too. \n \nCoffee and Food Trucks will also be there.  Free admission.
URL:https://cornwallct.org/event/little-guilds-great-country-mutt-show-lime-rock-park/
END:VEVENT
END:VCALENDAR