BEGIN:VCALENDAR
VERSION:2.0
PRODID:-//Cornwall CT - ECPv6.15.20//NONSGML v1.0//EN
CALSCALE:GREGORIAN
METHOD:PUBLISH
X-ORIGINAL-URL:https://cornwallct.org
X-WR-CALDESC:Events for Cornwall CT
REFRESH-INTERVAL;VALUE=DURATION:PT1H
X-Robots-Tag:noindex
X-PUBLISHED-TTL:PT1H
BEGIN:VTIMEZONE
TZID:America/New_York
BEGIN:DAYLIGHT
TZOFFSETFROM:-0500
TZOFFSETTO:-0400
TZNAME:EDT
DTSTART:20230312T070000
END:DAYLIGHT
BEGIN:STANDARD
TZOFFSETFROM:-0400
TZOFFSETTO:-0500
TZNAME:EST
DTSTART:20231105T060000
END:STANDARD
BEGIN:DAYLIGHT
TZOFFSETFROM:-0500
TZOFFSETTO:-0400
TZNAME:EDT
DTSTART:20240310T070000
END:DAYLIGHT
BEGIN:STANDARD
TZOFFSETFROM:-0400
TZOFFSETTO:-0500
TZNAME:EST
DTSTART:20241103T060000
END:STANDARD
BEGIN:DAYLIGHT
TZOFFSETFROM:-0500
TZOFFSETTO:-0400
TZNAME:EDT
DTSTART:20250309T070000
END:DAYLIGHT
BEGIN:STANDARD
TZOFFSETFROM:-0400
TZOFFSETTO:-0500
TZNAME:EST
DTSTART:20251102T060000
END:STANDARD
END:VTIMEZONE
BEGIN:VEVENT
DTSTART;VALUE=DATE:20240525
DTEND;VALUE=DATE:20240526
DTSTAMP:20260422T073106
CREATED:20240415T194951Z
LAST-MODIFIED:20240415T194951Z
UID:26954-1716595200-1716681599@cornwallct.org
SUMMARY:NO MOW MAY
DESCRIPTION:NO MOW MAY:Join a national campaign to let lawns grow in May to support bees and other pollinators who are a critical part of the food-web for birds and other wildlife\, which in turn bolsters biodiversity and environmental health. Partial lawns help too. If someone mows for you\, consider paying as usual or tipping them to maintain their income. Search: No Mow May or Bee City USA for more information.
URL:https://cornwallct.org/event/no-mow-may/2024-05-25/
END:VEVENT
BEGIN:VEVENT
DTSTART;TZID=America/New_York:20240525T093000
DTEND;TZID=America/New_York:20240525T103500
DTSTAMP:20260422T073106
CREATED:20230516T125442Z
LAST-MODIFIED:20230516T125442Z
UID:27652-1716629400-1716633300@cornwallct.org
SUMMARY:All Levels Vinyasa Yoga with Mare Rubin
DESCRIPTION:All Levels Vinyasa with Mare Rubin\nThursdays 5:30 – 6:45 pm\nSaturdays 9:30-10:35 am on June 1\, then 9:00-10:05am.\n \nEmail marerubin2@gmail.com. $12.
URL:https://cornwallct.org/event/all-levels-vinyasa-yoga-with-mare-rubin/2024-05-25/
LOCATION:The Wellness Collective at the Union\, 415 Sharon Goshen Turnpike\, West Cornwall\, Connecticut\, 06796
END:VEVENT
BEGIN:VEVENT
DTSTART;TZID=America/New_York:20240525T120000
DTEND;TZID=America/New_York:20240525T140000
DTSTAMP:20260422T073106
CREATED:20240415T194151Z
LAST-MODIFIED:20240415T194151Z
UID:26924-1716638400-1716645600@cornwallct.org
SUMMARY:Cornwall Garden Club Plant Sale - The Pink House
DESCRIPTION:Cornwall Garden Club Plant Sale on Saturday\, May 25\, 12 P.M. to 2 P.M\, The Pink House\, 34 Lower River Road\, West Cornwall\, CT. Cornwall Garden Club curates a selection of gorgeous native pollinator perennials to enhance the beauty of your garden and create a friendly habitat for birds\, butterflies and bees. One day sale with hundreds of plugs of native flower species at very gentle prices. For more info\, visit www.cornwallgardenclub.org.
URL:https://cornwallct.org/event/cornwall-garden-club-plant-sale-the-pink-house/
ORGANIZER;CN="Cornwall Garden Club":MAILTO:cornwallgardenclub1@gmail.com
END:VEVENT
BEGIN:VEVENT
DTSTART;TZID=America/New_York:20240525T130000
DTEND;TZID=America/New_York:20240525T160000
DTSTAMP:20260422T073106
CREATED:20240521T162930Z
LAST-MODIFIED:20240521T162930Z
UID:27593-1716642000-1716652800@cornwallct.org
SUMMARY:Cornwall Market Grand Opening
DESCRIPTION:The New Cornwall Market Grand Opening is this Saturday\, May 25th. There will be special BBQ\, homemade ice cream and unique tastings. Music by Cornwalls Barn Door Band 1-4pm. Come on down and support our local market!   Hope to see you there!!!
URL:https://cornwallct.org/event/cornwall-market-grand-opening/
LOCATION:Cornwall Market\, 25 Kent Rd S \, CT 06754\, Cornwall Bridge\, CT\, 06754\, United States
END:VEVENT
BEGIN:VEVENT
DTSTART;TZID=America/New_York:20240525T150000
DTEND;TZID=America/New_York:20240525T180000
DTSTAMP:20260422T073106
CREATED:20240415T194337Z
LAST-MODIFIED:20240417T172539Z
UID:26925-1716649200-1716660000@cornwallct.org
SUMMARY:Opening Reception: Joseph Clarke - "INCIPIENCE" - Souterrain Gallery
DESCRIPTION:At the Souterrain Gallery Cornwall area native Joseph Clarke will open the Season with his exhibit ” INCIPIENCE ” on Saturday May 25 with a big bash from 3-6.  The exhibit will run through July. 
URL:https://cornwallct.org/event/opening-reception-joseph-clarke-incipience-souterrain-gallery/
LOCATION:The Souterrain Gallery\, 413 Sharon Goshen Turnpike\, West Cornwall\, CT\, 06796\, United States
ATTACH;FMTTYPE=image/jpeg:https://cornwallct.org/wp-content/uploads/2024/04/Joseph-Clarke-IMG_2218.jpg
END:VEVENT
BEGIN:VEVENT
DTSTART;TZID=America/New_York:20240525T170000
DTEND;TZID=America/New_York:20240525T190000
DTSTAMP:20260422T073106
CREATED:20240416T172440Z
LAST-MODIFIED:20240508T161006Z
UID:27051-1716656400-1716663600@cornwallct.org
SUMMARY:Opening Reception: Jenny Simont Ireland: A Painter's View - Library
DESCRIPTION:Jenny Simont Ireland: A Painter’s View.  Opening reception May 25 from 5 P.M. to 7 P.M.  View until July 6.  Register for the opening reception at cornwalllibrary.org.
URL:https://cornwallct.org/event/opening-reception-jenny-simont-ireland-a-painters-view-library/
LOCATION:The Cornwall Library\, 30 Pine St\, Cornwall\, CT\, 06753\, United States
ORGANIZER;CN="The Cornwall Library":MAILTO:director@cornwalllibrary.org
END:VEVENT
END:VCALENDAR