BEGIN:VCALENDAR
VERSION:2.0
PRODID:-//Cornwall CT - ECPv6.15.20//NONSGML v1.0//EN
CALSCALE:GREGORIAN
METHOD:PUBLISH
X-WR-CALNAME:Cornwall CT
X-ORIGINAL-URL:https://cornwallct.org
X-WR-CALDESC:Events for Cornwall CT
REFRESH-INTERVAL;VALUE=DURATION:PT1H
X-Robots-Tag:noindex
X-PUBLISHED-TTL:PT1H
BEGIN:VTIMEZONE
TZID:America/New_York
BEGIN:DAYLIGHT
TZOFFSETFROM:-0500
TZOFFSETTO:-0400
TZNAME:EDT
DTSTART:20230312T070000
END:DAYLIGHT
BEGIN:STANDARD
TZOFFSETFROM:-0400
TZOFFSETTO:-0500
TZNAME:EST
DTSTART:20231105T060000
END:STANDARD
BEGIN:DAYLIGHT
TZOFFSETFROM:-0500
TZOFFSETTO:-0400
TZNAME:EDT
DTSTART:20240310T070000
END:DAYLIGHT
BEGIN:STANDARD
TZOFFSETFROM:-0400
TZOFFSETTO:-0500
TZNAME:EST
DTSTART:20241103T060000
END:STANDARD
BEGIN:DAYLIGHT
TZOFFSETFROM:-0500
TZOFFSETTO:-0400
TZNAME:EDT
DTSTART:20250309T070000
END:DAYLIGHT
BEGIN:STANDARD
TZOFFSETFROM:-0400
TZOFFSETTO:-0500
TZNAME:EST
DTSTART:20251102T060000
END:STANDARD
END:VTIMEZONE
BEGIN:VEVENT
DTSTART;VALUE=DATE:20240522
DTEND;VALUE=DATE:20240523
DTSTAMP:20260424T195103
CREATED:20240415T194951Z
LAST-MODIFIED:20240415T194951Z
UID:26951-1716336000-1716422399@cornwallct.org
SUMMARY:NO MOW MAY
DESCRIPTION:NO MOW MAY:Join a national campaign to let lawns grow in May to support bees and other pollinators who are a critical part of the food-web for birds and other wildlife\, which in turn bolsters biodiversity and environmental health. Partial lawns help too. If someone mows for you\, consider paying as usual or tipping them to maintain their income. Search: No Mow May or Bee City USA for more information.
URL:https://cornwallct.org/event/no-mow-may/2024-05-22/
END:VEVENT
BEGIN:VEVENT
DTSTART;TZID=America/New_York:20240522T150000
DTEND;TZID=America/New_York:20240522T160000
DTSTAMP:20260424T195103
CREATED:20240109T200846Z
LAST-MODIFIED:20240116T174546Z
UID:25799-1716390000-1716393600@cornwallct.org
SUMMARY:Community Social Hour - Town Hall
DESCRIPTION:Drop by Town Hall for snacks and drinks with friends.
URL:https://cornwallct.org/event/community-social-hour-2-2024-04-17/2024-05-22/
LOCATION:Cornwall Town Hall\, 24-26 Pine Street\, Cornwall\, CT\, 06753\, United States
ORGANIZER;CN="Cornwall Park & Rec":MAILTO:prcornwall@gmail.com
END:VEVENT
BEGIN:VEVENT
DTSTART;TZID=America/New_York:20240522T153000
DTEND;TZID=America/New_York:20240522T170000
DTSTAMP:20260424T195103
CREATED:20240514T123835Z
LAST-MODIFIED:20240523T002732Z
UID:27453-1716391800-1716397200@cornwallct.org
SUMMARY:Afterschool Art Program - Library
DESCRIPTION:We will open registration every Monday at noon for Wednesday’s program that runs from 3:30-5:00pm (and 1:30pm-3:00pm on Region 1 Early Dismissal days). We cap registration at 15 participants and will have a waitlist for cancellations. Those who are registered are welcome to utilize bus drop off from CCS (please contact provezzi@cornwallschool.org to request). We will allow walk-ins only if the max of 15 participants has not yet been met. If you find you have to cancel\, please email cornwalllibraryya@gmail.com as soon as you know\, so we can alert those on the waiting list.
URL:https://cornwallct.org/event/afterschool-art-program-library-2024/2024-05-22/
LOCATION:The Cornwall Library\, 30 Pine St\, Cornwall\, CT\, 06753\, United States
ORGANIZER;CN="The Cornwall Library":MAILTO:director@cornwalllibrary.org
END:VEVENT
BEGIN:VEVENT
DTSTART;TZID=America/New_York:20240522T170000
DTEND;TZID=America/New_York:20240522T180000
DTSTAMP:20260424T195103
CREATED:20231214T124349Z
LAST-MODIFIED:20231214T124349Z
UID:25343-1716397200-1716400800@cornwallct.org
SUMMARY:Beginner's Tai Chi
DESCRIPTION:Beginner’s Tai Chi: Wednesdays\, 5-6 PM\, Cornwall Town Hall. First class: January 3. Cost: $50/month (first class is free). For more information: Dave at 672-6726 or davidcolbert7@gmail.com.
URL:https://cornwallct.org/event/beginners-tai-chi/2024-05-22/
LOCATION:Cornwall Town Hall\, 24-26 Pine Street\, Cornwall\, CT\, 06753\, United States
END:VEVENT
END:VCALENDAR