BEGIN:VCALENDAR
VERSION:2.0
PRODID:-//Cornwall CT - ECPv6.15.20//NONSGML v1.0//EN
CALSCALE:GREGORIAN
METHOD:PUBLISH
X-WR-CALNAME:Cornwall CT
X-ORIGINAL-URL:https://cornwallct.org
X-WR-CALDESC:Events for Cornwall CT
REFRESH-INTERVAL;VALUE=DURATION:PT1H
X-Robots-Tag:noindex
X-PUBLISHED-TTL:PT1H
BEGIN:VTIMEZONE
TZID:America/New_York
BEGIN:DAYLIGHT
TZOFFSETFROM:-0500
TZOFFSETTO:-0400
TZNAME:EDT
DTSTART:20230312T070000
END:DAYLIGHT
BEGIN:STANDARD
TZOFFSETFROM:-0400
TZOFFSETTO:-0500
TZNAME:EST
DTSTART:20231105T060000
END:STANDARD
BEGIN:DAYLIGHT
TZOFFSETFROM:-0500
TZOFFSETTO:-0400
TZNAME:EDT
DTSTART:20240310T070000
END:DAYLIGHT
BEGIN:STANDARD
TZOFFSETFROM:-0400
TZOFFSETTO:-0500
TZNAME:EST
DTSTART:20241103T060000
END:STANDARD
BEGIN:DAYLIGHT
TZOFFSETFROM:-0500
TZOFFSETTO:-0400
TZNAME:EDT
DTSTART:20250309T070000
END:DAYLIGHT
BEGIN:STANDARD
TZOFFSETFROM:-0400
TZOFFSETTO:-0500
TZNAME:EST
DTSTART:20251102T060000
END:STANDARD
END:VTIMEZONE
BEGIN:VEVENT
DTSTART;VALUE=DATE:20240501
DTEND;VALUE=DATE:20240502
DTSTAMP:20260422T180717
CREATED:20240318T182347Z
LAST-MODIFIED:20240318T182347Z
UID:26616-1714521600-1714607999@cornwallct.org
SUMMARY:Deadline for Cornwall Conservation Trust Student Grants
DESCRIPTION:In an effort to promote education in areas of study that match our mission\, which includes supporting local environmental conservation\, the Cornwall Conservation Trust\, Inc. is pleased to offer a maximum grant of $1000 to graduating high school students or students who are enrolled in college and are residents of Region One. More information\, including an online application\, can be found on the Student Grants page on our website: cornwallconservationtrust.org. Deadline is May 1\, 2024. \nThe Trust has been awarding scholarship grants since 2008 through an endowment established by the Calhoun Family. Student grants are awarded on a yearly basis in May.
URL:https://cornwallct.org/event/deadline-for-cornwall-conservation-trust-student-grants/
END:VEVENT
BEGIN:VEVENT
DTSTART;VALUE=DATE:20240501
DTEND;VALUE=DATE:20240502
DTSTAMP:20260422T180717
CREATED:20240415T194951Z
LAST-MODIFIED:20240415T194951Z
UID:26930-1714521600-1714607999@cornwallct.org
SUMMARY:NO MOW MAY
DESCRIPTION:NO MOW MAY:Join a national campaign to let lawns grow in May to support bees and other pollinators who are a critical part of the food-web for birds and other wildlife\, which in turn bolsters biodiversity and environmental health. Partial lawns help too. If someone mows for you\, consider paying as usual or tipping them to maintain their income. Search: No Mow May or Bee City USA for more information.
URL:https://cornwallct.org/event/no-mow-may/2024-05-01/
END:VEVENT
BEGIN:VEVENT
DTSTART;TZID=America/New_York:20240501T170000
DTEND;TZID=America/New_York:20240501T180000
DTSTAMP:20260422T180717
CREATED:20231214T124349Z
LAST-MODIFIED:20231214T124349Z
UID:25340-1714582800-1714586400@cornwallct.org
SUMMARY:Beginner's Tai Chi
DESCRIPTION:Beginner’s Tai Chi: Wednesdays\, 5-6 PM\, Cornwall Town Hall. First class: January 3. Cost: $50/month (first class is free). For more information: Dave at 672-6726 or davidcolbert7@gmail.com.
URL:https://cornwallct.org/event/beginners-tai-chi/2024-05-01/
LOCATION:Cornwall Town Hall\, 24-26 Pine Street\, Cornwall\, CT\, 06753\, United States
END:VEVENT
END:VCALENDAR