BEGIN:VCALENDAR
VERSION:2.0
PRODID:-//Cornwall CT - ECPv6.15.20//NONSGML v1.0//EN
CALSCALE:GREGORIAN
METHOD:PUBLISH
X-WR-CALNAME:Cornwall CT
X-ORIGINAL-URL:https://cornwallct.org
X-WR-CALDESC:Events for Cornwall CT
REFRESH-INTERVAL;VALUE=DURATION:PT1H
X-Robots-Tag:noindex
X-PUBLISHED-TTL:PT1H
BEGIN:VTIMEZONE
TZID:America/New_York
BEGIN:DAYLIGHT
TZOFFSETFROM:-0500
TZOFFSETTO:-0400
TZNAME:EDT
DTSTART:20230312T070000
END:DAYLIGHT
BEGIN:STANDARD
TZOFFSETFROM:-0400
TZOFFSETTO:-0500
TZNAME:EST
DTSTART:20231105T060000
END:STANDARD
BEGIN:DAYLIGHT
TZOFFSETFROM:-0500
TZOFFSETTO:-0400
TZNAME:EDT
DTSTART:20240310T070000
END:DAYLIGHT
BEGIN:STANDARD
TZOFFSETFROM:-0400
TZOFFSETTO:-0500
TZNAME:EST
DTSTART:20241103T060000
END:STANDARD
BEGIN:DAYLIGHT
TZOFFSETFROM:-0500
TZOFFSETTO:-0400
TZNAME:EDT
DTSTART:20250309T070000
END:DAYLIGHT
BEGIN:STANDARD
TZOFFSETFROM:-0400
TZOFFSETTO:-0500
TZNAME:EST
DTSTART:20251102T060000
END:STANDARD
END:VTIMEZONE
BEGIN:VEVENT
DTSTART;VALUE=DATE:20240415
DTEND;VALUE=DATE:20240427
DTSTAMP:20260422T145727
CREATED:20240321T213318Z
LAST-MODIFIED:20240321T213318Z
UID:26716-1713139200-1714175999@cornwallct.org
SUMMARY:River Road Closure
DESCRIPTION:April 15 through April 26
URL:https://cornwallct.org/event/river-road-closure/
END:VEVENT
BEGIN:VEVENT
DTSTART;TZID=America/New_York:20240419T193000
DTEND;TZID=America/New_York:20240419T193000
DTSTAMP:20260422T145727
CREATED:20240404T155845Z
LAST-MODIFIED:20240404T155845Z
UID:26777-1713555000-1713555000@cornwallct.org
SUMMARY:Special Town Meeting - Library
DESCRIPTION:Electors and citizens qualified to vote at Town Meetings of the Town of Cornwall are hereby notified and warned that a Special Town Meeting will be held on Friday\, April 19th\, 2024 at 7:30 p.m. at The Cornwall Library\, 30 Pine Street\, Cornwall\, CT 06753 for the following purpose: \nUpon recommendation of the Board of Finance and Board of Selectmen to: \n1) Transfer capital projects account interest $50\,000 to capital projects road improvements for spring resurfacing of roads.\n2) To transfer $50\,000 from Town general fund balance to capital road improvements to complete summer storm damage repairs.\n3) Authorize repairs to Essex Hill Road of $147\,000 be paid out of capital projects road improvement.\n4) To increase capital projects fund road improvement by $17\,000 to be reimbursed by state grant for hazardous tree removal.\n5) Public hearing on municipal budget 24/25.
URL:https://cornwallct.org/event/special-town-meeting-library/
LOCATION:The Cornwall Library\, 30 Pine St\, Cornwall\, CT\, 06753\, United States
END:VEVENT
BEGIN:VEVENT
DTSTART;TZID=America/New_York:20240419T193000
DTEND;TZID=America/New_York:20240419T193000
DTSTAMP:20260422T145727
CREATED:20240417T200254Z
LAST-MODIFIED:20240417T200408Z
UID:27054-1713555000-1713555000@cornwallct.org
SUMMARY:Town Budget Public Hearing - Cornwall Library
DESCRIPTION:
URL:https://cornwallct.org/event/budget-public-hearing-2024/
LOCATION:Cornwall Consolidated School\, 5 Cream Hill Road\, West Cornwall\, CT\, 06796
ATTACH;FMTTYPE=image/jpeg:https://cornwallct.org/wp-content/uploads/2022/04/budget.jpeg
END:VEVENT
END:VCALENDAR