BEGIN:VCALENDAR
VERSION:2.0
PRODID:-//Cornwall CT - ECPv6.15.20//NONSGML v1.0//EN
CALSCALE:GREGORIAN
METHOD:PUBLISH
X-WR-CALNAME:Cornwall CT
X-ORIGINAL-URL:https://cornwallct.org
X-WR-CALDESC:Events for Cornwall CT
REFRESH-INTERVAL;VALUE=DURATION:PT1H
X-Robots-Tag:noindex
X-PUBLISHED-TTL:PT1H
BEGIN:VTIMEZONE
TZID:America/New_York
BEGIN:DAYLIGHT
TZOFFSETFROM:-0500
TZOFFSETTO:-0400
TZNAME:EDT
DTSTART:20230312T070000
END:DAYLIGHT
BEGIN:STANDARD
TZOFFSETFROM:-0400
TZOFFSETTO:-0500
TZNAME:EST
DTSTART:20231105T060000
END:STANDARD
BEGIN:DAYLIGHT
TZOFFSETFROM:-0500
TZOFFSETTO:-0400
TZNAME:EDT
DTSTART:20240310T070000
END:DAYLIGHT
BEGIN:STANDARD
TZOFFSETFROM:-0400
TZOFFSETTO:-0500
TZNAME:EST
DTSTART:20241103T060000
END:STANDARD
BEGIN:DAYLIGHT
TZOFFSETFROM:-0500
TZOFFSETTO:-0400
TZNAME:EDT
DTSTART:20250309T070000
END:DAYLIGHT
BEGIN:STANDARD
TZOFFSETFROM:-0400
TZOFFSETTO:-0500
TZNAME:EST
DTSTART:20251102T060000
END:STANDARD
END:VTIMEZONE
BEGIN:VEVENT
DTSTART;TZID=America/New_York:20240411T103000
DTEND;TZID=America/New_York:20240411T113000
DTSTAMP:20260422T152614
CREATED:20240318T184558Z
LAST-MODIFIED:20240318T184558Z
UID:26625-1712831400-1712835000@cornwallct.org
SUMMARY:Cornwall Woman's Society Talk - UCC Parish House
DESCRIPTION:The Cornwall Woman’s Society will host a talk by Lynn Martorell and Keavy Bedell about counseling for families during end-of-life situations on April 11 at 10:30 A.M. in the UCC Parish House at 8 Bolton Hill Road. Lynn has been a local community educator and a hospice volunteer since 1999. Keavy Bedell will share her experiences and talk about East Mountain House\, a hospice home being considered for the local community. The program is free.
URL:https://cornwallct.org/event/cornwall-womans-society-talk-ucc-parish-house/
LOCATION:UCC Parish House\, 8 Bolton Hill Road\, Cornwall\, CT\, 06753
END:VEVENT
END:VCALENDAR