BEGIN:VCALENDAR
VERSION:2.0
PRODID:-//Cornwall CT - ECPv6.15.20//NONSGML v1.0//EN
CALSCALE:GREGORIAN
METHOD:PUBLISH
X-ORIGINAL-URL:https://cornwallct.org
X-WR-CALDESC:Events for Cornwall CT
REFRESH-INTERVAL;VALUE=DURATION:PT1H
X-Robots-Tag:noindex
X-PUBLISHED-TTL:PT1H
BEGIN:VTIMEZONE
TZID:America/New_York
BEGIN:DAYLIGHT
TZOFFSETFROM:-0500
TZOFFSETTO:-0400
TZNAME:EDT
DTSTART:20230312T070000
END:DAYLIGHT
BEGIN:STANDARD
TZOFFSETFROM:-0400
TZOFFSETTO:-0500
TZNAME:EST
DTSTART:20231105T060000
END:STANDARD
BEGIN:DAYLIGHT
TZOFFSETFROM:-0500
TZOFFSETTO:-0400
TZNAME:EDT
DTSTART:20240310T070000
END:DAYLIGHT
BEGIN:STANDARD
TZOFFSETFROM:-0400
TZOFFSETTO:-0500
TZNAME:EST
DTSTART:20241103T060000
END:STANDARD
BEGIN:DAYLIGHT
TZOFFSETFROM:-0500
TZOFFSETTO:-0400
TZNAME:EDT
DTSTART:20250309T070000
END:DAYLIGHT
BEGIN:STANDARD
TZOFFSETFROM:-0400
TZOFFSETTO:-0500
TZNAME:EST
DTSTART:20251102T060000
END:STANDARD
END:VTIMEZONE
BEGIN:VEVENT
DTSTART;TZID=America/New_York:20240316T100000
DTEND;TZID=America/New_York:20240316T120000
DTSTAMP:20260424T150823
CREATED:20240210T125006Z
LAST-MODIFIED:20240210T125006Z
UID:26238-1710583200-1710590400@cornwallct.org
SUMMARY:Good Morning Good Neighbors - Library
DESCRIPTION:Come for coffee and a pastry and stay to personally thank many of our town elected officials who are no longer in elected office. Free.
URL:https://cornwallct.org/event/good-morning-good-neighbors-library/
LOCATION:The Cornwall Library\, 30 Pine St\, Cornwall\, CT\, 06753\, United States
END:VEVENT
BEGIN:VEVENT
DTSTART;TZID=America/New_York:20240316T170000
DTEND;TZID=America/New_York:20240316T190000
DTSTAMP:20260424T150823
CREATED:20240212T210936Z
LAST-MODIFIED:20240212T210936Z
UID:26257-1710608400-1710615600@cornwallct.org
SUMMARY:South of the Border Take Out
DESCRIPTION:South of the Border Take Out benefit dinner hosted by the UCC Church School for their giving projects. Pre-order only\, pick up at UCC Parish House\, March 16 (orders due by March 11) between 5 and 7 p.m. Main dish choices are Guatemalan Rice and Beans or Mexican Picadillo (beef) with two sides\, cornbread\, and dessert. $15 per serving. Preorders ONLY by March 11. To order call 860-672-6840 or email office@uccincornwall.org.
URL:https://cornwallct.org/event/south-of-the-border-take-out-2/
END:VEVENT
END:VCALENDAR