BEGIN:VCALENDAR
VERSION:2.0
PRODID:-//Cornwall CT - ECPv6.15.20//NONSGML v1.0//EN
CALSCALE:GREGORIAN
METHOD:PUBLISH
X-ORIGINAL-URL:https://cornwallct.org
X-WR-CALDESC:Events for Cornwall CT
REFRESH-INTERVAL;VALUE=DURATION:PT1H
X-Robots-Tag:noindex
X-PUBLISHED-TTL:PT1H
BEGIN:VTIMEZONE
TZID:America/New_York
BEGIN:DAYLIGHT
TZOFFSETFROM:-0500
TZOFFSETTO:-0400
TZNAME:EDT
DTSTART:20230312T070000
END:DAYLIGHT
BEGIN:STANDARD
TZOFFSETFROM:-0400
TZOFFSETTO:-0500
TZNAME:EST
DTSTART:20231105T060000
END:STANDARD
BEGIN:DAYLIGHT
TZOFFSETFROM:-0500
TZOFFSETTO:-0400
TZNAME:EDT
DTSTART:20240310T070000
END:DAYLIGHT
BEGIN:STANDARD
TZOFFSETFROM:-0400
TZOFFSETTO:-0500
TZNAME:EST
DTSTART:20241103T060000
END:STANDARD
BEGIN:DAYLIGHT
TZOFFSETFROM:-0500
TZOFFSETTO:-0400
TZNAME:EDT
DTSTART:20250309T070000
END:DAYLIGHT
BEGIN:STANDARD
TZOFFSETFROM:-0400
TZOFFSETTO:-0500
TZNAME:EST
DTSTART:20251102T060000
END:STANDARD
END:VTIMEZONE
BEGIN:VEVENT
DTSTART;TZID=America/New_York:20240126T183000
DTEND;TZID=America/New_York:20240126T200000
DTSTAMP:20260421T094958
CREATED:20231206T193304Z
LAST-MODIFIED:20231206T193304Z
UID:25199-1706293800-1706299200@cornwallct.org
SUMMARY:Robbie Burns Birthday Celebration - Library
DESCRIPTION:Happy Birthday Robbie Burns! Come celebrate the 265th birthday of the beloved Scottish poet and lyricist Robert Burns with Friends of the Library\, Friday\, January 26\, from 6:30 to 8:00 p.m. Enjoy live music with our bagpiper and fiddler\, poetry and songs\, homemade haggis\, shortbread\, and a wee dram or two of Burns’ preferred beverage. Space is limited. Reservations and advance payment of $10 per person (21 or older) at cornwalllibrary.org 
URL:https://cornwallct.org/event/robbie-burns-birthday-celebration-library/
LOCATION:The Cornwall Library\, 30 Pine St\, Cornwall\, CT\, 06753\, United States
ORGANIZER;CN="The Cornwall Library":MAILTO:director@cornwalllibrary.org
END:VEVENT
END:VCALENDAR