BEGIN:VCALENDAR
VERSION:2.0
PRODID:-//Cornwall CT - ECPv6.15.20//NONSGML v1.0//EN
CALSCALE:GREGORIAN
METHOD:PUBLISH
X-ORIGINAL-URL:https://cornwallct.org
X-WR-CALDESC:Events for Cornwall CT
REFRESH-INTERVAL;VALUE=DURATION:PT1H
X-Robots-Tag:noindex
X-PUBLISHED-TTL:PT1H
BEGIN:VTIMEZONE
TZID:America/New_York
BEGIN:DAYLIGHT
TZOFFSETFROM:-0500
TZOFFSETTO:-0400
TZNAME:EDT
DTSTART:20230312T070000
END:DAYLIGHT
BEGIN:STANDARD
TZOFFSETFROM:-0400
TZOFFSETTO:-0500
TZNAME:EST
DTSTART:20231105T060000
END:STANDARD
BEGIN:DAYLIGHT
TZOFFSETFROM:-0500
TZOFFSETTO:-0400
TZNAME:EDT
DTSTART:20240310T070000
END:DAYLIGHT
BEGIN:STANDARD
TZOFFSETFROM:-0400
TZOFFSETTO:-0500
TZNAME:EST
DTSTART:20241103T060000
END:STANDARD
BEGIN:DAYLIGHT
TZOFFSETFROM:-0500
TZOFFSETTO:-0400
TZNAME:EDT
DTSTART:20250309T070000
END:DAYLIGHT
BEGIN:STANDARD
TZOFFSETFROM:-0400
TZOFFSETTO:-0500
TZNAME:EST
DTSTART:20251102T060000
END:STANDARD
END:VTIMEZONE
BEGIN:VEVENT
DTSTART;TZID=America/New_York:20240118T090000
DTEND;TZID=America/New_York:20240118T090000
DTSTAMP:20260421T093611
CREATED:20231218T195604Z
LAST-MODIFIED:20231218T200023Z
UID:25526-1705568400-1705568400@cornwallct.org
SUMMARY:Cornwall Conservation Commission Meeting - Library
DESCRIPTION:On Zoom or at Cornwall Library \nMarch 21 – In person \nNovember 21 – In person
URL:https://cornwallct.org/event/cornwall-conservation-commission-meeting-2024/2024-01-18/
LOCATION:The Cornwall Library\, 30 Pine St\, Cornwall\, CT\, 06753\, United States
ATTACH;FMTTYPE=image/jpeg:https://cornwallct.org/wp-content/uploads/2020/12/Cornwall-Conservation-Commission.jpg
END:VEVENT
BEGIN:VEVENT
DTSTART;TZID=America/New_York:20240118T190000
DTEND;TZID=America/New_York:20240118T190000
DTSTAMP:20260421T093611
CREATED:20221216T143901Z
LAST-MODIFIED:20231218T194226Z
UID:20967-1705604400-1705604400@cornwallct.org
SUMMARY:Board of Finance Meeting
DESCRIPTION:Via Zoom until in person meetings may resume.
URL:https://cornwallct.org/event/board-of-finance-meeting-2024/2024-01-18/
LOCATION:Virtual
ATTACH;FMTTYPE=image/jpeg:https://cornwallct.org/wp-content/uploads/2018/10/Town-Hall_Cornwall-CT.jpg
END:VEVENT
END:VCALENDAR