BEGIN:VCALENDAR
VERSION:2.0
PRODID:-//Cornwall CT - ECPv6.15.20//NONSGML v1.0//EN
CALSCALE:GREGORIAN
METHOD:PUBLISH
X-ORIGINAL-URL:https://cornwallct.org
X-WR-CALDESC:Events for Cornwall CT
REFRESH-INTERVAL;VALUE=DURATION:PT1H
X-Robots-Tag:noindex
X-PUBLISHED-TTL:PT1H
BEGIN:VTIMEZONE
TZID:America/New_York
BEGIN:DAYLIGHT
TZOFFSETFROM:-0500
TZOFFSETTO:-0400
TZNAME:EDT
DTSTART:20230312T070000
END:DAYLIGHT
BEGIN:STANDARD
TZOFFSETFROM:-0400
TZOFFSETTO:-0500
TZNAME:EST
DTSTART:20231105T060000
END:STANDARD
BEGIN:DAYLIGHT
TZOFFSETFROM:-0500
TZOFFSETTO:-0400
TZNAME:EDT
DTSTART:20240310T070000
END:DAYLIGHT
BEGIN:STANDARD
TZOFFSETFROM:-0400
TZOFFSETTO:-0500
TZNAME:EST
DTSTART:20241103T060000
END:STANDARD
BEGIN:DAYLIGHT
TZOFFSETFROM:-0500
TZOFFSETTO:-0400
TZNAME:EDT
DTSTART:20250309T070000
END:DAYLIGHT
BEGIN:STANDARD
TZOFFSETFROM:-0400
TZOFFSETTO:-0500
TZNAME:EST
DTSTART:20251102T060000
END:STANDARD
END:VTIMEZONE
BEGIN:VEVENT
DTSTART;TZID=America/New_York:20240108T060000
DTEND;TZID=America/New_York:20240108T200000
DTSTAMP:20260419T152955
CREATED:20231219T141959Z
LAST-MODIFIED:20231219T141959Z
UID:25591-1704693600-1704744000@cornwallct.org
SUMMARY:Region One Referendum
DESCRIPTION:A referendum will be held in Town Hall on January 8 from 6 a.m. to 8 p.m. to vote on an appropriation of $5\,640\,000 for Regional School District Number 1 for capital improvements and renovations to Housatonic Valley Regional High School and authorizing the issue of bonds and notes in the same amount to finance the appropriation. Absentee ballots and a full text of the resolution are available in the town clerk’s office\, Monday to Thursday from 9 a.m. to noon and 1 to 4 p.m.
URL:https://cornwallct.org/event/region-one-referendum/
LOCATION:Cornwall Town Hall\, 24-26 Pine Street\, Cornwall\, CT\, 06753\, United States
END:VEVENT
BEGIN:VEVENT
DTSTART;TZID=America/New_York:20240108T183000
DTEND;TZID=America/New_York:20240108T183000
DTSTAMP:20260419T152955
CREATED:20221216T144840Z
LAST-MODIFIED:20231218T194642Z
UID:20969-1704738600-1704738600@cornwallct.org
SUMMARY:Park & Recreation Meeting - Hybrid/Library
DESCRIPTION:6:30 p.m Cornwall Library\, Hybrid/Zoom/In Person
URL:https://cornwallct.org/event/park-recreation-meeting-2024/2024-01-08/
LOCATION:The Cornwall Library\, 30 Pine St\, Cornwall\, CT\, 06753\, United States
ATTACH;FMTTYPE=image/jpeg:https://cornwallct.org/wp-content/uploads/2020/12/logo-jpg.jpg
ORGANIZER;CN="Cornwall Park & Rec":MAILTO:prcornwall@gmail.com
END:VEVENT
BEGIN:VEVENT
DTSTART;TZID=America/New_York:20240108T193000
DTEND;TZID=America/New_York:20240108T193000
DTSTAMP:20260419T152955
CREATED:20221216T152438Z
LAST-MODIFIED:20231218T200824Z
UID:21044-1704742200-1704742200@cornwallct.org
SUMMARY:Cornwall Agricultural Advisory Commission Meeting
DESCRIPTION:Town Hall
URL:https://cornwallct.org/event/cornwall-agricultural-advisory-commission-meeting-2024/2024-01-08/
LOCATION:Cornwall Town Hall\, 24-26 Pine Street\, Cornwall\, CT\, 06753\, United States
ATTACH;FMTTYPE=image/jpeg:https://cornwallct.org/wp-content/uploads/2019/04/cornwall_valley_cow.jpg
END:VEVENT
END:VCALENDAR