BEGIN:VCALENDAR
VERSION:2.0
PRODID:-//Cornwall CT - ECPv6.15.20//NONSGML v1.0//EN
CALSCALE:GREGORIAN
METHOD:PUBLISH
X-ORIGINAL-URL:https://cornwallct.org
X-WR-CALDESC:Events for Cornwall CT
REFRESH-INTERVAL;VALUE=DURATION:PT1H
X-Robots-Tag:noindex
X-PUBLISHED-TTL:PT1H
BEGIN:VTIMEZONE
TZID:America/New_York
BEGIN:DAYLIGHT
TZOFFSETFROM:-0500
TZOFFSETTO:-0400
TZNAME:EDT
DTSTART:20220313T070000
END:DAYLIGHT
BEGIN:STANDARD
TZOFFSETFROM:-0400
TZOFFSETTO:-0500
TZNAME:EST
DTSTART:20221106T060000
END:STANDARD
BEGIN:DAYLIGHT
TZOFFSETFROM:-0500
TZOFFSETTO:-0400
TZNAME:EDT
DTSTART:20230312T070000
END:DAYLIGHT
BEGIN:STANDARD
TZOFFSETFROM:-0400
TZOFFSETTO:-0500
TZNAME:EST
DTSTART:20231105T060000
END:STANDARD
BEGIN:DAYLIGHT
TZOFFSETFROM:-0500
TZOFFSETTO:-0400
TZNAME:EDT
DTSTART:20240310T070000
END:DAYLIGHT
BEGIN:STANDARD
TZOFFSETFROM:-0400
TZOFFSETTO:-0500
TZNAME:EST
DTSTART:20241103T060000
END:STANDARD
END:VTIMEZONE
BEGIN:VEVENT
DTSTART;TZID=America/New_York:20231226T160000
DTEND;TZID=America/New_York:20231226T160000
DTSTAMP:20260421T194840
CREATED:20231116T192320Z
LAST-MODIFIED:20231225T202251Z
UID:24926-1703606400-1703606400@cornwallct.org
SUMMARY:Boxing Day Reading - North Cornwall Meeting House
DESCRIPTION:Boxing Day Reading:  Reader is Scott Cady.  December 26th at 4pm at the North Cornwall Meeting House. Registration is requested at cornwalllibrary.org.
URL:https://cornwallct.org/event/boxing-day-reading-north-cornwall-meeting-house/
LOCATION:North Cornwall Meeting House\, Corner of Town Street and Cogswell Road\, West Cornwall\, CT\, 06796
ATTACH;FMTTYPE=image/jpeg:https://cornwallct.org/wp-content/uploads/2020/11/boxing.jpg
ORGANIZER;CN="The Cornwall Library":MAILTO:director@cornwalllibrary.org
END:VEVENT
END:VCALENDAR