BEGIN:VCALENDAR
VERSION:2.0
PRODID:-//Cornwall CT - ECPv6.15.20//NONSGML v1.0//EN
CALSCALE:GREGORIAN
METHOD:PUBLISH
X-WR-CALNAME:Cornwall CT
X-ORIGINAL-URL:https://cornwallct.org
X-WR-CALDESC:Events for Cornwall CT
REFRESH-INTERVAL;VALUE=DURATION:PT1H
X-Robots-Tag:noindex
X-PUBLISHED-TTL:PT1H
BEGIN:VTIMEZONE
TZID:America/New_York
BEGIN:DAYLIGHT
TZOFFSETFROM:-0500
TZOFFSETTO:-0400
TZNAME:EDT
DTSTART:20220313T070000
END:DAYLIGHT
BEGIN:STANDARD
TZOFFSETFROM:-0400
TZOFFSETTO:-0500
TZNAME:EST
DTSTART:20221106T060000
END:STANDARD
BEGIN:DAYLIGHT
TZOFFSETFROM:-0500
TZOFFSETTO:-0400
TZNAME:EDT
DTSTART:20230312T070000
END:DAYLIGHT
BEGIN:STANDARD
TZOFFSETFROM:-0400
TZOFFSETTO:-0500
TZNAME:EST
DTSTART:20231105T060000
END:STANDARD
BEGIN:DAYLIGHT
TZOFFSETFROM:-0500
TZOFFSETTO:-0400
TZNAME:EDT
DTSTART:20240310T070000
END:DAYLIGHT
BEGIN:STANDARD
TZOFFSETFROM:-0400
TZOFFSETTO:-0500
TZNAME:EST
DTSTART:20241103T060000
END:STANDARD
END:VTIMEZONE
BEGIN:VEVENT
DTSTART;TZID=America/New_York:20231216T150000
DTEND;TZID=America/New_York:20231216T163000
DTSTAMP:20260422T072709
CREATED:20231107T155826Z
LAST-MODIFIED:20231127T194306Z
UID:24843-1702738800-1702744200@cornwallct.org
SUMMARY:Book Signing with Caroline Nastro - The Wish House
DESCRIPTION:The Wish House will be hosting a Children’s Book Signing on Saturday\, December 16\, 3-4:30 P.M. with local author Caroline Nastro and her new book Outside Amelia’s Window to benefit the Cornwall Child Center. More info at wishhouse.com.
URL:https://cornwallct.org/event/book-signing-with-caroline-nastro-the-wish-house/
LOCATION:The Wish House\, 413 Sharon Goshen Turnpike\, West Cornwall\, CT\, 06796\, United States
ATTACH;FMTTYPE=image/jpeg:https://cornwallct.org/wp-content/uploads/2023/11/Outside-Amelias-Window-image-1-scaled.jpg
END:VEVENT
BEGIN:VEVENT
DTSTART;TZID=America/New_York:20231216T193000
DTEND;TZID=America/New_York:20231216T193000
DTSTAMP:20260422T072709
CREATED:20231114T125325Z
LAST-MODIFIED:20231210T143549Z
UID:24895-1702755000-1702755000@cornwallct.org
SUMMARY:Annual Christmas Pageant - UCC
DESCRIPTION:Calling all angels\, shepherds and neighbors! The annual pageant will be on Saturday\, December 16th at 7:30 p.m. (snow date Sunday\, December 17\, at 4 p.m.) at the UCC Village Meeting House on Bolton Hill Rd. Traditional readings and carols will culminate with the giving of “white gifts”. Please bring a toy wrapped in white paper to donate to children in need. Refreshments will be served after in the Parish House. Those interested in being in the pageant need to be at rehearsal on Friday\, December 15 at 7p.m. or call Jane P. at 860-672-6101.
URL:https://cornwallct.org/event/annual-christmas-pageant-2023/
LOCATION:United Church of Christ (UCC)\, 8 Bolton Hill Road\, Cornwall\, CT\, 06753
ATTACH;FMTTYPE=image/jpeg:https://cornwallct.org/wp-content/uploads/2020/11/ucc.jpg
END:VEVENT
END:VCALENDAR