BEGIN:VCALENDAR
VERSION:2.0
PRODID:-//Cornwall CT - ECPv6.15.20//NONSGML v1.0//EN
CALSCALE:GREGORIAN
METHOD:PUBLISH
X-ORIGINAL-URL:https://cornwallct.org
X-WR-CALDESC:Events for Cornwall CT
REFRESH-INTERVAL;VALUE=DURATION:PT1H
X-Robots-Tag:noindex
X-PUBLISHED-TTL:PT1H
BEGIN:VTIMEZONE
TZID:America/New_York
BEGIN:DAYLIGHT
TZOFFSETFROM:-0500
TZOFFSETTO:-0400
TZNAME:EDT
DTSTART:20220313T070000
END:DAYLIGHT
BEGIN:STANDARD
TZOFFSETFROM:-0400
TZOFFSETTO:-0500
TZNAME:EST
DTSTART:20221106T060000
END:STANDARD
BEGIN:DAYLIGHT
TZOFFSETFROM:-0500
TZOFFSETTO:-0400
TZNAME:EDT
DTSTART:20230312T070000
END:DAYLIGHT
BEGIN:STANDARD
TZOFFSETFROM:-0400
TZOFFSETTO:-0500
TZNAME:EST
DTSTART:20231105T060000
END:STANDARD
BEGIN:DAYLIGHT
TZOFFSETFROM:-0500
TZOFFSETTO:-0400
TZNAME:EDT
DTSTART:20240310T070000
END:DAYLIGHT
BEGIN:STANDARD
TZOFFSETFROM:-0400
TZOFFSETTO:-0500
TZNAME:EST
DTSTART:20241103T060000
END:STANDARD
END:VTIMEZONE
BEGIN:VEVENT
DTSTART;TZID=America/New_York:20231112T130000
DTEND;TZID=America/New_York:20231112T150000
DTSTAMP:20260421T212852
CREATED:20231013T163011Z
LAST-MODIFIED:20231013T163011Z
UID:24375-1699794000-1699801200@cornwallct.org
SUMMARY:Poetry and Art: A Creative Writing Workshop with Sally Van Doren - Library
DESCRIPTION:As poet Mark Van Doren once said: “The art of teaching is the art of assisting discovery.” This immersive workshop is designed to generate new writing through discovering and nurturing our poetic voices. Using in-class prompts\, we will explore how voice emerges and creates the distinctive character that makes our writing unique. Whatever form this new work takes\, whether it’s a poem\, a prose poem\, a short essay or other form of creative non-fiction\, these exercises will stimulate the writer’s imagination and inspire further exploration. A particular focus for this session will be ekphrastic writing\, which is writing that describes vividly and is in response to a work of art. Participants will be asked to bring in either a photograph or an image of an artwork that has sparked their interest. This session should be fruitful for those new to writing creatively as well as seasoned writers. We’ll draw upon the wonderful resource of a constructive small group to learn how others hear us and how we can best hear ourselves. \nSeating is limited and registration is required at cornwalllibrary.org.
URL:https://cornwallct.org/event/poetry-and-art-a-creative-writing-workshop-with-sally-van-doren-library/
LOCATION:The Cornwall Library\, 30 Pine St\, Cornwall\, CT\, 06753\, United States
ORGANIZER;CN="The Cornwall Library":MAILTO:director@cornwalllibrary.org
END:VEVENT
END:VCALENDAR