BEGIN:VCALENDAR
VERSION:2.0
PRODID:-//Cornwall CT - ECPv6.15.20//NONSGML v1.0//EN
CALSCALE:GREGORIAN
METHOD:PUBLISH
X-WR-CALNAME:Cornwall CT
X-ORIGINAL-URL:https://cornwallct.org
X-WR-CALDESC:Events for Cornwall CT
REFRESH-INTERVAL;VALUE=DURATION:PT1H
X-Robots-Tag:noindex
X-PUBLISHED-TTL:PT1H
BEGIN:VTIMEZONE
TZID:America/New_York
BEGIN:DAYLIGHT
TZOFFSETFROM:-0500
TZOFFSETTO:-0400
TZNAME:EDT
DTSTART:20220313T070000
END:DAYLIGHT
BEGIN:STANDARD
TZOFFSETFROM:-0400
TZOFFSETTO:-0500
TZNAME:EST
DTSTART:20221106T060000
END:STANDARD
BEGIN:DAYLIGHT
TZOFFSETFROM:-0500
TZOFFSETTO:-0400
TZNAME:EDT
DTSTART:20230312T070000
END:DAYLIGHT
BEGIN:STANDARD
TZOFFSETFROM:-0400
TZOFFSETTO:-0500
TZNAME:EST
DTSTART:20231105T060000
END:STANDARD
BEGIN:DAYLIGHT
TZOFFSETFROM:-0500
TZOFFSETTO:-0400
TZNAME:EDT
DTSTART:20240310T070000
END:DAYLIGHT
BEGIN:STANDARD
TZOFFSETFROM:-0400
TZOFFSETTO:-0500
TZNAME:EST
DTSTART:20241103T060000
END:STANDARD
END:VTIMEZONE
BEGIN:VEVENT
DTSTART;TZID=America/New_York:20231015T080000
DTEND;TZID=America/New_York:20231015T170000
DTSTAMP:20260421T123142
CREATED:20231015T224601Z
LAST-MODIFIED:20231015T224601Z
UID:24717-1697356800-1697389200@cornwallct.org
SUMMARY:Cornwall CT Volunteer Fire Dept .Open House 10/15/23 2pm
DESCRIPTION:
URL:https://cornwallct.org/event/cornwall-ct-volunteer-fire-dept-open-house-10-15-23-2pm/
END:VEVENT
BEGIN:VEVENT
DTSTART;TZID=America/New_York:20231015T120000
DTEND;TZID=America/New_York:20231015T140000
DTSTAMP:20260421T123142
CREATED:20230915T194841Z
LAST-MODIFIED:20230915T194841Z
UID:24023-1697371200-1697378400@cornwallct.org
SUMMARY:CVFD Open House
DESCRIPTION:The Cornwall Volunteer Fire Department is hosting an open house on Sunday\, October 15\, noon to 2 P.M. at West Cornwall Fire House. Come tour the fire station\, meet the firefighters and ambulance crew\, and view displays of important safety information. Touch a Truck or hop in the ambulance or Zodiac. “Kids Zone” of hands-on games\, relays\, and activities. Hotdogs\, drinks\, and snacks provided.
URL:https://cornwallct.org/event/cvfd-open-house/
LOCATION:West Cornwall Fire House\, 289 Sharon-Goshen Turnpike\, West Cornwall\, CT\, 06796\, United States
END:VEVENT
END:VCALENDAR