BEGIN:VCALENDAR
VERSION:2.0
PRODID:-//Cornwall CT - ECPv6.15.20//NONSGML v1.0//EN
CALSCALE:GREGORIAN
METHOD:PUBLISH
X-ORIGINAL-URL:https://cornwallct.org
X-WR-CALDESC:Events for Cornwall CT
REFRESH-INTERVAL;VALUE=DURATION:PT1H
X-Robots-Tag:noindex
X-PUBLISHED-TTL:PT1H
BEGIN:VTIMEZONE
TZID:America/New_York
BEGIN:DAYLIGHT
TZOFFSETFROM:-0500
TZOFFSETTO:-0400
TZNAME:EDT
DTSTART:20220313T070000
END:DAYLIGHT
BEGIN:STANDARD
TZOFFSETFROM:-0400
TZOFFSETTO:-0500
TZNAME:EST
DTSTART:20221106T060000
END:STANDARD
BEGIN:DAYLIGHT
TZOFFSETFROM:-0500
TZOFFSETTO:-0400
TZNAME:EDT
DTSTART:20230312T070000
END:DAYLIGHT
BEGIN:STANDARD
TZOFFSETFROM:-0400
TZOFFSETTO:-0500
TZNAME:EST
DTSTART:20231105T060000
END:STANDARD
BEGIN:DAYLIGHT
TZOFFSETFROM:-0500
TZOFFSETTO:-0400
TZNAME:EDT
DTSTART:20240310T070000
END:DAYLIGHT
BEGIN:STANDARD
TZOFFSETFROM:-0400
TZOFFSETTO:-0500
TZNAME:EST
DTSTART:20241103T060000
END:STANDARD
END:VTIMEZONE
BEGIN:VEVENT
DTSTART;TZID=America/New_York:20231013T080000
DTEND;TZID=America/New_York:20231013T170000
DTSTAMP:20260421T093645
CREATED:20231013T164602Z
LAST-MODIFIED:20231013T164602Z
UID:24379-1697184000-1697216400@cornwallct.org
SUMMARY:Cornwall Reads Cornwall - Library & Zoom
DESCRIPTION:This year it’s “Cornwall CT Reads Cornwall UK.” November 25\, at 4:00 at Cornwall Town Hall and via Zoom. \n 
URL:https://cornwallct.org/event/cornwall-reads-cornwall-library-zoom/
LOCATION:The Cornwall Library\, 30 Pine St\, Cornwall\, CT\, 06753\, United States
ORGANIZER;CN="The Cornwall Library":MAILTO:director@cornwalllibrary.org
END:VEVENT
BEGIN:VEVENT
DTSTART;TZID=America/New_York:20231013T163000
DTEND;TZID=America/New_York:20231013T183000
DTSTAMP:20260421T093645
CREATED:20230926T141112Z
LAST-MODIFIED:20230926T141112Z
UID:24214-1697214600-1697221800@cornwallct.org
SUMMARY:Meet & Chat with Jen Hurlburt Markow - Library
DESCRIPTION:Meet & Chat with Jen Hurlburt Markow\,  who is running for Cornwall selectman.  Friday\, October 13\, from 4:30 to 6:30 p.m.  Cornwall Library. 
URL:https://cornwallct.org/event/meet-chat-with-jen-hurlburt-markow-library/
LOCATION:The Cornwall Library\, 30 Pine St\, Cornwall\, CT\, 06753\, United States
END:VEVENT
BEGIN:VEVENT
DTSTART;TZID=America/New_York:20231013T173000
DTEND;TZID=America/New_York:20231013T173000
DTSTAMP:20260421T093645
CREATED:20230926T140947Z
LAST-MODIFIED:20230926T140947Z
UID:24213-1697218200-1697218200@cornwallct.org
SUMMARY:“Eager: The Surprising\, Secret Life Beavers and Why They Matter - Zoom
DESCRIPTION:“Eager: The Surprising\, Secret Life Beavers and Why They Matter”—a Zoom talk with environmental journalist Ben Goldfarb. October 13 at 5:30 p.m. Registration required at CornwallConservationTrust.org
URL:https://cornwallct.org/event/eager-the-surprising-secret-life-beavers-and-why-they-matter-zoom/
LOCATION:Zoom\, United States
END:VEVENT
END:VCALENDAR