BEGIN:VCALENDAR
VERSION:2.0
PRODID:-//Cornwall CT - ECPv6.15.20//NONSGML v1.0//EN
CALSCALE:GREGORIAN
METHOD:PUBLISH
X-WR-CALNAME:Cornwall CT
X-ORIGINAL-URL:https://cornwallct.org
X-WR-CALDESC:Events for Cornwall CT
REFRESH-INTERVAL;VALUE=DURATION:PT1H
X-Robots-Tag:noindex
X-PUBLISHED-TTL:PT1H
BEGIN:VTIMEZONE
TZID:America/New_York
BEGIN:DAYLIGHT
TZOFFSETFROM:-0500
TZOFFSETTO:-0400
TZNAME:EDT
DTSTART:20220313T070000
END:DAYLIGHT
BEGIN:STANDARD
TZOFFSETFROM:-0400
TZOFFSETTO:-0500
TZNAME:EST
DTSTART:20221106T060000
END:STANDARD
BEGIN:DAYLIGHT
TZOFFSETFROM:-0500
TZOFFSETTO:-0400
TZNAME:EDT
DTSTART:20230312T070000
END:DAYLIGHT
BEGIN:STANDARD
TZOFFSETFROM:-0400
TZOFFSETTO:-0500
TZNAME:EST
DTSTART:20231105T060000
END:STANDARD
BEGIN:DAYLIGHT
TZOFFSETFROM:-0500
TZOFFSETTO:-0400
TZNAME:EDT
DTSTART:20240310T070000
END:DAYLIGHT
BEGIN:STANDARD
TZOFFSETFROM:-0400
TZOFFSETTO:-0500
TZNAME:EST
DTSTART:20241103T060000
END:STANDARD
END:VTIMEZONE
BEGIN:VEVENT
DTSTART;TZID=America/New_York:20231011T120000
DTEND;TZID=America/New_York:20231011T170000
DTSTAMP:20260423T072410
CREATED:20231003T193751Z
LAST-MODIFIED:20231005T134945Z
UID:24270-1697025600-1697043600@cornwallct.org
SUMMARY:Flu Clinic
DESCRIPTION:*UPDATE* DUE TO SHORTAGES IN THE COVID-19 VACCINE\, WE FOUND OUT THAT WE WILL ONLY HAVE THE FLU VACCINE AT OUR OCTOBER 11TH CLINIC.  \n\n \nWE ARE SCHEDULING A SECOND DATE AT THE END OF OCTOBER\, OR EARLY NOVEMBER WITH THE HOPES THAT WE WILL BE ABLE TO INCLUDE THE COVID-19 VACCINE THEN. WE WILL ANNOUNCE THE DATE ONCE WE HAVE IT. \n\n\n \nAll insurances accepted.\nPlease bring a copy of your insurance card.\nAvailable to anyone 18 & older.\n \n 
URL:https://cornwallct.org/event/flu-clinic-2023/
LOCATION:Cornwall Town Hall\, 24-26 Pine Street\, Cornwall\, CT\, 06753\, United States
ATTACH;FMTTYPE=image/jpeg:https://cornwallct.org/wp-content/uploads/2023/10/Copy-of-Flu-Clinic.jpg
ORGANIZER;CN="Cornwall Park & Rec":MAILTO:prcornwall@gmail.com
END:VEVENT
END:VCALENDAR