BEGIN:VCALENDAR
VERSION:2.0
PRODID:-//Cornwall CT - ECPv6.15.20//NONSGML v1.0//EN
CALSCALE:GREGORIAN
METHOD:PUBLISH
X-ORIGINAL-URL:https://cornwallct.org
X-WR-CALDESC:Events for Cornwall CT
REFRESH-INTERVAL;VALUE=DURATION:PT1H
X-Robots-Tag:noindex
X-PUBLISHED-TTL:PT1H
BEGIN:VTIMEZONE
TZID:America/New_York
BEGIN:DAYLIGHT
TZOFFSETFROM:-0500
TZOFFSETTO:-0400
TZNAME:EDT
DTSTART:20220313T070000
END:DAYLIGHT
BEGIN:STANDARD
TZOFFSETFROM:-0400
TZOFFSETTO:-0500
TZNAME:EST
DTSTART:20221106T060000
END:STANDARD
BEGIN:DAYLIGHT
TZOFFSETFROM:-0500
TZOFFSETTO:-0400
TZNAME:EDT
DTSTART:20230312T070000
END:DAYLIGHT
BEGIN:STANDARD
TZOFFSETFROM:-0400
TZOFFSETTO:-0500
TZNAME:EST
DTSTART:20231105T060000
END:STANDARD
BEGIN:DAYLIGHT
TZOFFSETFROM:-0500
TZOFFSETTO:-0400
TZNAME:EDT
DTSTART:20240310T070000
END:DAYLIGHT
BEGIN:STANDARD
TZOFFSETFROM:-0400
TZOFFSETTO:-0500
TZNAME:EST
DTSTART:20241103T060000
END:STANDARD
END:VTIMEZONE
BEGIN:VEVENT
DTSTART;VALUE=DATE:20230930
DTEND;VALUE=DATE:20231004
DTSTAMP:20260421T110248
CREATED:20230705T181218Z
LAST-MODIFIED:20230705T181218Z
UID:23251-1696032000-1696377599@cornwallct.org
SUMMARY:The IronHike Endurance Series at Mohawk Mountain
DESCRIPTION:The IronHike Endurance Series at Mohawk Mountain is a single or multi-day event that is part hike\, part trail run\, part group camping trip\, part one-of-the-hardest-damn-things-you’ve-ever-done\, and full-on badass mountain footslog. \nAll Mountain Athletes show up Friday evening. You will set up your tent in the base camp right off the course with other Mountain Athletes and tenting spectators and all events in the series start at 7 am sharp on Saturday morning. This is an all-weather event. \nWe provide the mountain\, parking\, basecamp\, spectator areas\, restrooms\, facilities\, electronic timing\, custom and personalized bibs\, bib belts\, and a beastly blinged-out finishers’ medal for Individuals\, Trail Buddy FlexRelay\, and Trail Team FlexRelay teams! \nHike it\, run it\, alone or together\, or in our unique FlexRelay format with your trail family. \nRest when you need to.  Eat and water up when you need to. \nThis is your extreme mountain long-haul to manage and conquer! \nThere are four events in the IronHike Endurance Series: \n12-hour single-day 15-miler\, 48-hour 43-miler\, 72-hour 62-miler Everesting Trek and the holy grail of Ultra\, our 84-hour\, 72\,000 feet of elevation gain and loss Ultra\, named Olympus Mons after the highest mountain in the solar system on Mars! \nYou versus you\, you versus the mountain.  Prove yourself right about you!  You will be in great company with your new tribe of mountain athletes. \nRegister today before we sell out again! \nMohawk Mountain Ski Area\n46 Great Hollow Road\nCornwall\, CT US 06753\nEndurance Series Website\nAdditional Endurance Series information can be found at http://www.ironhike.com/mohawk-mountain-2023
URL:https://cornwallct.org/event/the-ironhike-endurance-series-at-mohawk-mountain/
END:VEVENT
BEGIN:VEVENT
DTSTART;TZID=America/New_York:20231003T090000
DTEND;TZID=America/New_York:20231003T110000
DTSTAMP:20260421T110248
CREATED:20230927T164445Z
LAST-MODIFIED:20230927T164632Z
UID:24222-1696323600-1696330800@cornwallct.org
SUMMARY:Voter Registration Session - Town Hall
DESCRIPTION:Voter Registration session will be held at the town hall on October 3 from 9am to 11am. Registration applications are available at the town hall and Library as well as on-line (http://voterregistration.ct.gov/).
URL:https://cornwallct.org/event/voter-registration-session-town-hall-2/
LOCATION:Cornwall Town Hall\, 24-26 Pine Street\, Cornwall\, CT\, 06753\, United States
END:VEVENT
END:VCALENDAR