BEGIN:VCALENDAR
VERSION:2.0
PRODID:-//Cornwall CT - ECPv6.15.20//NONSGML v1.0//EN
CALSCALE:GREGORIAN
METHOD:PUBLISH
X-ORIGINAL-URL:https://cornwallct.org
X-WR-CALDESC:Events for Cornwall CT
REFRESH-INTERVAL;VALUE=DURATION:PT1H
X-Robots-Tag:noindex
X-PUBLISHED-TTL:PT1H
BEGIN:VTIMEZONE
TZID:America/New_York
BEGIN:DAYLIGHT
TZOFFSETFROM:-0500
TZOFFSETTO:-0400
TZNAME:EDT
DTSTART:20220313T070000
END:DAYLIGHT
BEGIN:STANDARD
TZOFFSETFROM:-0400
TZOFFSETTO:-0500
TZNAME:EST
DTSTART:20221106T060000
END:STANDARD
BEGIN:DAYLIGHT
TZOFFSETFROM:-0500
TZOFFSETTO:-0400
TZNAME:EDT
DTSTART:20230312T070000
END:DAYLIGHT
BEGIN:STANDARD
TZOFFSETFROM:-0400
TZOFFSETTO:-0500
TZNAME:EST
DTSTART:20231105T060000
END:STANDARD
BEGIN:DAYLIGHT
TZOFFSETFROM:-0500
TZOFFSETTO:-0400
TZNAME:EDT
DTSTART:20240310T070000
END:DAYLIGHT
BEGIN:STANDARD
TZOFFSETFROM:-0400
TZOFFSETTO:-0500
TZNAME:EST
DTSTART:20241103T060000
END:STANDARD
END:VTIMEZONE
BEGIN:VEVENT
DTSTART;TZID=America/New_York:20230805T100000
DTEND;TZID=America/New_York:20230805T123000
DTSTAMP:20260423T011914
CREATED:20230717T112036Z
LAST-MODIFIED:20230717T112509Z
UID:23337-1691229600-1691238600@cornwallct.org
SUMMARY:Roxana Geffen Collage Workshop - Library
DESCRIPTION:Roxana Geffen will teach a 2 1/2 hour collage workshop for up to 25 adults.   Fee: $25 per person.  Saturday\,  August 5 from 10am until 12:30pm.  Registration is required at Cornwalllibrary.org.\n \n“Everyday the tide of my life leaves piles of small things on my shore: opened envelopes\, scraps of fabric\, candy wrappers\, bits of plastic or metal. Every once in a while something with an interesting shape\, or exciting color combination or intricate pattern will catch my eye and I’ll save it. Through my collages I assemble these pieces into a new whole. I look at the things’ formal qualities (size\, shape\, color\, texture) and work to create a new world for them\, a visual landscape where a long strip of yellow envelope or lollipop wrapper feels essential.\n \nYou too can make art out of your life! Bring your own scraps and join me in collage-making. Bring any small things that seem interesting looking to you and can reasonably be glued or stitched to a piece of paper. You will also have your pick of scraps from my collection. Together we will find ways to look at and combine them all\, making new worlds out of old things.”\n \nInstructions\, paper\, additional collage materials\, needles and thread\, glue and scissors will be provided.\n \nWorkshop schedule:\n-Roxana will talk about her work in the show (20 mins with questions)\n-Then she will explain the process she uses to make the collages and distribute materials (20 mins)\n-Roxana will help people make their own collages and will photograph the collages at the end
URL:https://cornwallct.org/event/roxana-geffen-collage-workshop/
LOCATION:The Cornwall Library\, 30 Pine St\, Cornwall\, CT\, 06753\, United States
ORGANIZER;CN="The Cornwall Library":MAILTO:director@cornwalllibrary.org
END:VEVENT
BEGIN:VEVENT
DTSTART;TZID=America/New_York:20230805T160000
DTEND;TZID=America/New_York:20230805T180000
DTSTAMP:20260423T011914
CREATED:20230715T111503Z
LAST-MODIFIED:20230715T111503Z
UID:23331-1691251200-1691258400@cornwallct.org
SUMMARY:Exhibition Reception - Cornwall Historical Society
DESCRIPTION:Join us at the Cornwall Historical Society for a reception to celebrate the installation of two new exhibitions. Touring the Countryside: Postcards from Cornwall\, Kent\, and Warren presents a nostalgic look at Cornwall and the two towns on its southern border through vintage postcards and photos. The Understory\, a project by artist Richard Klein\, contemplates the remnants of the iron industry that flourished in the region in the 18th and 19th centuries. The reception is Saturday\, August 5 from 4 to 6 pm. and will include wine and light appetizers.
URL:https://cornwallct.org/event/exhibition-reception-cornwall-historical-society/
LOCATION:Cornwall Historical Society\, 7 Pine Street\, Cornwall\, CT\, 06753
END:VEVENT
END:VCALENDAR