BEGIN:VCALENDAR
VERSION:2.0
PRODID:-//Cornwall CT - ECPv6.15.20//NONSGML v1.0//EN
CALSCALE:GREGORIAN
METHOD:PUBLISH
X-ORIGINAL-URL:https://cornwallct.org
X-WR-CALDESC:Events for Cornwall CT
REFRESH-INTERVAL;VALUE=DURATION:PT1H
X-Robots-Tag:noindex
X-PUBLISHED-TTL:PT1H
BEGIN:VTIMEZONE
TZID:America/New_York
BEGIN:DAYLIGHT
TZOFFSETFROM:-0500
TZOFFSETTO:-0400
TZNAME:EDT
DTSTART:20220313T070000
END:DAYLIGHT
BEGIN:STANDARD
TZOFFSETFROM:-0400
TZOFFSETTO:-0500
TZNAME:EST
DTSTART:20221106T060000
END:STANDARD
BEGIN:DAYLIGHT
TZOFFSETFROM:-0500
TZOFFSETTO:-0400
TZNAME:EDT
DTSTART:20230312T070000
END:DAYLIGHT
BEGIN:STANDARD
TZOFFSETFROM:-0400
TZOFFSETTO:-0500
TZNAME:EST
DTSTART:20231105T060000
END:STANDARD
BEGIN:DAYLIGHT
TZOFFSETFROM:-0500
TZOFFSETTO:-0400
TZNAME:EDT
DTSTART:20240310T070000
END:DAYLIGHT
BEGIN:STANDARD
TZOFFSETFROM:-0400
TZOFFSETTO:-0500
TZNAME:EST
DTSTART:20241103T060000
END:STANDARD
END:VTIMEZONE
BEGIN:VEVENT
DTSTART;TZID=America/New_York:20230701T100000
DTEND;TZID=America/New_York:20230701T150000
DTSTAMP:20260421T082348
CREATED:20230516T153858Z
LAST-MODIFIED:20230516T153858Z
UID:22527-1688205600-1688223600@cornwallct.org
SUMMARY:Historical Society Summer Program
DESCRIPTION:The Cornwall Historical Society is launching a new summer program for aspiring filmmakers and historians. The program offers a chance for students aged 12-17\, to write\, shoot\, and edit their own short film about a subject of local historical interest under guidance of a mentor and history consultant. Completed shorts will be shown at a public screening and become part of Cornwall Historical Society’s permanent collection. July 1\, 10 A.M. to 3 P.M. Spots are limited. For more information\, email: info@cornwallhistoricalsociety.org.
URL:https://cornwallct.org/event/historical-society-summer-program/
LOCATION:Cornwall Historical Society\, 7 Pine Street\, Cornwall\, CT\, 06753
END:VEVENT
BEGIN:VEVENT
DTSTART;TZID=America/New_York:20230701T100000
DTEND;TZID=America/New_York:20230701T150000
DTSTAMP:20260421T082348
CREATED:20230628T161150Z
LAST-MODIFIED:20230628T161150Z
UID:23197-1688205600-1688223600@cornwallct.org
SUMMARY:Exhibition Openings - Cornwall Historical Society
DESCRIPTION:The 2023 season opens on Saturday\, July 1\, from 10AM to 3PM with two new exhibitions: “Touring the Countryside: Postcards from Cornwall\, Kent\, and Warren!” and “The Understory” focusing on iron mining and foundry remains still visible in the Cornwall woods\, Saturdays only. “The Understory” is a revised version of the “Housatonic” exhibition previously planned.
URL:https://cornwallct.org/event/exhibition-openings-cornwall-historical-society/
LOCATION:Cornwall Historical Society\, 7 Pine Street\, Cornwall\, CT\, 06753
ATTACH;FMTTYPE=image/jpeg:https://cornwallct.org/wp-content/uploads/2023/06/MM-Ad.jpg
END:VEVENT
BEGIN:VEVENT
DTSTART;TZID=America/New_York:20230701T170000
DTEND;TZID=America/New_York:20230701T170000
DTSTAMP:20260421T082348
CREATED:20230515T215230Z
LAST-MODIFIED:20230515T215230Z
UID:22484-1688230800-1688230800@cornwallct.org
SUMMARY:Author Talk: Margaret Klaw - Live and Zoom
DESCRIPTION:Family law attorney Margaret Klaw will discuss her debut novel\, Every Other Weekend\, on July 1 at 5pm. A contemporary divorce novel\, both funny and poignant\, Every Other Weekend includes a courtroom drama and a millennial polyamorous girlfriend. Centered around forty-ish hipster dad Jake\, the story unfolds from multiple points of view\, including those of other family members\, both human and canine\, Jake’s self-absorbed divorce lawyer\, a cranky family court judge who presides over his custody case\, and various choruses of friends and neighbors who gossip\, dissect and weigh in. Registration is required for this hybrid event.
URL:https://cornwallct.org/event/author-talk-margaret-klaw-live-and-zoom/
LOCATION:The Cornwall Library\, 30 Pine St\, Cornwall\, CT\, 06753\, United States
ORGANIZER;CN="The Cornwall Library":MAILTO:director@cornwalllibrary.org
END:VEVENT
BEGIN:VEVENT
DTSTART;TZID=America/New_York:20230701T180000
DTEND;TZID=America/New_York:20230701T200000
DTSTAMP:20260421T082348
CREATED:20230624T122101Z
LAST-MODIFIED:20230630T161857Z
UID:23144-1688234400-1688241600@cornwallct.org
SUMMARY:Annual Town Picnic
DESCRIPTION:
URL:https://cornwallct.org/event/annual-town-picnic-2023/
ATTACH;FMTTYPE=image/jpeg:https://cornwallct.org/wp-content/uploads/2020/10/hammond-e1715265789970.jpg
END:VEVENT
BEGIN:VEVENT
DTSTART;TZID=America/New_York:20230701T190000
DTEND;TZID=America/New_York:20230701T213000
DTSTAMP:20260421T082348
CREATED:20230620T184323Z
LAST-MODIFIED:20230620T184323Z
UID:23117-1688238000-1688247000@cornwallct.org
SUMMARY:Traditional NE Country Dance - Town Hall
DESCRIPTION:Cornwall Town Hall with teaching caller Peter Stix\nLive music by Relatively Sound (Jim\, Jane\, and Mike Prentice\, Shaila Chowdhury\, and Ren Nixon)\n\n\nMotherhouse is getting back in the swing with the first of our first Saturday dances since the pandemic shutdown.\nSuggested Donation: $5-8/child\, $12-15/adult\, $25/family\nFor more info contact Debra@Motherhouse.us or 860-671-7945 \nHomegrown organic entertainment organized by Motherhouse\, Inc\nnurturing Self\, Family\, Community\, and our Mother Earth
URL:https://cornwallct.org/event/traditional-ne-country-dance-town-hall/
LOCATION:Cornwall Town Hall\, 24-26 Pine Street\, Cornwall\, CT\, 06753\, United States
END:VEVENT
END:VCALENDAR