BEGIN:VCALENDAR
VERSION:2.0
PRODID:-//Cornwall CT - ECPv6.15.20//NONSGML v1.0//EN
CALSCALE:GREGORIAN
METHOD:PUBLISH
X-WR-CALNAME:Cornwall CT
X-ORIGINAL-URL:https://cornwallct.org
X-WR-CALDESC:Events for Cornwall CT
REFRESH-INTERVAL;VALUE=DURATION:PT1H
X-Robots-Tag:noindex
X-PUBLISHED-TTL:PT1H
BEGIN:VTIMEZONE
TZID:America/New_York
BEGIN:DAYLIGHT
TZOFFSETFROM:-0500
TZOFFSETTO:-0400
TZNAME:EDT
DTSTART:20220313T070000
END:DAYLIGHT
BEGIN:STANDARD
TZOFFSETFROM:-0400
TZOFFSETTO:-0500
TZNAME:EST
DTSTART:20221106T060000
END:STANDARD
BEGIN:DAYLIGHT
TZOFFSETFROM:-0500
TZOFFSETTO:-0400
TZNAME:EDT
DTSTART:20230312T070000
END:DAYLIGHT
BEGIN:STANDARD
TZOFFSETFROM:-0400
TZOFFSETTO:-0500
TZNAME:EST
DTSTART:20231105T060000
END:STANDARD
BEGIN:DAYLIGHT
TZOFFSETFROM:-0500
TZOFFSETTO:-0400
TZNAME:EDT
DTSTART:20240310T070000
END:DAYLIGHT
BEGIN:STANDARD
TZOFFSETFROM:-0400
TZOFFSETTO:-0500
TZNAME:EST
DTSTART:20241103T060000
END:STANDARD
END:VTIMEZONE
BEGIN:VEVENT
DTSTART;TZID=America/New_York:20230624T150000
DTEND;TZID=America/New_York:20230624T163000
DTSTAMP:20260425T170443
CREATED:20230516T152043Z
LAST-MODIFIED:20230516T152043Z
UID:22524-1687618800-1687624200@cornwallct.org
SUMMARY:Gardener’s Lab: Jeb Breece Meadow Talk
DESCRIPTION:Gardener’s Lab: Jeb Breece Meadow Talk June 24\, 3 to 4:30 P.M. Explore how to establish native wildflowers and grasses in your meadow. Salisbury\, CT. Space is limited. RSVP by May 22 to cornwallgardenclub.org/rsvp. \n.
URL:https://cornwallct.org/event/gardeners-lab-jeb-breece-meadow-talk/
ORGANIZER;CN="Cornwall Garden Club":MAILTO:cornwallgardenclub1@gmail.com
END:VEVENT
BEGIN:VEVENT
DTSTART;TZID=America/New_York:20230624T190000
DTEND;TZID=America/New_York:20230624T203000
DTSTAMP:20260425T170443
CREATED:20230516T131450Z
LAST-MODIFIED:20230516T131450Z
UID:22519-1687633200-1687638600@cornwallct.org
SUMMARY:Community Basic First Aid - West Cornwall Fire House
DESCRIPTION:
URL:https://cornwallct.org/event/community-basic-first-aid-west-cornwall-fire-house/
LOCATION:West Cornwall Fire House\, 289 Sharon-Goshen Turnpike\, West Cornwall\, CT\, 06796\, United States
END:VEVENT
END:VCALENDAR