BEGIN:VCALENDAR
VERSION:2.0
PRODID:-//Cornwall CT - ECPv6.15.20//NONSGML v1.0//EN
CALSCALE:GREGORIAN
METHOD:PUBLISH
X-WR-CALNAME:Cornwall CT
X-ORIGINAL-URL:https://cornwallct.org
X-WR-CALDESC:Events for Cornwall CT
REFRESH-INTERVAL;VALUE=DURATION:PT1H
X-Robots-Tag:noindex
X-PUBLISHED-TTL:PT1H
BEGIN:VTIMEZONE
TZID:America/New_York
BEGIN:DAYLIGHT
TZOFFSETFROM:-0500
TZOFFSETTO:-0400
TZNAME:EDT
DTSTART:20220313T070000
END:DAYLIGHT
BEGIN:STANDARD
TZOFFSETFROM:-0400
TZOFFSETTO:-0500
TZNAME:EST
DTSTART:20221106T060000
END:STANDARD
BEGIN:DAYLIGHT
TZOFFSETFROM:-0500
TZOFFSETTO:-0400
TZNAME:EDT
DTSTART:20230312T070000
END:DAYLIGHT
BEGIN:STANDARD
TZOFFSETFROM:-0400
TZOFFSETTO:-0500
TZNAME:EST
DTSTART:20231105T060000
END:STANDARD
BEGIN:DAYLIGHT
TZOFFSETFROM:-0500
TZOFFSETTO:-0400
TZNAME:EDT
DTSTART:20240310T070000
END:DAYLIGHT
BEGIN:STANDARD
TZOFFSETFROM:-0400
TZOFFSETTO:-0500
TZNAME:EST
DTSTART:20241103T060000
END:STANDARD
END:VTIMEZONE
BEGIN:VEVENT
DTSTART;TZID=America/New_York:20230527T100000
DTEND;TZID=America/New_York:20230527T140000
DTSTAMP:20260425T065328
CREATED:20230414T004326Z
LAST-MODIFIED:20230414T004326Z
UID:22095-1685181600-1685196000@cornwallct.org
SUMMARY:Under the Tent Book Sale - Library
DESCRIPTION:The Book sale under the tent returns Memorial Day weekend\, Saturday 27th from 10 until 2\, Sunday\, May 28th from 11 until 2\, and Monday\, May 29th from 10 until 2.  Fill a bag for $5 on Sunday.  
URL:https://cornwallct.org/event/under-the-tent-book-sale-library-2/2023-05-27/
LOCATION:The Cornwall Library\, 30 Pine St\, Cornwall\, CT\, 06753\, United States
ORGANIZER;CN="The Cornwall Library":MAILTO:director@cornwalllibrary.org
END:VEVENT
BEGIN:VEVENT
DTSTART;TZID=America/New_York:20230527T150000
DTEND;TZID=America/New_York:20230527T180000
DTSTAMP:20260425T065328
CREATED:20230507T215411Z
LAST-MODIFIED:20230507T215411Z
UID:22422-1685199600-1685210400@cornwallct.org
SUMMARY:Gallery Opening: Matrix - Souterrain Gallery
DESCRIPTION:MATRIX\, a series of painted portraits of 15 women\, their mothers\, and their grandmothers (with relics and mementos from those portrayed) in the gallery. \nThe participants in the gallery portraits will bring photos and stories to share about their mothers and grandmothers. You are invited to bring photos\, too. \nTea and cookies will be served.
URL:https://cornwallct.org/event/gallery-opening-matrix-souterrain-gallery/
LOCATION:The Souterrain Gallery\, 413 Sharon Goshen Turnpike\, West Cornwall\, CT\, 06796\, United States
ATTACH;FMTTYPE=image/jpeg:https://cornwallct.org/wp-content/uploads/2023/05/MatrixPostcard.jpg
ORGANIZER;CN="The Souterrain Gallery":MAILTO:wishhouse@optonline.net
END:VEVENT
END:VCALENDAR