BEGIN:VCALENDAR
VERSION:2.0
PRODID:-//Cornwall CT - ECPv6.15.20//NONSGML v1.0//EN
CALSCALE:GREGORIAN
METHOD:PUBLISH
X-ORIGINAL-URL:https://cornwallct.org
X-WR-CALDESC:Events for Cornwall CT
REFRESH-INTERVAL;VALUE=DURATION:PT1H
X-Robots-Tag:noindex
X-PUBLISHED-TTL:PT1H
BEGIN:VTIMEZONE
TZID:America/New_York
BEGIN:DAYLIGHT
TZOFFSETFROM:-0500
TZOFFSETTO:-0400
TZNAME:EDT
DTSTART:20220313T070000
END:DAYLIGHT
BEGIN:STANDARD
TZOFFSETFROM:-0400
TZOFFSETTO:-0500
TZNAME:EST
DTSTART:20221106T060000
END:STANDARD
BEGIN:DAYLIGHT
TZOFFSETFROM:-0500
TZOFFSETTO:-0400
TZNAME:EDT
DTSTART:20230312T070000
END:DAYLIGHT
BEGIN:STANDARD
TZOFFSETFROM:-0400
TZOFFSETTO:-0500
TZNAME:EST
DTSTART:20231105T060000
END:STANDARD
BEGIN:DAYLIGHT
TZOFFSETFROM:-0500
TZOFFSETTO:-0400
TZNAME:EDT
DTSTART:20240310T070000
END:DAYLIGHT
BEGIN:STANDARD
TZOFFSETFROM:-0400
TZOFFSETTO:-0500
TZNAME:EST
DTSTART:20241103T060000
END:STANDARD
END:VTIMEZONE
BEGIN:VEVENT
DTSTART;VALUE=DATE:20230505
DTEND;VALUE=DATE:20230512
DTSTAMP:20260421T195059
CREATED:20230424T184430Z
LAST-MODIFIED:20230424T184526Z
UID:22287-1683244800-1683849599@cornwallct.org
SUMMARY:Bakes for Breast Cancer CT
DESCRIPTION:Suzie’s Bake Stand in Cornwall Bridge is set to participate in Bakes for Breast Cancer CT from Friday\, May 5 through Thursday\, May 11\, 2023. Suzie’s Bake Stand will dedicate 50% of its sales from all dessert items back to Bakes for Breast Cancer Connecticut. To learn more\, visit www.bakesforbreastcancer.org.
URL:https://cornwallct.org/event/bakes-for-breast-cancer-ct/
END:VEVENT
BEGIN:VEVENT
DTSTART;TZID=America/New_York:20230509T120000
DTEND;TZID=America/New_York:20230509T130000
DTSTAMP:20260421T195059
CREATED:20230424T184030Z
LAST-MODIFIED:20230424T184112Z
UID:22284-1683633600-1683637200@cornwallct.org
SUMMARY:Monthly Senior Luncheon
DESCRIPTION:The senior monthly luncheon will be held at the UCC Parish House on Tuesday\, May 9 at noon. Please RSVP by Friday\, May 5 to park.recreation@cornwall.gov or call/text 860-480-0600.
URL:https://cornwallct.org/event/monthly-senior-luncheon-may/
LOCATION:UCC Parish House\, 8 Bolton Hill Road\, Cornwall\, CT\, 06753
ATTACH;FMTTYPE=image/jpeg:https://cornwallct.org/wp-content/uploads/2022/04/Luncheon-web.jpg
ORGANIZER;CN="Cornwall Park & Rec":MAILTO:prcornwall@gmail.com
END:VEVENT
BEGIN:VEVENT
DTSTART;TZID=America/New_York:20230509T170000
DTEND;TZID=America/New_York:20230509T170000
DTSTAMP:20260421T195059
CREATED:20221216T153049Z
LAST-MODIFIED:20230508T151117Z
UID:21060-1683651600-1683651600@cornwallct.org
SUMMARY:West Cornwall Septic Committee - Zoom
DESCRIPTION:
URL:https://cornwallct.org/event/west-cornwall-septic-committee-2023-2023-05-09/
LOCATION:Virtual
ATTACH;FMTTYPE=image/jpeg:https://cornwallct.org/wp-content/uploads/2020/12/West-Cornwall-Covered-Bridge-CT.jpg
END:VEVENT
BEGIN:VEVENT
DTSTART;TZID=America/New_York:20230509T190000
DTEND;TZID=America/New_York:20230509T190000
DTSTAMP:20260421T195059
CREATED:20230412T235727Z
LAST-MODIFIED:20230412T235727Z
UID:22076-1683658800-1683658800@cornwallct.org
SUMMARY:Public Hearing on the Zoning Regulation Reformat - Library
DESCRIPTION:
URL:https://cornwallct.org/event/public-hearing-on-the-zoning-regulation-reformat-library/
LOCATION:The Cornwall Library\, 30 Pine St\, Cornwall\, CT\, 06753\, United States
END:VEVENT
END:VCALENDAR