BEGIN:VCALENDAR
VERSION:2.0
PRODID:-//Cornwall CT - ECPv6.15.20//NONSGML v1.0//EN
CALSCALE:GREGORIAN
METHOD:PUBLISH
X-ORIGINAL-URL:https://cornwallct.org
X-WR-CALDESC:Events for Cornwall CT
REFRESH-INTERVAL;VALUE=DURATION:PT1H
X-Robots-Tag:noindex
X-PUBLISHED-TTL:PT1H
BEGIN:VTIMEZONE
TZID:America/New_York
BEGIN:DAYLIGHT
TZOFFSETFROM:-0500
TZOFFSETTO:-0400
TZNAME:EDT
DTSTART:20220313T070000
END:DAYLIGHT
BEGIN:STANDARD
TZOFFSETFROM:-0400
TZOFFSETTO:-0500
TZNAME:EST
DTSTART:20221106T060000
END:STANDARD
BEGIN:DAYLIGHT
TZOFFSETFROM:-0500
TZOFFSETTO:-0400
TZNAME:EDT
DTSTART:20230312T070000
END:DAYLIGHT
BEGIN:STANDARD
TZOFFSETFROM:-0400
TZOFFSETTO:-0500
TZNAME:EST
DTSTART:20231105T060000
END:STANDARD
BEGIN:DAYLIGHT
TZOFFSETFROM:-0500
TZOFFSETTO:-0400
TZNAME:EDT
DTSTART:20240310T070000
END:DAYLIGHT
BEGIN:STANDARD
TZOFFSETFROM:-0400
TZOFFSETTO:-0500
TZNAME:EST
DTSTART:20241103T060000
END:STANDARD
END:VTIMEZONE
BEGIN:VEVENT
DTSTART;TZID=America/New_York:20230416T113000
DTEND;TZID=America/New_York:20230416T133000
DTSTAMP:20260425T191229
CREATED:20230312T150643Z
LAST-MODIFIED:20230312T150643Z
UID:21767-1681644600-1681651800@cornwallct.org
SUMMARY:Opening Reception: “Windowsill Art: Unframed Frames of Minds” - UCC Parish House
DESCRIPTION:At the Parish House\, a show of photographs\, watercolors\, and drawings by Lori Blakey Welles and David Blakey\, titled “Windowsill Art: Unframed Frames of Minds” from April 16 through May 31. All are invited to the opening reception on Sunday\, April 16\, from 11:30 am to 1:30 pm. Gallery hours are Monday thru Thursday from 9 am until noon\, Sundays from 10 am until noon\, and by appointment (theballyhack@gmail.com). For info\, call the church office 860-672-6840.
URL:https://cornwallct.org/event/opening-reception-windowsill-art-unframed-frames-of-minds-ucc-parish-house/
LOCATION:UCC Parish House\, 8 Bolton Hill Road\, Cornwall\, CT\, 06753
END:VEVENT
END:VCALENDAR