BEGIN:VCALENDAR
VERSION:2.0
PRODID:-//Cornwall CT - ECPv6.15.20//NONSGML v1.0//EN
CALSCALE:GREGORIAN
METHOD:PUBLISH
X-WR-CALNAME:Cornwall CT
X-ORIGINAL-URL:https://cornwallct.org
X-WR-CALDESC:Events for Cornwall CT
REFRESH-INTERVAL;VALUE=DURATION:PT1H
X-Robots-Tag:noindex
X-PUBLISHED-TTL:PT1H
BEGIN:VTIMEZONE
TZID:America/New_York
BEGIN:DAYLIGHT
TZOFFSETFROM:-0500
TZOFFSETTO:-0400
TZNAME:EDT
DTSTART:20220313T070000
END:DAYLIGHT
BEGIN:STANDARD
TZOFFSETFROM:-0400
TZOFFSETTO:-0500
TZNAME:EST
DTSTART:20221106T060000
END:STANDARD
BEGIN:DAYLIGHT
TZOFFSETFROM:-0500
TZOFFSETTO:-0400
TZNAME:EDT
DTSTART:20230312T070000
END:DAYLIGHT
BEGIN:STANDARD
TZOFFSETFROM:-0400
TZOFFSETTO:-0500
TZNAME:EST
DTSTART:20231105T060000
END:STANDARD
BEGIN:DAYLIGHT
TZOFFSETFROM:-0500
TZOFFSETTO:-0400
TZNAME:EDT
DTSTART:20240310T070000
END:DAYLIGHT
BEGIN:STANDARD
TZOFFSETFROM:-0400
TZOFFSETTO:-0500
TZNAME:EST
DTSTART:20241103T060000
END:STANDARD
END:VTIMEZONE
BEGIN:VEVENT
DTSTART;TZID=America/New_York:20230401T100000
DTEND;TZID=America/New_York:20230401T110000
DTSTAMP:20260421T184453
CREATED:20230301T180710Z
LAST-MODIFIED:20230301T180710Z
UID:21593-1680343200-1680346800@cornwallct.org
SUMMARY:Cornwall Village Improvement Society Annual Meeting - Library
DESCRIPTION:Annual Meeting Saturday\, April 1st. at 10:00 am.\nCornwall Library on Pine Street.
URL:https://cornwallct.org/event/cornwall-village-improvement-society-annual-meeting-library/
LOCATION:The Cornwall Library\, 30 Pine St\, Cornwall\, CT\, 06753\, United States
END:VEVENT
BEGIN:VEVENT
DTSTART;TZID=America/New_York:20230401T100000
DTEND;TZID=America/New_York:20230401T120000
DTSTAMP:20260421T184453
CREATED:20230215T180842Z
LAST-MODIFIED:20230215T180842Z
UID:21512-1680343200-1680350400@cornwallct.org
SUMMARY:Community Spring Celebration - Foote Field Pavillion
DESCRIPTION:Saturday\, April 1 from 10:00am-12:00pm\, at the Foote Field Pavillion.  Crafts\, Egg Hunting\, and the Park and Rec Bunny!
URL:https://cornwallct.org/event/community-spring-celebration-foote-field-pavillion/
LOCATION:Foote Fields\, Furnace Brook Road\, Cornwall Bridge\, CT\, 06754
ORGANIZER;CN="Cornwall Park & Rec":MAILTO:prcornwall@gmail.com
END:VEVENT
BEGIN:VEVENT
DTSTART;TZID=America/New_York:20230401T100000
DTEND;TZID=America/New_York:20230401T120000
DTSTAMP:20260421T184453
CREATED:20230320T191525Z
LAST-MODIFIED:20230331T130359Z
UID:21839-1680343200-1680350400@cornwallct.org
SUMMARY:Park & Recreation Spring Celebration - Foote Field Pavillion
DESCRIPTION:Celebrate spring with the Park & Rec Bunny on Saturday\, April 1 from 10 A.M. to noon at the Foote Field Pavilion. Crafts and an egg hunt.
URL:https://cornwallct.org/event/park-recreation-spring-celebration-foote-field-pavillion/
LOCATION:Foote Fields\, Furnace Brook Road\, Cornwall Bridge\, CT\, 06754
ATTACH;FMTTYPE=image/jpeg:https://cornwallct.org/wp-content/uploads/2022/04/eater.jpg
ORGANIZER;CN="Cornwall Park & Rec":MAILTO:prcornwall@gmail.com
END:VEVENT
END:VCALENDAR