BEGIN:VCALENDAR
VERSION:2.0
PRODID:-//Cornwall CT - ECPv6.15.20//NONSGML v1.0//EN
CALSCALE:GREGORIAN
METHOD:PUBLISH
X-ORIGINAL-URL:https://cornwallct.org
X-WR-CALDESC:Events for Cornwall CT
REFRESH-INTERVAL;VALUE=DURATION:PT1H
X-Robots-Tag:noindex
X-PUBLISHED-TTL:PT1H
BEGIN:VTIMEZONE
TZID:America/New_York
BEGIN:DAYLIGHT
TZOFFSETFROM:-0500
TZOFFSETTO:-0400
TZNAME:EDT
DTSTART:20220313T070000
END:DAYLIGHT
BEGIN:STANDARD
TZOFFSETFROM:-0400
TZOFFSETTO:-0500
TZNAME:EST
DTSTART:20221106T060000
END:STANDARD
BEGIN:DAYLIGHT
TZOFFSETFROM:-0500
TZOFFSETTO:-0400
TZNAME:EDT
DTSTART:20230312T070000
END:DAYLIGHT
BEGIN:STANDARD
TZOFFSETFROM:-0400
TZOFFSETTO:-0500
TZNAME:EST
DTSTART:20231105T060000
END:STANDARD
BEGIN:DAYLIGHT
TZOFFSETFROM:-0500
TZOFFSETTO:-0400
TZNAME:EDT
DTSTART:20240310T070000
END:DAYLIGHT
BEGIN:STANDARD
TZOFFSETFROM:-0400
TZOFFSETTO:-0500
TZNAME:EST
DTSTART:20241103T060000
END:STANDARD
END:VTIMEZONE
BEGIN:VEVENT
DTSTART;TZID=America/New_York:20230225T110000
DTEND;TZID=America/New_York:20230225T130000
DTSTAMP:20260424T165426
CREATED:20230201T213610Z
LAST-MODIFIED:20230201T213610Z
UID:21390-1677322800-1677330000@cornwallct.org
SUMMARY:Beginners Knitting Course - The Union
DESCRIPTION:Learn knitting basics and make a scarf over 3 class sessions. \nPurchase materials from Clover Hill Alpacas ($50) or BYO yarn and needles. \nInstructors: Susan Saccardi\, Fiona Ocain\, & Kathy Martin-Ocain \nFebruary 25\, March 4 and 11 \n11am to 1pm \nSign up for one session ($20) or all three ($50). \nEmail coverhillalpacas@gmail.com to register.
URL:https://cornwallct.org/event/beginners-knitting-course-the-union/2023-02-25/
LOCATION:The Union\, 415 Sharon-Goshen Turnpike\, West Cornwall\, CT\, 06796
ATTACH;FMTTYPE=image/jpeg:https://cornwallct.org/wp-content/uploads/2023/02/KNITTING-CLASS-POSTER-8.5-×-11-in-1080-×-1350-px.jpeg
END:VEVENT
BEGIN:VEVENT
DTSTART;TZID=America/New_York:20230225T160000
DTEND;TZID=America/New_York:20230225T170000
DTSTAMP:20260424T165426
CREATED:20230116T193804Z
LAST-MODIFIED:20230116T193804Z
UID:21259-1677340800-1677344400@cornwallct.org
SUMMARY:Destination Antarctica - Library
DESCRIPTION:Brooke and Martin Chalk will give a talk and presentation on their adventures from an epic trip in 2020 that included visiting the South Pole\, scuba diving\, a submarine\, a tragedy and the unique role the continent plays in our climate and why we all should pay close attention to it.   \nFree\, registration requested at cornwalllibrary.org
URL:https://cornwallct.org/event/destination-antarctica-library/
LOCATION:The Cornwall Library\, 30 Pine St\, Cornwall\, CT\, 06753\, United States
ORGANIZER;CN="The Cornwall Library":MAILTO:director@cornwalllibrary.org
END:VEVENT
BEGIN:VEVENT
DTSTART;TZID=America/New_York:20230225T173000
DTEND;TZID=America/New_York:20230225T200000
DTSTAMP:20260424T165426
CREATED:20230117T202215Z
LAST-MODIFIED:20230127T184510Z
UID:21269-1677346200-1677355200@cornwallct.org
SUMMARY:Family Movie Night - Town Hall
DESCRIPTION:Saturday\, February 25\, 5:30-8 p.m. (Snow date: March 4)\nLocation Cornwall Town Hall\nPizza\, Popcorn\, Concessions\, Drinks available for purchase.\nWear your jammies\, bring a pillow and a blanket.\nMovie: TBD
URL:https://cornwallct.org/event/family-movie-night-town-hall-february/
LOCATION:Cornwall Town Hall\, 24-26 Pine Street\, Cornwall\, CT\, 06753\, United States
ORGANIZER;CN="Cornwall Park & Rec":MAILTO:prcornwall@gmail.com
END:VEVENT
END:VCALENDAR