BEGIN:VCALENDAR
VERSION:2.0
PRODID:-//Cornwall CT - ECPv6.15.20//NONSGML v1.0//EN
CALSCALE:GREGORIAN
METHOD:PUBLISH
X-WR-CALNAME:Cornwall CT
X-ORIGINAL-URL:https://cornwallct.org
X-WR-CALDESC:Events for Cornwall CT
REFRESH-INTERVAL;VALUE=DURATION:PT1H
X-Robots-Tag:noindex
X-PUBLISHED-TTL:PT1H
BEGIN:VTIMEZONE
TZID:America/New_York
BEGIN:DAYLIGHT
TZOFFSETFROM:-0500
TZOFFSETTO:-0400
TZNAME:EDT
DTSTART:20220313T070000
END:DAYLIGHT
BEGIN:STANDARD
TZOFFSETFROM:-0400
TZOFFSETTO:-0500
TZNAME:EST
DTSTART:20221106T060000
END:STANDARD
BEGIN:DAYLIGHT
TZOFFSETFROM:-0500
TZOFFSETTO:-0400
TZNAME:EDT
DTSTART:20230312T070000
END:DAYLIGHT
BEGIN:STANDARD
TZOFFSETFROM:-0400
TZOFFSETTO:-0500
TZNAME:EST
DTSTART:20231105T060000
END:STANDARD
BEGIN:DAYLIGHT
TZOFFSETFROM:-0500
TZOFFSETTO:-0400
TZNAME:EDT
DTSTART:20240310T070000
END:DAYLIGHT
BEGIN:STANDARD
TZOFFSETFROM:-0400
TZOFFSETTO:-0500
TZNAME:EST
DTSTART:20241103T060000
END:STANDARD
END:VTIMEZONE
BEGIN:VEVENT
DTSTART;TZID=America/New_York:20230205T110000
DTEND;TZID=America/New_York:20230205T110000
DTSTAMP:20260422T023359
CREATED:20230206T214230Z
LAST-MODIFIED:20230206T214230Z
UID:21431-1675594800-1675594800@cornwallct.org
SUMMARY:Qi Gong Tai Chi Easy - Upstairs Wellness at The Union
DESCRIPTION:Irene Mardal will be offering Qigong a perfect combination of meditation and movement to calm your senses\, realign your energy\, and bring bliss into your day. \nAll ages welcome. Sundays at 11am. $15/per class.
URL:https://cornwallct.org/event/qi-gong-tai-chi-easy-upstairs-wellness-at-the-union/2023-02-05/
LOCATION:The Union\, 415 Sharon-Goshen Turnpike\, West Cornwall\, CT\, 06796
ATTACH;FMTTYPE=image/jpeg:https://cornwallct.org/wp-content/uploads/2023/02/Qi-Gong-Irene-Mardal-2023-at-Union-scaled.jpg
END:VEVENT
BEGIN:VEVENT
DTSTART;TZID=America/New_York:20230205T140000
DTEND;TZID=America/New_York:20230205T140000
DTSTAMP:20260422T023359
CREATED:20221205T205434Z
LAST-MODIFIED:20221205T205633Z
UID:20872-1675605600-1675605600@cornwallct.org
SUMMARY:"The Prisoner of Zenda (1952)" Movie - Library
DESCRIPTION:Showing of “The Prisoner of Zenda (1952)” at Cornwall Library. This Joy Boyum and John Miller Memorial Movie Matinee is sponsored by the Cornwall Association. Free to attend…and free treats and beverages.
URL:https://cornwallct.org/event/the-prisoner-of-zenda-1952-movie-library/
LOCATION:The Cornwall Library\, 30 Pine St\, Cornwall\, CT\, 06753\, United States
END:VEVENT
END:VCALENDAR