BEGIN:VCALENDAR
VERSION:2.0
PRODID:-//Cornwall CT - ECPv6.15.20//NONSGML v1.0//EN
CALSCALE:GREGORIAN
METHOD:PUBLISH
X-ORIGINAL-URL:https://cornwallct.org
X-WR-CALDESC:Events for Cornwall CT
REFRESH-INTERVAL;VALUE=DURATION:PT1H
X-Robots-Tag:noindex
X-PUBLISHED-TTL:PT1H
BEGIN:VTIMEZONE
TZID:America/New_York
BEGIN:DAYLIGHT
TZOFFSETFROM:-0500
TZOFFSETTO:-0400
TZNAME:EDT
DTSTART:20210314T070000
END:DAYLIGHT
BEGIN:STANDARD
TZOFFSETFROM:-0400
TZOFFSETTO:-0500
TZNAME:EST
DTSTART:20211107T060000
END:STANDARD
BEGIN:DAYLIGHT
TZOFFSETFROM:-0500
TZOFFSETTO:-0400
TZNAME:EDT
DTSTART:20220313T070000
END:DAYLIGHT
BEGIN:STANDARD
TZOFFSETFROM:-0400
TZOFFSETTO:-0500
TZNAME:EST
DTSTART:20221106T060000
END:STANDARD
BEGIN:DAYLIGHT
TZOFFSETFROM:-0500
TZOFFSETTO:-0400
TZNAME:EDT
DTSTART:20230312T070000
END:DAYLIGHT
BEGIN:STANDARD
TZOFFSETFROM:-0400
TZOFFSETTO:-0500
TZNAME:EST
DTSTART:20231105T060000
END:STANDARD
END:VTIMEZONE
BEGIN:VEVENT
DTSTART;VALUE=DATE:20220630
DTEND;VALUE=DATE:20220701
DTSTAMP:20260423T022119
CREATED:20220518T212949Z
LAST-MODIFIED:20220518T212949Z
UID:18614-1656547200-1656633599@cornwallct.org
SUMMARY:Dog Licensing Deadline
DESCRIPTION:Dog Licensing in 2022: The State of Connecticut requires all dogs six months of age or older be licensed annually on or before June 30 in the town clerk’s office in the town where the dog is owned or kept. Licenses will be available on June 1. A current rabies vaccination certificate must be submitted or be on file. Neutered or spayed dogs cost $8\, and male or female dogs $19. For a neutered or spayed dog being licensed for the first time\, a certificate from a licensed veterinarian must be presented. Penalties apply for late registration.  \nThere will be three options for obtaining your dog’s license: You may register in person\, by mail (enclose a SASE for return of tag and license) OR online license renewal\, but only for dogs that were licensed last year. The Cornwall website cornwallct.org will show the link on June 1. New dogs and others that failed to renew their licenses last year will need to use the mail option or register in person. A Rabies Vaccination Clinic & Dog License Day will be held at Housatonic Valley Regional High School on Saturday\, June 11\, 2022 from 10 A.M. to 12 P.M. Vaccines will be $20 CASH ONLY. All cats & dogs must be crated or leashed. 
URL:https://cornwallct.org/event/dog-licensing-deadline/
END:VEVENT
BEGIN:VEVENT
DTSTART;VALUE=DATE:20220630
DTEND;VALUE=DATE:20220701
DTSTAMP:20260423T022119
CREATED:20230516T154801Z
LAST-MODIFIED:20230516T154943Z
UID:22536-1656547200-1656633599@cornwallct.org
SUMMARY:Dog Licensing Deadline
DESCRIPTION:Dog Licensing in 2023: The State of Connecticut requires that all dogs six months of age or older be licensed annually on or before June 30 in the town clerk’s office in the town where the dog is owned or kept. Licenses will be available on June 1st. A current rabies vaccination certificate must be submitted or be on file. Neutered or spayed dogs cost $8.00 and male or female dogs cost $19.00. For a neutered or spayed dog being licensed for the first time\, a certificate from a licensed veterinarian must be presented. Penalties apply for late registration. There will be three options for obtaining your dog’s license: You may register in person\, by mail (enclose a SASE for return of tag and license) OR by using the online license renewal system. The online option is only for dogs that were licensed last year. The Cornwall website cornwallct.org will show the link on June 1st. New dogs and others that failed to renew their licenses last year will need to use the mail option or register in person.
URL:https://cornwallct.org/event/dog-licensing-deadline-c2023/
END:VEVENT
BEGIN:VEVENT
DTSTART;TZID=America/New_York:20220630T090000
DTEND;TZID=America/New_York:20220630T110000
DTSTAMP:20260423T022119
CREATED:20220425T131457Z
LAST-MODIFIED:20220622T001620Z
UID:18334-1656579600-1656586800@cornwallct.org
SUMMARY:Bringing Exceptional Treatment To You (B.E.T.T.Y) Mobile Medical Unit
DESCRIPTION:Bringing Exceptional Treatment To You (B.E.T.T.Y) mobile medical unit will be at the Union on Thursdays from 9 a.m. to 11 beginning June 30th.
URL:https://cornwallct.org/event/bringing-exceptional-treatment-to-you-b-e-t-t-y-mobile-medical-unit/2022-06-30/
LOCATION:The Union\, 415 Sharon-Goshen Turnpike\, West Cornwall\, CT\, 06796
ATTACH;FMTTYPE=image/png:https://cornwallct.org/wp-content/uploads/2022/04/Screen-Shot-2022-06-21-at-4.47.05-PM.png
END:VEVENT
END:VCALENDAR