BEGIN:VCALENDAR
VERSION:2.0
PRODID:-//Cornwall CT - ECPv6.15.20//NONSGML v1.0//EN
CALSCALE:GREGORIAN
METHOD:PUBLISH
X-WR-CALNAME:Cornwall CT
X-ORIGINAL-URL:https://cornwallct.org
X-WR-CALDESC:Events for Cornwall CT
REFRESH-INTERVAL;VALUE=DURATION:PT1H
X-Robots-Tag:noindex
X-PUBLISHED-TTL:PT1H
BEGIN:VTIMEZONE
TZID:America/New_York
BEGIN:DAYLIGHT
TZOFFSETFROM:-0500
TZOFFSETTO:-0400
TZNAME:EDT
DTSTART:20210314T070000
END:DAYLIGHT
BEGIN:STANDARD
TZOFFSETFROM:-0400
TZOFFSETTO:-0500
TZNAME:EST
DTSTART:20211107T060000
END:STANDARD
BEGIN:DAYLIGHT
TZOFFSETFROM:-0500
TZOFFSETTO:-0400
TZNAME:EDT
DTSTART:20220313T070000
END:DAYLIGHT
BEGIN:STANDARD
TZOFFSETFROM:-0400
TZOFFSETTO:-0500
TZNAME:EST
DTSTART:20221106T060000
END:STANDARD
BEGIN:DAYLIGHT
TZOFFSETFROM:-0500
TZOFFSETTO:-0400
TZNAME:EDT
DTSTART:20230312T070000
END:DAYLIGHT
BEGIN:STANDARD
TZOFFSETFROM:-0400
TZOFFSETTO:-0500
TZNAME:EST
DTSTART:20231105T060000
END:STANDARD
END:VTIMEZONE
BEGIN:VEVENT
DTSTART;TZID=America/New_York:20220617T180000
DTEND;TZID=America/New_York:20220617T180000
DTSTAMP:20260423T032157
CREATED:20220325T185936Z
LAST-MODIFIED:20220523T121852Z
UID:18119-1655488800-1655488800@cornwallct.org
SUMMARY:Books & Blooms Talk & Cocktail Reception
DESCRIPTION:“Bringing Meadows into the Garden”\nA presentation by Page Dickey followed by a Cocktail Reception \nPage Dickey is a garden writer\, lecturer\, and designer. She has written on gardening and garden design for House & Garden\, House Beautiful\, Horticulture\, Elle Décor\, Architectural Digest\, and The New York Times\, and is the author of eight books. Her latest\, Uprooted: A Gardener Reflects on Beginning Again\, tells of her recent move to the Northwest Corner and subsequent gardening adventures in Falls Village\, where she lives with her husband\, Bosco Schell.  Page is a director emeritus of the Garden Conservancy and co-founded its Open Days Program. Recently elected as an honorary member of The Garden Club of America\, she serves on the boards of Stonecrop Gardens\, Hollister House Garden\, and the Little Guild.  Visit her website and follow her on Instagram. \nPage’s talk will be held at the UCC Meetinghouse\, 8 Bolton Hill Road in Cornwall Village. The cocktail reception that follows will be held just around the corner at the Cornwall Library. \nTickets are $30 for the Talk & Cocktail Reception\, $30 for the Garden Tours or $50 for both. \nProof of vaccination required for the talk. Masks optional.
URL:https://cornwallct.org/event/books-blooms-talk-cocktail-reception/
LOCATION:United Church of Christ (UCC)\, 8 Bolton Hill Road\, Cornwall\, CT\, 06753
ATTACH;FMTTYPE=image/jpeg:https://cornwallct.org/wp-content/uploads/2022/03/Friday-Facebook-event.jpg
ORGANIZER;CN="The Cornwall Library":MAILTO:director@cornwalllibrary.org
END:VEVENT
END:VCALENDAR