BEGIN:VCALENDAR
VERSION:2.0
PRODID:-//Cornwall CT - ECPv6.15.20//NONSGML v1.0//EN
CALSCALE:GREGORIAN
METHOD:PUBLISH
X-WR-CALNAME:Cornwall CT
X-ORIGINAL-URL:https://cornwallct.org
X-WR-CALDESC:Events for Cornwall CT
REFRESH-INTERVAL;VALUE=DURATION:PT1H
X-Robots-Tag:noindex
X-PUBLISHED-TTL:PT1H
BEGIN:VTIMEZONE
TZID:America/New_York
BEGIN:DAYLIGHT
TZOFFSETFROM:-0500
TZOFFSETTO:-0400
TZNAME:EDT
DTSTART:20210314T070000
END:DAYLIGHT
BEGIN:STANDARD
TZOFFSETFROM:-0400
TZOFFSETTO:-0500
TZNAME:EST
DTSTART:20211107T060000
END:STANDARD
BEGIN:DAYLIGHT
TZOFFSETFROM:-0500
TZOFFSETTO:-0400
TZNAME:EDT
DTSTART:20220313T070000
END:DAYLIGHT
BEGIN:STANDARD
TZOFFSETFROM:-0400
TZOFFSETTO:-0500
TZNAME:EST
DTSTART:20221106T060000
END:STANDARD
BEGIN:DAYLIGHT
TZOFFSETFROM:-0500
TZOFFSETTO:-0400
TZNAME:EDT
DTSTART:20230312T070000
END:DAYLIGHT
BEGIN:STANDARD
TZOFFSETFROM:-0400
TZOFFSETTO:-0500
TZNAME:EST
DTSTART:20231105T060000
END:STANDARD
END:VTIMEZONE
BEGIN:VEVENT
DTSTART;TZID=America/New_York:20220602T110000
DTEND;TZID=America/New_York:20220602T140000
DTSTAMP:20260423T034413
CREATED:20220325T184445Z
LAST-MODIFIED:20220404T125442Z
UID:18110-1654167600-1654178400@cornwallct.org
SUMMARY:Cornwall Garden Club Gardener's Adventure\, Earth Tones Nursery and Glebe House\, Woodbury\, CT
DESCRIPTION:Nursery talk/shop at Earth Tones followed by Gertrude Jekyll garden tour and bag lunch at Glebe House. Earth Tones\, no fee; Glebe House\, Limit 18\, fee $10. Rain date\, June 9. RSVP by May 27 https://cornwallgardenclub.org/RSVP
URL:https://cornwallct.org/event/cornwall-garden-club-gardeners-adventure-earth-tones-nursery-and-glebe-house-woodbury-ct/
ATTACH;FMTTYPE=image/jpeg:https://cornwallct.org/wp-content/uploads/2021/04/Cornwall-Garden-Club.jpg
ORGANIZER;CN="Cornwall Garden Club":MAILTO:cornwallgardenclub1@gmail.com
END:VEVENT
END:VCALENDAR