BEGIN:VCALENDAR
VERSION:2.0
PRODID:-//Cornwall CT - ECPv6.15.20//NONSGML v1.0//EN
CALSCALE:GREGORIAN
METHOD:PUBLISH
X-WR-CALNAME:Cornwall CT
X-ORIGINAL-URL:https://cornwallct.org
X-WR-CALDESC:Events for Cornwall CT
REFRESH-INTERVAL;VALUE=DURATION:PT1H
X-Robots-Tag:noindex
X-PUBLISHED-TTL:PT1H
BEGIN:VTIMEZONE
TZID:America/New_York
BEGIN:DAYLIGHT
TZOFFSETFROM:-0500
TZOFFSETTO:-0400
TZNAME:EDT
DTSTART:20210314T070000
END:DAYLIGHT
BEGIN:STANDARD
TZOFFSETFROM:-0400
TZOFFSETTO:-0500
TZNAME:EST
DTSTART:20211107T060000
END:STANDARD
BEGIN:DAYLIGHT
TZOFFSETFROM:-0500
TZOFFSETTO:-0400
TZNAME:EDT
DTSTART:20220313T070000
END:DAYLIGHT
BEGIN:STANDARD
TZOFFSETFROM:-0400
TZOFFSETTO:-0500
TZNAME:EST
DTSTART:20221106T060000
END:STANDARD
BEGIN:DAYLIGHT
TZOFFSETFROM:-0500
TZOFFSETTO:-0400
TZNAME:EDT
DTSTART:20230312T070000
END:DAYLIGHT
BEGIN:STANDARD
TZOFFSETFROM:-0400
TZOFFSETTO:-0500
TZNAME:EST
DTSTART:20231105T060000
END:STANDARD
END:VTIMEZONE
BEGIN:VEVENT
DTSTART;TZID=America/New_York:20220522T130000
DTEND;TZID=America/New_York:20220522T130000
DTSTAMP:20260423T051441
CREATED:20220415T153218Z
LAST-MODIFIED:20220415T153218Z
UID:18220-1653224400-1653224400@cornwallct.org
SUMMARY:Opening of the CCT Nature Trail at Welles Preserve
DESCRIPTION:The Cornwall Conservation Trust is proud to announce the opening of a new Nature Trail at Welles Preserve (near 50 Town Street) on May 22 at 1 PM. This project is co-sponsored by the Cornwall Conservation Commission. At this event\, we will celebrate the trail and review tree identification (and some shrubs). New tree labels will have added QR Codes that link to identifying characteristics and ecological significance. Our guides will be Bruce and Deb Bennett who are offering their decades of horticultural experience. Raindate May 29 at 1 PM. Check the Cornwall Conservation Trust website for updates. Please be prepared for ticks. No dogs\, please. 
URL:https://cornwallct.org/event/opening-of-the-cct-nature-trail-at-welles-preserve/
LOCATION:Welles Preserve\, 49 Town Street\, West Cornwall\, CT\, 06796\, United States
END:VEVENT
BEGIN:VEVENT
DTSTART;TZID=America/New_York:20220522T160000
DTEND;TZID=America/New_York:20220522T160000
DTSTAMP:20260423T051441
CREATED:20220413T190558Z
LAST-MODIFIED:20220413T190558Z
UID:18200-1653235200-1653235200@cornwallct.org
SUMMARY:Democratic Town Committee Meeting - Library
DESCRIPTION:The Democratic Town Committee will meet Sunday\, May 22 at 4:00 pm at the Library to nominate a candidate for Registrar of Voters.
URL:https://cornwallct.org/event/democratic-town-committee-meeting-library/
LOCATION:The Cornwall Library\, 30 Pine St\, Cornwall\, CT\, 06753\, United States
END:VEVENT
END:VCALENDAR