BEGIN:VCALENDAR
VERSION:2.0
PRODID:-//Cornwall CT - ECPv6.15.20//NONSGML v1.0//EN
CALSCALE:GREGORIAN
METHOD:PUBLISH
X-WR-CALNAME:Cornwall CT
X-ORIGINAL-URL:https://cornwallct.org
X-WR-CALDESC:Events for Cornwall CT
REFRESH-INTERVAL;VALUE=DURATION:PT1H
X-Robots-Tag:noindex
X-PUBLISHED-TTL:PT1H
BEGIN:VTIMEZONE
TZID:America/New_York
BEGIN:DAYLIGHT
TZOFFSETFROM:-0500
TZOFFSETTO:-0400
TZNAME:EDT
DTSTART:20210314T070000
END:DAYLIGHT
BEGIN:STANDARD
TZOFFSETFROM:-0400
TZOFFSETTO:-0500
TZNAME:EST
DTSTART:20211107T060000
END:STANDARD
BEGIN:DAYLIGHT
TZOFFSETFROM:-0500
TZOFFSETTO:-0400
TZNAME:EDT
DTSTART:20220313T070000
END:DAYLIGHT
BEGIN:STANDARD
TZOFFSETFROM:-0400
TZOFFSETTO:-0500
TZNAME:EST
DTSTART:20221106T060000
END:STANDARD
BEGIN:DAYLIGHT
TZOFFSETFROM:-0500
TZOFFSETTO:-0400
TZNAME:EDT
DTSTART:20230312T070000
END:DAYLIGHT
BEGIN:STANDARD
TZOFFSETFROM:-0400
TZOFFSETTO:-0500
TZNAME:EST
DTSTART:20231105T060000
END:STANDARD
END:VTIMEZONE
BEGIN:VEVENT
DTSTART;TZID=America/New_York:20220519T130000
DTEND;TZID=America/New_York:20220519T180000
DTSTAMP:20260423T051551
CREATED:20220513T194300Z
LAST-MODIFIED:20220513T194300Z
UID:18532-1652965200-1652983200@cornwallct.org
SUMMARY:Cornwall Town Hall Free Vaccination Clinic
DESCRIPTION:May 19\, 2022\n1:00 pm-6:00 pm\nAges 12+ and up.\nPfizer\, Moderna and J&J\nFirst\, Second\, and Boosters Available\nA vaccination clinic will be at 24 Pine Street\, Cornwall providing FREE COVID-19 vaccinations\nOpen to all area town residents\, walk-ins welcome\, no appointment required.\nPlease bring a health insurance card and photo ID if you have them\, but it is not necessary to have health insurance or ID to receive the vaccine. No one will be turned away for lack of insurance or ID
URL:https://cornwallct.org/event/cornwall-town-hall-free-vaccination-clinic/
LOCATION:Cornwall Town Hall\, 24-26 Pine Street\, Cornwall\, CT\, 06753\, United States
ATTACH;FMTTYPE=image/jpeg:https://cornwallct.org/wp-content/uploads/2022/05/May-Covid-Vaccine-Clinic-2022.jpg
END:VEVENT
BEGIN:VEVENT
DTSTART;TZID=America/New_York:20220519T190000
DTEND;TZID=America/New_York:20220519T190000
DTSTAMP:20260423T051551
CREATED:20220502T200254Z
LAST-MODIFIED:20220502T200254Z
UID:18430-1652986800-1652986800@cornwallct.org
SUMMARY:CPR Training
DESCRIPTION:The next community CPR training will be held on May 19 at 7pm at the West Cornwall Fire House. The cost of the training is $65.  Payment is expected the day of the training and pre registration is required.  If you wish to attend or have questions please email Jayne Ridgway at 142jayner@gmail.com
URL:https://cornwallct.org/event/cpr-training/
LOCATION:West Cornwall Fire House\, 289 Sharon-Goshen Turnpike\, West Cornwall\, CT\, 06796\, United States
ATTACH;FMTTYPE=image/jpeg:https://cornwallct.org/wp-content/uploads/2022/05/cpr.jpg
END:VEVENT
END:VCALENDAR